Workbook

Sheet Bełszewo Kolonia
A1: MIEJSCOWOŚĆ | B1: ADRES (NR. POSESJI) | C1: NR. DZIAŁKI EWIDENCYJNEJ | D1: NR. OBRĘBU EWIDENCYJNEGO | E1: RODZAJ ZABUDOWY | F1: NAZWA/RODZAJ WYROBU | G1: ILOŚĆ POSIADANYCH WYROBÓW BĘDĄCYCH W UŻYCIU (W SZT.) | H1: WAGA POSIADANYCH WYROBÓW BĘDĄCYCH W UŻYCIU (W KG.) | I1: POWIERZCHNIA POSIADANYCH WYROBÓW BĘDĄCYCH W UŻYCIU (W M2) | J1: STOPIEŃ PILNOŚCI (I-III) | K1: ILOŚĆ POSIADANYCH WYROBÓW ZŁOŻONYCH NA POSESJI (W SZT.) | L1: WAGA POSIADANYCH WYROBÓW ZŁOŻONYCH NA POSESJI (W KG.) | M1: POWIERZCHNIA POSIADANYCH WYROBÓW ZŁOŻONYCH NA POSESJI (W M2) | N1: ILOŚĆ POSIADANYCH WYROBÓW BĘDĄCYCH W UŻYCIU I ZŁOŻONYCH NA POSESJI W SUMIE (W SZT.) | O1: WAGA POSIADANYCH WYROBÓW BĘDĄCYCH W UŻYCIU I ZŁOŻONYCH NA POSESJI W SUMIE (W KG.) | P1: POWIERZCHNIA POSIADANYCH WYROBÓW BĘDĄCYCH W UŻYCIU I ZŁOŻONYCH NA POSESJI W SUMIE (W M2)
A2: Bełszewo-Kolonia | B2: 16 | C2: 9/1 | D2: 0001 | E2: BUDYNEK MIESZKALNY | F2: W02 | G2: 180 | H2: =(G2)*16 -> 2880 | I2: =(G2)*1.4 -> 252 | J2: II | L2: =(K2)*16 -> 0 | M2: =(K2)*1.4 -> 0 | N2: =SUM(G2,K2) -> 180 | O2: =(N2)*16 -> 2880 | P2: =(N2)*1.4 -> 252
E3: BUDYNEK GOSPODARCZY | F3: W02 | G3: 220 | H3: =(G3)*16 -> 3520 | I3: =(G3)*1.4 -> 308 | J3: II | L3: =(K3)*16 -> 0 | M3: =(K3)*1.4 -> 0 | N3: =SUM(G3,K3) -> 220 | O3: =(N3)*16 -> 3520 | P3: =(N3)*1.4 -> 308
B4: 16A | C4: 9/1 | E4: BUDYNEK GOSPODARCZY | F4: W02 | G4: 225 | H4: =(G4)*16 -> 3600 | I4: =(G4)*1.4 -> 315 | J4: II | L4: =(K4)*16 -> 0 | M4: =(K4)*1.4 -> 0 | N4: =SUM(G4,K4) -> 225 | O4: =(N4)*16 -> 3600 | P4: =(N4)*1.4 -> 315
B5: 14 | C5: 15/1 | E5: BUDYNEK GOSPODARCZY | F5: W02 | G5: 250 | H5: =(G5)*16 -> 4000 | I5: =(G5)*1.4 -> 350 | J5: II | L5: =(K5)*16 -> 0 | M5: =(K5)*1.4 -> 0 | N5: =SUM(G5,K5) -> 250 | O5: =(N5)*16 -> 4000 | P5: =(N5)*1.4 -> 350
E6: BUDYNEK GOSPODARCZY | F6: W02 | G6: 180 | H6: =(G6)*16 -> 2880 | I6: =(G6)*1.4 -> 252 | J6: II | L6: =(K6)*16 -> 0 | M6: =(K6)*1.4 -> 0 | N6: =SUM(G6,K6) -> 180 | O6: =(N6)*16 -> 2880 | P6: =(N6)*1.4 -> 252
B7: 22 | C7: 69/2 | E7: BUDYNEK GOSPODARCZY | F7: W02 | G7: 160 | H7: =(G7)*16 -> 2560 | I7: =(G7)*1.4 -> 224 | J7: II | L7: =(K7)*16 -> 0 | M7: =(K7)*1.4 -> 0 | N7: =SUM(G7,K7) -> 160 | O7: =(N7)*16 -> 2560 | P7: =(N7)*1.4 -> 224
E8: BUDYNEK GOSPODARCZY | F8: W02 | G8: 180 | H8: =(G8)*16 -> 2880 | I8: =(G8)*1.4 -> 252 | J8: II | L8: =(K8)*16 -> 0 | M8: =(K8)*1.4 -> 0 | N8: =SUM(G8,K8) -> 180 | O8: =(N8)*16 -> 2880 | P8: =(N8)*1.4 -> 252
B9: PRZYSTANEK AUTOBUSOWY | C9: 0 | E9: BUDYNEK GOSPODARCZY | F9: W02 | G9: 24 | H9: =(G9)*16 -> 384 | I9: =(G9)*1.4 -> 33.6 | J9: II | L9: =(K9)*16 -> 0 | M9: =(K9)*1.4 -> 0 | N9: =SUM(G9,K9) -> 24 | O9: =(N9)*16 -> 384 | P9: =(N9)*1.4 -> 33.6
B10: 7 | C10: 20 | E10: BUDYNEK GOSPODARCZY | F10: W02 | G10: 275 | H10: =(G10)*16 -> 4400 | I10: =(G10)*1.4 -> 385 | J10: II | L10: =(K10)*16 -> 0 | M10: =(K10)*1.4 -> 0 | N10: =SUM(G10,K10) -> 275 | O10: =(N10)*16 -> 4400 | P10: =(N10)*1.4 -> 385
B11: 6 | C11: 22/1 | E11: BUDYNEK MIESZKALNY | F11: W02 | G11: 140 | H11: =(G11)*16 -> 2240 | I11: =(G11)*1.4 -> 196 | J11: II | L11: =(K11)*16 -> 0 | M11: =(K11)*1.4 -> 0 | N11: =SUM(G11,K11) -> 140 | O11: =(N11)*16 -> 2240 | P11: =(N11)*1.4 -> 196
E12: BUDYNEK GOSPODARCZY | F12: W02 | G12: 20 | H12: =(G12)*16 -> 320 | I12: =(G12)*1.4 -> 28 | J12: II | L12: =(K12)*16 -> 0 | M12: =(K12)*1.4 -> 0 | N12: =SUM(G12,K12) -> 20 | O12: =(N12)*16 -> 320 | P12: =(N12)*1.4 -> 28
E13: BUDYNEK GOSPODARCZY | F13: W02 | G13: 324 | H13: =(G13)*16 -> 5184 | I13: =(G13)*1.4 -> 453.6 | J13: II | L13: =(K13)*16 -> 0 | M13: =(K13)*1.4 -> 0 | N13: =SUM(G13,K13) -> 324 | O13: =(N13)*16 -> 5184 | P13: =(N13)*1.4 -> 453.6
E14: BUDYNEK GOSPODARCZY | F14: W02 | G14: 200 | H14: =(G14)*16 -> 3200 | I14: =(G14)*1.4 -> 280 | J14: II | L14: =(K14)*16 -> 0 | M14: =(K14)*1.4 -> 0 | N14: =SUM(G14,K14) -> 200 | O14: =(N14)*16 -> 3200 | P14: =(N14)*1.4 -> 280
E15: BUDYNEK GOSPODARCZY | F15: W02 | G15: 200 | H15: =(G15)*16 -> 3200 | I15: =(G15)*1.4 -> 280 | J15: II | L15: =(K15)*16 -> 0 | M15: =(K15)*1.4 -> 0 | N15: =SUM(G15,K15) -> 200 | O15: =(N15)*16 -> 3200 | P15: =(N15)*1.4 -> 280
B16: 4 | C16: 326/1 | E16: BUDYNEK GOSPODARCZY | F16: W02 | G16: 230 | H16: =(G16)*16 -> 3680 | I16: =(G16)*1.4 -> 322 | J16: II | L16: =(K16)*16 -> 0 | M16: =(K16)*1.4 -> 0 | N16: =SUM(G16,K16) -> 230 | O16: =(N16)*16 -> 3680 | P16: =(N16)*1.4 -> 322
B17: 4A | C17: 326/1 | E17: BUDYNEK GOSPODARCZY | F17: W02 | G17: 198 | H17: =(G17)*16 -> 3168 | I17: =(G17)*1.4 -> 277.2 | J17: II | L17: =(K17)*16 -> 0 | M17: =(K17)*1.4 -> 0 | N17: =SUM(G17,K17) -> 198 | O17: =(N17)*16 -> 3168 | P17: =(N17)*1.4 -> 277.2
A19: SUMA | G19: =SUM(G2:G18) -> 3006 | H19: =SUM(H2:H18) -> 48096 | I19: =SUM(I2:I18) -> 4208.4 | K19: =SUM(K2:K18) -> 0 | L19: =SUM(L2:L18) -> 0 | M19: =SUM(M2:M18) -> 0 | N19: =SUM(N2:N18) -> 3006 | O19: =SUM(O2:O18) -> 48096 | P19: =SUM(P2:P18) -> 4208.4

Sheet Bełszewo
A1: MIEJSCOWOŚĆ | B1: ADRES (NR. POSESJI) | C1: NR. DZIAŁKI EWIDENCYJNEJ | D1: NR. OBRĘBU EWIDENCYJNEGO | E1: RODZAJ ZABUDOWY | F1: NAZWA/RODZAJ WYROBU | G1: ILOŚĆ POSIADANYCH WYROBÓW BĘDĄCYCH W UŻYCIU (W SZT.) | H1: WAGA POSIADANYCH WYROBÓW BĘDĄCYCH W UŻYCIU (W KG.) | I1: POWIERZCHNIA POSIADANYCH WYROBÓW BĘDĄCYCH W UŻYCIU (W M2) | J1: STOPIEŃ PILNOŚCI (I-III) | K1: ILOŚĆ POSIADANYCH WYROBÓW ZŁOŻONYCH NA POSESJI (W SZT.) | L1: WAGA POSIADANYCH WYROBÓW ZŁOŻONYCH NA POSESJI (W KG.) | M1: POWIERZCHNIA POSIADANYCH WYROBÓW ZŁOŻONYCH NA POSESJI (W M2) | N1: ILOŚĆ POSIADANYCH WYROBÓW BĘDĄCYCH W UŻYCIU I ZŁOŻONYCH NA POSESJI W SUMIE (W SZT.) | O1: WAGA POSIADANYCH WYROBÓW BĘDĄCYCH W UŻYCIU I ZŁOŻONYCH NA POSESJI W SUMIE (W KG.) | P1: POWIERZCHNIA POSIADANYCH WYROBÓW BĘDĄCYCH W UŻYCIU I ZŁOŻONYCH NA POSESJI W SUMIE (W M2)
A2: Bełszewo | B2: 36 | C2: 333/1 | D2: 0001 | E2: BUDYNEK MIESZKALNY | F2: W02 | G2: 112 | H2: =(G2)*16 -> 1792 | I2: =(G2)*1.4 -> 156.8 | J2: II | L2: =(K2)*16 -> 0 | M2: =(K2)*1.4 -> 0 | N2: =SUM(G2,K2) -> 112 | O2: =(N2)*16 -> 1792 | P2: =(N2)*1.4 -> 156.8
B3: 35 | C3: 170/1 | E3: BUDYNEK MIESZKALNY | F3: W02 | G3: 168 | H3: =(G3)*16 -> 2688 | I3: =(G3)*1.4 -> 235.2 | J3: II | L3: =(K3)*16 -> 0 | M3: =(K3)*1.4 -> 0 | N3: =SUM(G3,K3) -> 168 | O3: =(N3)*16 -> 2688 | P3: =(N3)*1.4 -> 235.2
E4: BUDYNEK GOSPODARCZY | F4: W02 | G4: 200 | H4: =(G4)*16 -> 3200 | I4: =(G4)*1.4 -> 280 | J4: II | L4: =(K4)*16 -> 0 | M4: =(K4)*1.4 -> 0 | N4: =SUM(G4,K4) -> 200 | O4: =(N4)*16 -> 3200 | P4: =(N4)*1.4 -> 280
B5: 34 | C5: 171/1 | E5: BUDYNEK GOSPODARCZY | F5: W02 | G5: 272 | H5: =(G5)*16 -> 4352 | I5: =(G5)*1.4 -> 380.8 | J5: II | L5: =(K5)*16 -> 0 | M5: =(K5)*1.4 -> 0 | N5: =SUM(G5,K5) -> 272 | O5: =(N5)*16 -> 4352 | P5: =(N5)*1.4 -> 380.8
B6: 18 | C6: 106/2 | E6: BUDYNEK MIESZKALNY | F6: W01 | G6: 160 | H6: =(G6)*16 -> 2560 | I6: =(G6)*1.4 -> 224 | J6: II | L6: =(K6)*16 -> 0 | M6: =(K6)*1.4 -> 0 | N6: =SUM(G6,K6) -> 160 | O6: =(N6)*16 -> 2560 | P6: =(N6)*1.4 -> 224
E7: BUDYNEK GOSPODARCZY | F7: W01 | G7: 176 | H7: =(G7)*16 -> 2816 | I7: =(G7)*1.4 -> 246.4 | J7: II | L7: =(K7)*16 -> 0 | M7: =(K7)*1.4 -> 0 | N7: =SUM(G7,K7) -> 176 | O7: =(N7)*16 -> 2816 | P7: =(N7)*1.4 -> 246.4
B8: 37 | C8: 338/1 | E8: BUDYNEK GOSPODARCZY | F8: W02 | G8: 720 | H8: =(G8)*16 -> 11520 | I8: =(G8)*1.4 -> 1008 | J8: II | L8: =(K8)*16 -> 0 | M8: =(K8)*1.4 -> 0 | N8: =SUM(G8,K8) -> 720 | O8: =(N8)*16 -> 11520 | P8: =(N8)*1.4 -> 1008
B9: 33 | C9: 154/1 | E9: BUDYNEK MIESZKALNY | F9: W02 | G9: 140 | H9: =(G9)*16 -> 2240 | I9: =(G9)*1.4 -> 196 | J9: I | L9: =(K9)*16 -> 0 | M9: =(K9)*1.4 -> 0 | N9: =SUM(G9,K9) -> 140 | O9: =(N9)*16 -> 2240 | P9: =(N9)*1.4 -> 196
B10: 30 | C10: 176/1 | E10: BUDYNEK GOSPODARCZY | F10: W02 | G10: 240 | H10: =(G10)*16 -> 3840 | I10: =(G10)*1.4 -> 336 | J10: II | L10: =(K10)*16 -> 0 | M10: =(K10)*1.4 -> 0 | N10: =SUM(G10,K10) -> 240 | O10: =(N10)*16 -> 3840 | P10: =(N10)*1.4 -> 336
B11: 26 | C11: 251 | E11: BUDYNEK MIESZKALNY | F11: W02 | G11: 168 | H11: =(G11)*16 -> 2688 | I11: =(G11)*1.4 -> 235.2 | J11: II | L11: =(K11)*16 -> 0 | M11: =(K11)*1.4 -> 0 | N11: =SUM(G11,K11) -> 168 | O11: =(N11)*16 -> 2688 | P11: =(N11)*1.4 -> 235.2
E12: BUDYNEK GOSPODARCZY | F12: W02 | G12: 120 | H12: =(G12)*16 -> 1920 | I12: =(G12)*1.4 -> 168 | J12: II | L12: =(K12)*16 -> 0 | M12: =(K12)*1.4 -> 0 | N12: =SUM(G12,K12) -> 120 | O12: =(N12)*16 -> 1920 | P12: =(N12)*1.4 -> 168
E13: BUDYNEK GOSPODARCZY | F13: W02 | G13: 288 | H13: =(G13)*16 -> 4608 | I13: =(G13)*1.4 -> 403.2 | J13: II | L13: =(K13)*16 -> 0 | M13: =(K13)*1.4 -> 0 | N13: =SUM(G13,K13) -> 288 | O13: =(N13)*16 -> 4608 | P13: =(N13)*1.4 -> 403.2
E14: BUDYNEK GOSPODARCZY | F14: W02 | G14: 32 | H14: =(G14)*16 -> 512 | I14: =(G14)*1.4 -> 44.8 | J14: II | L14: =(K14)*16 -> 0 | M14: =(K14)*1.4 -> 0 | N14: =SUM(G14,K14) -> 32 | O14: =(N14)*16 -> 512 | P14: =(N14)*1.4 -> 44.8
B15: 29 | C15: 179/1 | E15: BUDYNEK GOSPODARCZY | F15: W02 | G15: 264 | H15: =(G15)*16 -> 4224 | I15: =(G15)*1.4 -> 369.6 | J15: II | L15: =(K15)*16 -> 0 | M15: =(K15)*1.4 -> 0 | N15: =SUM(G15,K15) -> 264 | O15: =(N15)*16 -> 4224 | P15: =(N15)*1.4 -> 369.6
B16: 38 | C16: 166/1 | E16: BUDYNEK MIESZKALNY | F16: W02 | G16: 144 | H16: =(G16)*16 -> 2304 | I16: =(G16)*1.4 -> 201.6 | J16: II | L16: =(K16)*16 -> 0 | M16: =(K16)*1.4 -> 0 | N16: =SUM(G16,K16) -> 144 | O16: =(N16)*16 -> 2304 | P16: =(N16)*1.4 -> 201.6
E17: BUDYNEK GOSPODARCZY | F17: W02 | G17: 20 | H17: =(G17)*16 -> 320 | I17: =(G17)*1.4 -> 28 | J17: II | L17: =(K17)*16 -> 0 | M17: =(K17)*1.4 -> 0 | N17: =SUM(G17,K17) -> 20 | O17: =(N17)*16 -> 320 | P17: =(N17)*1.4 -> 28
E18: BUDYNEK GOSPODARCZY | F18: W01 | G18: 180 | H18: =(G18)*16 -> 2880 | I18: =(G18)*1.4 -> 252 | J18: II | L18: =(K18)*16 -> 0 | M18: =(K18)*1.4 -> 0 | N18: =SUM(G18,K18) -> 180 | O18: =(N18)*16 -> 2880 | P18: =(N18)*1.4 -> 252
B19: 19 | C19: 107 | E19: BUDYNEK GOSPODARCZY | F19: W02 | G19: 140 | H19: =(G19)*16 -> 2240 | I19: =(G19)*1.4 -> 196 | J19: II | L19: =(K19)*16 -> 0 | M19: =(K19)*1.4 -> 0 | N19: =SUM(G19,K19) -> 140 | O19: =(N19)*16 -> 2240 | P19: =(N19)*1.4 -> 196
E20: BUDYNEK GOSPODARCZY | F20: W02 | G20: 40 | H20: =(G20)*16 -> 640 | I20: =(G20)*1.4 -> 56 | J20: II | L20: =(K20)*16 -> 0 | M20: =(K20)*1.4 -> 0 | N20: =SUM(G20,K20) -> 40 | O20: =(N20)*16 -> 640 | P20: =(N20)*1.4 -> 56
B21: 16 | C21: 105 | E21: BUDYNEK GOSPODARCZY | F21: W02 | G21: 152 | H21: =(G21)*16 -> 2432 | I21: =(G21)*1.4 -> 212.8 | J21: II | L21: =(K21)*16 -> 0 | M21: =(K21)*1.4 -> 0 | N21: =SUM(G21,K21) -> 152 | O21: =(N21)*16 -> 2432 | P21: =(N21)*1.4 -> 212.8
E22: BUDYNEK GOSPODARCZY | F22: W02 | G22: 12 | H22: =(G22)*16 -> 192 | I22: =(G22)*1.4 -> 16.8 | J22: II | L22: =(K22)*16 -> 0 | M22: =(K22)*1.4 -> 0 | N22: =SUM(G22,K22) -> 12 | O22: =(N22)*16 -> 192 | P22: =(N22)*1.4 -> 16.8
B23: 14 | C23: 0 | E23: BUDYNEK GOSPODARCZY | F23: W02 | G23: 48 | H23: =(G23)*16 -> 768 | I23: =(G23)*1.4 -> 67.2 | J23: II | L23: =(K23)*16 -> 0 | M23: =(K23)*1.4 -> 0 | N23: =SUM(G23,K23) -> 48 | O23: =(N23)*16 -> 768 | P23: =(N23)*1.4 -> 67.2
B24: 6A | C24: 101/1 | E24: BUDYNEK GOSPODARCZY | F24: W02 | G24: 130 | H24: =(G24)*16 -> 2080 | I24: =(G24)*1.4 -> 182 | J24: II | L24: =(K24)*16 -> 0 | M24: =(K24)*1.4 -> 0 | N24: =SUM(G24,K24) -> 130 | O24: =(N24)*16 -> 2080 | P24: =(N24)*1.4 -> 182
B25: 5 | C25: 99 | E25: BUDYNEK GOSPODARCZY | F25: W02 | G25: 129 | H25: =(G25)*16 -> 2064 | I25: =(G25)*1.4 -> 180.6 | J25: II | L25: =(K25)*16 -> 0 | M25: =(K25)*1.4 -> 0 | N25: =SUM(G25,K25) -> 129 | O25: =(N25)*16 -> 2064 | P25: =(N25)*1.4 -> 180.6
E26: BUDYNEK GOSPODARCZY | F26: W02 | G26: 84 | H26: =(G26)*16 -> 1344 | I26: =(G26)*1.4 -> 117.6 | J26: II | L26: =(K26)*16 -> 0 | M26: =(K26)*1.4 -> 0 | N26: =SUM(G26,K26) -> 84 | O26: =(N26)*16 -> 1344 | P26: =(N26)*1.4 -> 117.6
B27: 4 | C27: 98/1 | E27: BUDYNEK GOSPODARCZY | F27: W02 | G27: 20 | H27: =(G27)*16 -> 320 | I27: =(G27)*1.4 -> 28 | N27: =SUM(G27,K27) -> 20 | O27: =(N27)*16 -> 320 | P27: =(N27)*1.4 -> 28
B28: 4 | C28: 98/1 | E28: BUDYNEK GOSPODARCZY | F28: W02 | G28: 103 | H28: =(G28)*16 -> 1648 | I28: =(G28)*1.4 -> 144.2 | N28: =SUM(G28,K28) -> 103 | O28: =(N28)*16 -> 1648 | P28: =(N28)*1.4 -> 144.2
B29: 4 | C29: 98/1 | E29: BUDYNEK GOSPODARCZY | F29: W02 | G29: 102 | H29: =(G29)*16 -> 1632 | I29: =(G29)*1.4 -> 142.8 | J29: II | L29: =(K29)*16 -> 0 | M29: =(K29)*1.4 -> 0 | N29: =SUM(G29,K29) -> 102 | O29: =(N29)*16 -> 1632 | P29: =(N29)*1.4 -> 142.8
E30: BUDYNEK GOSPODARCZY | F30: W02 | G30: 240 | H30: =(G30)*16 -> 3840 | I30: =(G30)*1.4 -> 336 | J30: II | L30: =(K30)*16 -> 0 | M30: =(K30)*1.4 -> 0 | N30: =SUM(G30,K30) -> 240 | O30: =(N30)*16 -> 3840 | P30: =(N30)*1.4 -> 336
B31: 39 | C31: 46 | E31: BUDYNEK GOSPODARCZY | F31: W02 | G31: 260 | H31: =(G31)*16 -> 4160 | I31: =(G31)*1.4 -> 364 | J31: II | L31: =(K31)*16 -> 0 | M31: =(K31)*1.4 -> 0 | N31: =SUM(G31,K31) -> 260 | O31: =(N31)*16 -> 4160 | P31: =(N31)*1.4 -> 364
E32: BUDYNEK GOSPODARCZY | F32: W02 | G32: 1120 | H32: =(G32)*16 -> 17920 | I32: =(G32)*1.4 -> 1568 | J32: II | L32: =(K32)*16 -> 0 | M32: =(K32)*1.4 -> 0 | N32: =SUM(G32,K32) -> 1120 | O32: =(N32)*16 -> 17920 | P32: =(N32)*1.4 -> 1568
B33: 40 | C33: 44/2 | E33: BUDYNEK MIESZKALNY | F33: W01 | G33: 120 | H33: =(G33)*16 -> 1920 | I33: =(G33)*1.4 -> 168 | J33: II | L33: =(K33)*16 -> 0 | M33: =(K33)*1.4 -> 0 | N33: =SUM(G33,K33) -> 120 | O33: =(N33)*16 -> 1920 | P33: =(N33)*1.4 -> 168
E34: BUDYNEK GOSPODARCZY | F34: W01 | G34: 360 | H34: =(G34)*16 -> 5760 | I34: =(G34)*1.4 -> 504 | J34: II | L34: =(K34)*16 -> 0 | M34: =(K34)*1.4 -> 0 | N34: =SUM(G34,K34) -> 360 | O34: =(N34)*16 -> 5760 | P34: =(N34)*1.4 -> 504
E35: BUDYNEK GOSPODARCZY | F35: W01 | G35: 128 | H35: =(G35)*16 -> 2048 | I35: =(G35)*1.4 -> 179.2 | J35: II | L35: =(K35)*16 -> 0 | M35: =(K35)*1.4 -> 0 | N35: =SUM(G35,K35) -> 128 | O35: =(N35)*16 -> 2048 | P35: =(N35)*1.4 -> 179.2
B36: 41 | C36: 43 | E36: BUDYNEK MIESZKALNY | F36: W02 | G36: 216 | H36: =(G36)*16 -> 3456 | I36: =(G36)*1.4 -> 302.4 | J36: II | L36: =(K36)*16 -> 0 | M36: =(K36)*1.4 -> 0 | N36: =SUM(G36,K36) -> 216 | O36: =(N36)*16 -> 3456 | P36: =(N36)*1.4 -> 302.4
E37: BUDYNEK GOSPODARCZY | F37: W02 | G37: 220 | H37: =(G37)*16 -> 3520 | I37: =(G37)*1.4 -> 308 | J37: II | L37: =(K37)*16 -> 0 | M37: =(K37)*1.4 -> 0 | N37: =SUM(G37,K37) -> 220 | O37: =(N37)*16 -> 3520 | P37: =(N37)*1.4 -> 308
B38: 42 | C38: 41 | E38: BUDYNEK GOSPODARCZY | F38: W02 | G38: 25 | H38: =(G38)*16 -> 400 | I38: =(G38)*1.4 -> 35 | J38: I | L38: =(K38)*16 -> 0 | M38: =(K38)*1.4 -> 0 | N38: =SUM(G38,K38) -> 25 | O38: =(N38)*16 -> 400 | P38: =(N38)*1.4 -> 35
E39: BUDYNEK GOSPODARCZY | F39: W02 | G39: 40 | H39: =(G39)*16 -> 640 | I39: =(G39)*1.4 -> 56 | J39: I | L39: =(K39)*16 -> 0 | M39: =(K39)*1.4 -> 0 | N39: =SUM(G39,K39) -> 40 | O39: =(N39)*16 -> 640 | P39: =(N39)*1.4 -> 56
E40: BUDYNEK GOSPODARCZY | F40: W02 | G40: 0 | H40: 0 | I40: 0 | J40: II | K40: 72 | L40: =(K40)*16 -> 1152 | M40: =(K40)*1.4 -> 100.8 | N40: =SUM(G40,K40) -> 72 | O40: =(N40)*16 -> 1152 | P40: =(N40)*1.4 -> 100.8
B41: 43 | C41: 40 | E41: BUDYNEK MIESZKALNY | F41: W02 | G41: 70 | H41: =(G41)*16 -> 1120 | I41: =(G41)*1.4 -> 98 | J41: II | L41: =(K41)*16 -> 0 | M41: =(K41)*1.4 -> 0 | N41: =SUM(G41,K41) -> 70 | O41: =(N41)*16 -> 1120 | P41: =(N41)*1.4 -> 98
E42: BUDYNEK GOSPODARCZY | F42: W02 | G42: 50 | H42: =(G42)*16 -> 800 | I42: =(G42)*1.4 -> 70 | J42: II | L42: =(K42)*16 -> 0 | M42: =(K42)*1.4 -> 0 | N42: =SUM(G42,K42) -> 50 | O42: =(N42)*16 -> 800 | P42: =(N42)*1.4 -> 70
E43: BUDYNEK GOSPODARCZY | F43: W02 | G43: 30 | H43: =(G43)*16 -> 480 | I43: =(G43)*1.4 -> 42 | J43: II | L43: =(K43)*16 -> 0 | M43: =(K43)*1.4 -> 0 | N43: =SUM(G43,K43) -> 30 | O43: =(N43)*16 -> 480 | P43: =(N43)*1.4 -> 42
E44: BUDYNEK GOSPODARCZY | F44: W02 | G44: 50 | H44: =(G44)*16 -> 800 | I44: =(G44)*1.4 -> 70 | J44: II | L44: =(K44)*16 -> 0 | M44: =(K44)*1.4 -> 0 | N44: =SUM(G44,K44) -> 50 | O44: =(N44)*16 -> 800 | P44: =(N44)*1.4 -> 70
E45: BUDYNEK GOSPODARCZY | F45: W02 | G45: 30 | H45: =(G45)*16 -> 480 | I45: =(G45)*1.4 -> 42 | J45: II | L45: =(K45)*16 -> 0 | M45: =(K45)*1.4 -> 0 | N45: =SUM(G45,K45) -> 30 | O45: =(N45)*16 -> 480 | P45: =(N45)*1.4 -> 42
B46: 45 | C46: 37 | E46: BUDYNEK MIESZKALNY | F46: W02 | G46: 84 | H46: =(G46)*16 -> 1344 | I46: =(G46)*1.4 -> 117.6 | J46: II | L46: =(K46)*16 -> 0 | M46: =(K46)*1.4 -> 0 | N46: =SUM(G46,K46) -> 84 | O46: =(N46)*16 -> 1344 | P46: =(N46)*1.4 -> 117.6
E47: BUDYNEK MIESZKALNO - GOSPODARCZY | F47: W02 | G47: 144 | H47: =(G47)*16 -> 2304 | I47: =(G47)*1.4 -> 201.6 | J47: II | L47: =(K47)*16 -> 0 | M47: =(K47)*1.4 -> 0 | N47: =SUM(G47,K47) -> 144 | O47: =(N47)*16 -> 2304 | P47: =(N47)*1.4 -> 201.6
B48: 46 | C48: 59/3 | E48: BUDYNEK MIESZKALNY | F48: W02 | G48: 96 | H48: =(G48)*16 -> 1536 | I48: =(G48)*1.4 -> 134.4 | J48: II | L48: =(K48)*16 -> 0 | M48: =(K48)*1.4 -> 0 | N48: =SUM(G48,K48) -> 96 | O48: =(N48)*16 -> 1536 | P48: =(N48)*1.4 -> 134.4
E49: BUDYNEK GOSPODARCZY | F49: W02 | G49: 25 | H49: =(G49)*16 -> 400 | I49: =(G49)*1.4 -> 35 | J49: II | L49: =(K49)*16 -> 0 | M49: =(K49)*1.4 -> 0 | N49: =SUM(G49,K49) -> 25 | O49: =(N49)*16 -> 400 | P49: =(N49)*1.4 -> 35
E50: BUDYNEK GOSPODARCZY | F50: W02 | G50: 40 | H50: =(G50)*16 -> 640 | I50: =(G50)*1.4 -> 56 | J50: II | L50: =(K50)*16 -> 0 | M50: =(K50)*1.4 -> 0 | N50: =SUM(G50,K50) -> 40 | O50: =(N50)*16 -> 640 | P50: =(N50)*1.4 -> 56
B51: 47 | C51: 32/1 | E51: BUDYNEK GOSPODARCZY | F51: W02 | G51: 60 | H51: =(G51)*16 -> 960 | I51: =(G51)*1.4 -> 84 | J51: II | L51: =(K51)*16 -> 0 | M51: =(K51)*1.4 -> 0 | N51: =SUM(G51,K51) -> 60 | O51: =(N51)*16 -> 960 | P51: =(N51)*1.4 -> 84
B52: 49 | C52: 26/1 | E52: BUDYNEK MIESZKALNY | F52: W02 | G52: 160 | H52: =(G52)*16 -> 2560 | I52: =(G52)*1.4 -> 224 | J52: II | L52: =(K52)*16 -> 0 | M52: =(K52)*1.4 -> 0 | N52: =SUM(G52,K52) -> 160 | O52: =(N52)*16 -> 2560 | P52: =(N52)*1.4 -> 224
E53: BUDYNEK GOSPODARCZY | F53: W02 | G53: 96 | H53: =(G53)*16 -> 1536 | I53: =(G53)*1.4 -> 134.4 | J53: II | L53: =(K53)*16 -> 0 | M53: =(K53)*1.4 -> 0 | N53: =SUM(G53,K53) -> 96 | O53: =(N53)*16 -> 1536 | P53: =(N53)*1.4 -> 134.4
E54: BUDYNEK GOSPODARCZY | F54: W02 | G54: 40 | H54: =(G54)*16 -> 640 | I54: =(G54)*1.4 -> 56 | J54: II | L54: =(K54)*16 -> 0 | M54: =(K54)*1.4 -> 0 | N54: =SUM(G54,K54) -> 40 | O54: =(N54)*16 -> 640 | P54: =(N54)*1.4 -> 56
E55: BUDYNEK GOSPODARCZY | F55: W02 | G55: 160 | H55: =(G55)*16 -> 2560 | I55: =(G55)*1.4 -> 224 | J55: II | L55: =(K55)*16 -> 0 | M55: =(K55)*1.4 -> 0 | N55: =SUM(G55,K55) -> 160 | O55: =(N55)*16 -> 2560 | P55: =(N55)*1.4 -> 224
B56: 9 | C56: 0 | E56: BUDYNEK MIESZKALNY | F56: W02 | G56: 240 | H56: =(G56)*16 -> 3840 | I56: =(G56)*1.4 -> 336 | J56: II | L56: =(K56)*16 -> 0 | M56: =(K56)*1.4 -> 0 | N56: =SUM(G56,K56) -> 240 | O56: =(N56)*16 -> 3840 | P56: =(N56)*1.4 -> 336
E57: BUDYNEK GOSPODARCZY | F57: W02 | G57: 308 | H57: =(G57)*16 -> 4928 | I57: =(G57)*1.4 -> 431.2 | J57: II | L57: =(K57)*16 -> 0 | M57: =(K57)*1.4 -> 0 | N57: =SUM(G57,K57) -> 308 | O57: =(N57)*16 -> 4928 | P57: =(N57)*1.4 -> 431.2
B58: 21 | C58: 65 | E58: BUDYNEK MIESZKALNY | F58: W02 | G58: 100 | H58: =(G58)*16 -> 1600 | I58: =(G58)*1.4 -> 140 | J58: II | L58: =(K58)*16 -> 0 | M58: =(K58)*1.4 -> 0 | N58: =SUM(G58,K58) -> 100 | O58: =(N58)*16 -> 1600 | P58: =(N58)*1.4 -> 140
E59: BUDYNEK GOSPODARCZY | F59: W02 | G59: 180 | H59: =(G59)*16 -> 2880 | I59: =(G59)*1.4 -> 252 | J59: II | L59: =(K59)*16 -> 0 | M59: =(K59)*1.4 -> 0 | N59: =SUM(G59,K59) -> 180 | O59: =(N59)*16 -> 2880 | P59: =(N59)*1.4 -> 252
B60: 24 | C60: 190/1 | E60: BUDYNEK MIESZKALNY | F60: W02 | G60: 106 | H60: =(G60)*16 -> 1696 | I60: =(G60)*1.4 -> 148.4 | J60: II | L60: =(K60)*16 -> 0 | M60: =(K60)*1.4 -> 0 | N60: =SUM(G60,K60) -> 106 | O60: =(N60)*16 -> 1696 | P60: =(N60)*1.4 -> 148.4
B61: 10 | C61: 0 | E61: BUDYNEK MIESZKALNY | F61: W02 | G61: 72 | H61: =(G61)*16 -> 1152 | I61: =(G61)*1.4 -> 100.8 | J61: II | L61: =(K61)*16 -> 0 | M61: =(K61)*1.4 -> 0 | N61: =SUM(G61,K61) -> 72 | O61: =(N61)*16 -> 1152 | P61: =(N61)*1.4 -> 100.8
B62: 26 | C62: 251 | E62: BUDYNEK GOSPODARCZY | F62: W02 | G62: 216 | H62: =(G62)*16 -> 3456 | I62: =(G62)*1.4 -> 302.4 | J62: II | L62: =(K62)*16 -> 0 | M62: =(K62)*1.4 -> 0 | N62: =SUM(G62,K62) -> 216 | O62: =(N62)*16 -> 3456 | P62: =(N62)*1.4 -> 302.4
B63: 25 | C63: 189/6 | E63: BUDYNEK MIESZKALNY | F63: W02 | G63: 80 | H63: =(G63)*16 -> 1280 | I63: =(G63)*1.4 -> 112 | J63: II | L63: =(K63)*16 -> 0 | M63: =(K63)*1.4 -> 0 | N63: =SUM(G63,K63) -> 80 | O63: =(N63)*16 -> 1280 | P63: =(N63)*1.4 -> 112
B64: 24 | C64: 190/1 | E64: BUDYNEK MIESZKALNY | F64: W02 | G64: 168 | H64: =(G64)*16 -> 2688 | I64: =(G64)*1.4 -> 235.2 | J64: II | L64: =(K64)*16 -> 0 | M64: =(K64)*1.4 -> 0 | N64: =SUM(G64,K64) -> 168 | O64: =(N64)*16 -> 2688 | P64: =(N64)*1.4 -> 235.2
E65: BUDYNEK GOSPODARCZY | F65: W02 | G65: 192 | H65: =(G65)*16 -> 3072 | I65: =(G65)*1.4 -> 268.8 | J65: II | L65: =(K65)*16 -> 0 | M65: =(K65)*1.4 -> 0 | N65: =SUM(G65,K65) -> 192 | O65: =(N65)*16 -> 3072 | P65: =(N65)*1.4 -> 268.8
B66: 23 | C66: 66/2 | E66: BUDYNEK MIESZKALNY | F66: W02 | G66: 216 | H66: =(G66)*16 -> 3456 | I66: =(G66)*1.4 -> 302.4 | J66: II | L66: =(K66)*16 -> 0 | M66: =(K66)*1.4 -> 0 | N66: =SUM(G66,K66) -> 216 | O66: =(N66)*16 -> 3456 | P66: =(N66)*1.4 -> 302.4
B67: 13 | C67: 81/2 | E67: BUDYNEK MIESZKALNO-GOSPODARCZY | F67: W02 | G67: 115 | H67: =(G67)*16 -> 1840 | I67: =(G67)*1.4 -> 161 | N67: =SUM(G67,K67) -> 115 | O67: =(N67)*16 -> 1840 | P67: =(N67)*1.4 -> 161
A68: SUMA | G68: =SUM(G2:G67) -> 10221 | H68: =SUM(H2:H67) -> 163536 | I68: =SUM(I2:I67) -> 14309.4 | K68: =SUM(K2:K67) -> 72 | L68: =SUM(L2:L67) -> 1152 | M68: =SUM(M2:M67) -> 100.8 | N68: =SUM(N2:N67) -> 10293 | O68: =SUM(O2:O67) -> 164688 | P68: =SUM(P2:P67) -> 14410.2

Sheet Bartłomiejowice
A1: MIEJSCOWOŚĆ | B1: ADRES (NR. POSESJI) | C1: NR. DZIAŁKI EWIDENCYJNEJ | D1: NR. OBRĘBU EWIDENCYJNEGO | E1: RODZAJ ZABUDOWY | F1: NAZWA/RODZAJ WYROBU | G1: ILOŚĆ POSIADANYCH WYROBÓW BĘDĄCYCH W UŻYCIU (W SZT.) | H1: WAGA POSIADANYCH WYROBÓW BĘDĄCYCH W UŻYCIU (W KG.) | I1: POWIERZCHNIA POSIADANYCH WYROBÓW BĘDĄCYCH W UŻYCIU (W M2) | J1: STOPIEŃ PILNOŚCI (I-III) | K1: ILOŚĆ POSIADANYCH WYROBÓW ZŁOŻONYCH NA POSESJI (W SZT.) | L1: WAGA POSIADANYCH WYROBÓW ZŁOŻONYCH NA POSESJI (W KG.) | M1: POWIERZCHNIA POSIADANYCH WYROBÓW ZŁOŻONYCH NA POSESJI (W M2) | N1: ILOŚĆ POSIADANYCH WYROBÓW BĘDĄCYCH W UŻYCIU I ZŁOŻONYCH NA POSESJI W SUMIE (W SZT.) | O1: WAGA POSIADANYCH WYROBÓW BĘDĄCYCH W UŻYCIU I ZŁOŻONYCH NA POSESJI W SUMIE (W KG.) | P1: POWIERZCHNIA POSIADANYCH WYROBÓW BĘDĄCYCH W UŻYCIU I ZŁOŻONYCH NA POSESJI W SUMIE (W M2)
A2: Bartłomiejowice | B2: 12 | C2: 92/1 | D2: 0001 | E2: BUDYNEK MIESZKALNY | F2: W02 | G2: 144 | H2: =(G2)*16 -> 2304 | I2: =(G2)*1.4 -> 201.6 | J2: II | L2: =(K2)*16 -> 0 | M2: =(K2)*1.4 -> 0 | N2: =SUM(G2,K2) -> 144 | O2: =(N2)*16 -> 2304 | P2: =(N2)*1.4 -> 201.6
E3: BUDYNEK GOSPODARCZY | F3: W02 | G3: 12 | H3: =(G3)*16 -> 192 | I3: =(G3)*1.4 -> 16.8 | J3: II | L3: =(K3)*16 -> 0 | M3: =(K3)*1.4 -> 0 | N3: =SUM(G3,K3) -> 12 | O3: =(N3)*16 -> 192 | P3: =(N3)*1.4 -> 16.8
B4: 6 | C4: 109/2 | E4: BUDYNEK MIESZKALNY | F4: W02 | G4: 120 | H4: =(G4)*16 -> 1920 | I4: =(G4)*1.4 -> 168 | J4: II | L4: =(K4)*16 -> 0 | M4: =(K4)*1.4 -> 0 | N4: =SUM(G4,K4) -> 120 | O4: =(N4)*16 -> 1920 | P4: =(N4)*1.4 -> 168
E5: BUDYNEK GOSPODARCZY | F5: W02 | G5: 312 | H5: =(G5)*16 -> 4992 | I5: =(G5)*1.4 -> 436.8 | J5: II | L5: =(K5)*16 -> 0 | M5: =(K5)*1.4 -> 0 | N5: =SUM(G5,K5) -> 312 | O5: =(N5)*16 -> 4992 | P5: =(N5)*1.4 -> 436.8
E6: BUDYNEK GOSPODARCZY | F6: W02 | G6: 192 | H6: =(G6)*16 -> 3072 | I6: =(G6)*1.4 -> 268.8 | J6: II | L6: =(K6)*16 -> 0 | M6: =(K6)*1.4 -> 0 | N6: =SUM(G6,K6) -> 192 | O6: =(N6)*16 -> 3072 | P6: =(N6)*1.4 -> 268.8
E7: BUDYNEK GOSPODARCZY | F7: W02 | G7: 364 | H7: =(G7)*16 -> 5824 | I7: =(G7)*1.4 -> 509.6 | J7: II | L7: =(K7)*16 -> 0 | M7: =(K7)*1.4 -> 0 | N7: =SUM(G7,K7) -> 364 | O7: =(N7)*16 -> 5824 | P7: =(N7)*1.4 -> 509.6
B8: 8 | C8: 90/1 | E8: BUDYNEK GOSPODARCZY | F8: W02 | G8: 296 | H8: =(G8)*16 -> 4736 | I8: =(G8)*1.4 -> 414.4 | J8: II | L8: =(K8)*16 -> 0 | M8: =(K8)*1.4 -> 0 | N8: =SUM(G8,K8) -> 296 | O8: =(N8)*16 -> 4736 | P8: =(N8)*1.4 -> 414.4
B9: 28 | C9: 28 | E9: BUDYNEK GOSPODARCZY | F9: W02 | G9: 2 | H9: =(G9)*16 -> 32 | I9: =(G9)*1.4 -> 2.8 | J9: II | L9: =(K9)*16 -> 0 | M9: =(K9)*1.4 -> 0 | N9: =SUM(G9,K9) -> 2 | O9: =(N9)*16 -> 32 | P9: =(N9)*1.4 -> 2.8
B10: 25 | C10: 22/1 | E10: BUDYNEK MIESZKALNY | F10: W02 | G10: 160 | H10: =(G10)*16 -> 2560 | I10: =(G10)*1.4 -> 224 | J10: II | L10: =(K10)*16 -> 0 | M10: =(K10)*1.4 -> 0 | N10: =SUM(G10,K10) -> 160 | O10: =(N10)*16 -> 2560 | P10: =(N10)*1.4 -> 224
E11: BUDYNEK GOSPODARCZY | F11: W02 | G11: 288 | H11: =(G11)*16 -> 4608 | I11: =(G11)*1.4 -> 403.2 | J11: II | L11: =(K11)*16 -> 0 | M11: =(K11)*1.4 -> 0 | N11: =SUM(G11,K11) -> 288 | O11: =(N11)*16 -> 4608 | P11: =(N11)*1.4 -> 403.2
B12: 24 | C12: 21/1 | E12: BUDYNEK MIESZKALNY | F12: W02 | G12: 192 | H12: =(G12)*16 -> 3072 | I12: =(G12)*1.4 -> 268.8 | J12: II | L12: =(K12)*16 -> 0 | M12: =(K12)*1.4 -> 0 | N12: =SUM(G12,K12) -> 192 | O12: =(N12)*16 -> 3072 | P12: =(N12)*1.4 -> 268.8
B13: 3 | C13: 101/2 | E13: BUDYNEK MIESZKALNY | F13: W02 | G13: 110 | H13: =(G13)*16 -> 1760 | I13: =(G13)*1.4 -> 154 | J13: II | L13: =(K13)*16 -> 0 | M13: =(K13)*1.4 -> 0 | N13: =SUM(G13,K13) -> 110 | O13: =(N13)*16 -> 1760 | P13: =(N13)*1.4 -> 154
B14: 4 | C14: 102/2 | E14: BUDYNEK MIESZKALNY | F14: W02 | G14: 130 | H14: =(G14)*16 -> 2080 | I14: =(G14)*1.4 -> 182 | J14: II | L14: =(K14)*16 -> 0 | M14: =(K14)*1.4 -> 0 | N14: =SUM(G14,K14) -> 130 | O14: =(N14)*16 -> 2080 | P14: =(N14)*1.4 -> 182
E15: BUDYNEK GOSPODARCZY | F15: w01 | G15: 160 | H15: =(G15)*16 -> 2560 | I15: =(G15)*1.4 -> 224 | J15: II | L15: =(K15)*16 -> 0 | M15: =(K15)*1.4 -> 0 | N15: =SUM(G15,K15) -> 160 | O15: =(N15)*16 -> 2560 | P15: =(N15)*1.4 -> 224
B16: 9 | C16: 105/1 | E16: BUDYNEK MIESZKALNY | F16: w01 | G16: 144 | H16: =(G16)*16 -> 2304 | I16: =(G16)*1.4 -> 201.6 | J16: II | L16: =(K16)*16 -> 0 | M16: =(K16)*1.4 -> 0 | N16: =SUM(G16,K16) -> 144 | O16: =(N16)*16 -> 2304 | P16: =(N16)*1.4 -> 201.6
E17: BUDYNEK GOSPODARCZY | F17: w01 | G17: 160 | H17: =(G17)*16 -> 2560 | I17: =(G17)*1.4 -> 224 | J17: II | L17: =(K17)*16 -> 0 | M17: =(K17)*1.4 -> 0 | N17: =SUM(G17,K17) -> 160 | O17: =(N17)*16 -> 2560 | P17: =(N17)*1.4 -> 224
E18: BUDYNEK GOSPODARCZY | F18: W02 | G18: 90 | H18: =(G18)*16 -> 1440 | I18: =(G18)*1.4 -> 126 | J18: II | L18: =(K18)*16 -> 0 | M18: =(K18)*1.4 -> 0 | N18: =SUM(G18,K18) -> 90 | O18: =(N18)*16 -> 1440 | P18: =(N18)*1.4 -> 126
B19: 30 | C19: 86/2 | E19: BUDYNEK MIESZKALNY | F19: W02 | G19: 192 | H19: =(G19)*16 -> 3072 | I19: =(G19)*1.4 -> 268.8 | J19: II | L19: =(K19)*16 -> 0 | M19: =(K19)*1.4 -> 0 | N19: =SUM(G19,K19) -> 192 | O19: =(N19)*16 -> 3072 | P19: =(N19)*1.4 -> 268.8
E20: BUDYNEK GOSPODARCZY | F20: W02 | G20: 140 | H20: =(G20)*16 -> 2240 | I20: =(G20)*1.4 -> 196 | J20: II | L20: =(K20)*16 -> 0 | M20: =(K20)*1.4 -> 0 | N20: =SUM(G20,K20) -> 140 | O20: =(N20)*16 -> 2240 | P20: =(N20)*1.4 -> 196
E21: BUDYNEK GOSPODARCZY | F21: W02 | G21: 50 | H21: =(G21)*16 -> 800 | I21: =(G21)*1.4 -> 70 | J21: II | L21: =(K21)*16 -> 0 | M21: =(K21)*1.4 -> 0 | N21: =SUM(G21,K21) -> 50 | O21: =(N21)*16 -> 800 | P21: =(N21)*1.4 -> 70
B22: 29 | C22: 29 | E22: BUDYNEK MIESZKALNY | F22: W02 | G22: 186 | H22: =(G22)*16 -> 2976 | I22: =(G22)*1.4 -> 260.4 | J22: II | L22: =(K22)*16 -> 0 | M22: =(K22)*1.4 -> 0 | N22: =SUM(G22,K22) -> 186 | O22: =(N22)*16 -> 2976 | P22: =(N22)*1.4 -> 260.4
E23: BUDYNEK GOSPODARCZY | F23: W02 | G23: 308 | H23: =(G23)*16 -> 4928 | I23: =(G23)*1.4 -> 431.2 | J23: II | L23: =(K23)*16 -> 0 | M23: =(K23)*1.4 -> 0 | N23: =SUM(G23,K23) -> 308 | O23: =(N23)*16 -> 4928 | P23: =(N23)*1.4 -> 431.2
E24: BUDYNEK GOSPODARCZY | F24: W02 | G24: 60 | H24: =(G24)*16 -> 960 | I24: =(G24)*1.4 -> 84 | J24: II | L24: =(K24)*16 -> 0 | M24: =(K24)*1.4 -> 0 | N24: =SUM(G24,K24) -> 60 | O24: =(N24)*16 -> 960 | P24: =(N24)*1.4 -> 84
E25: BUDYNEK GOSPODARCZY | F25: W02 | G25: 27 | H25: =(G25)*16 -> 432 | I25: =(G25)*1.4 -> 37.8 | J25: II | L25: =(K25)*16 -> 0 | M25: =(K25)*1.4 -> 0 | N25: =SUM(G25,K25) -> 27 | O25: =(N25)*16 -> 432 | P25: =(N25)*1.4 -> 37.8
B26: 11 | C26: 65/1 | E26: BUDYNEK MIESZKALNY | F26: W02 | G26: 180 | H26: =(G26)*16 -> 2880 | I26: =(G26)*1.4 -> 252 | J26: II | L26: =(K26)*16 -> 0 | M26: =(K26)*1.4 -> 0 | N26: =SUM(G26,K26) -> 180 | O26: =(N26)*16 -> 2880 | P26: =(N26)*1.4 -> 252
B27: 13 | C27: 63/1 | E27: BUDYNEK MIESZKALNY | F27: W02 | G27: 140 | H27: =(G27)*16 -> 2240 | I27: =(G27)*1.4 -> 196 | J27: III | L27: =(K27)*16 -> 0 | M27: =(K27)*1.4 -> 0 | N27: =SUM(G27,K27) -> 140 | O27: =(N27)*16 -> 2240 | P27: =(N27)*1.4 -> 196
E28: BUDYNEK GOSPODARCZY | F28: W02 | G28: 288 | H28: =(G28)*16 -> 4608 | I28: =(G28)*1.4 -> 403.2 | J28: II | L28: =(K28)*16 -> 0 | M28: =(K28)*1.4 -> 0 | N28: =SUM(G28,K28) -> 288 | O28: =(N28)*16 -> 4608 | P28: =(N28)*1.4 -> 403.2
B29: 5 | C29: 103/1 | E29: BUDYNEK MIESZKALNY | F29: W01 | G29: 140 | H29: =(G29)*16 -> 2240 | I29: =(G29)*1.4 -> 196 | J29: II | L29: =(K29)*16 -> 0 | M29: =(K29)*1.4 -> 0 | N29: =SUM(G29,K29) -> 140 | O29: =(N29)*16 -> 2240 | P29: =(N29)*1.4 -> 196
E30: BUDYNEK GOSPODARCZY | F30: W02 | G30: 216 | H30: =(G30)*16 -> 3456 | I30: =(G30)*1.4 -> 302.4 | J30: II | L30: =(K30)*16 -> 0 | M30: =(K30)*1.4 -> 0 | N30: =SUM(G30,K30) -> 216 | O30: =(N30)*16 -> 3456 | P30: =(N30)*1.4 -> 302.4
E31: BUDYNEK GOSPODARCZY | F31: W01 | G31: 96 | H31: =(G31)*16 -> 1536 | I31: =(G31)*1.4 -> 134.4 | J31: II | L31: =(K31)*16 -> 0 | M31: =(K31)*1.4 -> 0 | N31: =SUM(G31,K31) -> 96 | O31: =(N31)*16 -> 1536 | P31: =(N31)*1.4 -> 134.4
B32: 1 | C32: 108/2 | E32: BUDYNEK GOSPODARCZY | F32: W01 | G32: 96 | H32: =(G32)*16 -> 1536 | I32: =(G32)*1.4 -> 134.4 | J32: II | L32: =(K32)*16 -> 0 | M32: =(K32)*1.4 -> 0 | N32: =SUM(G32,K32) -> 96 | O32: =(N32)*16 -> 1536 | P32: =(N32)*1.4 -> 134.4
B33: 31 | C33: 85 | E33: BUDYNEK MIESZKALNY | F33: W01 | G33: 0 | H33: 0 | I33: 0 | J33: II | K33: 179 | L33: 2864 | M33: 250.6 | N33: =SUM(G33,K33) -> 179 | O33: =(N33)*16 -> 2864 | P33: =(N33)*1.4 -> 250.6
B34: 31 | C34: 85 | E34: BUDYNEK GOSPODARCZY | F34: W02 | G34: 242 | H34: =(G34)*16 -> 3872 | I34: =(G34)*1.4 -> 338.8 | J34: II | L34: =(K34)*16 -> 0 | M34: =(K34)*1.4 -> 0 | N34: =SUM(G34,K34) -> 242 | O34: =(N34)*16 -> 3872 | P34: =(N34)*1.4 -> 338.8
B35: 32 | C35: 82/1 | E35: BUDYNEK GOSPODARCZY | F35: W02 | G35: 312 | H35: =(G35)*16 -> 4992 | I35: =(G35)*1.4 -> 436.8 | J35: II | L35: =(K35)*16 -> 0 | M35: =(K35)*1.4 -> 0 | N35: =SUM(G35,K35) -> 312 | O35: =(N35)*16 -> 4992 | P35: =(N35)*1.4 -> 436.8
B36: 33 | C36: 80 | E36: BUDYNEK GOSPODARCZY | F36: W02 | G36: 216 | H36: =(G36)*16 -> 3456 | I36: =(G36)*1.4 -> 302.4 | J36: II | L36: =(K36)*16 -> 0 | M36: =(K36)*1.4 -> 0 | N36: =SUM(G36,K36) -> 216 | O36: =(N36)*16 -> 3456 | P36: =(N36)*1.4 -> 302.4
E37: BUDYNEK GOSPODARCZY | F37: W02 | G37: 240 | H37: =(G37)*16 -> 3840 | I37: =(G37)*1.4 -> 336 | J37: II | L37: =(K37)*16 -> 0 | M37: =(K37)*1.4 -> 0 | N37: =SUM(G37,K37) -> 240 | O37: =(N37)*16 -> 3840 | P37: =(N37)*1.4 -> 336
E38: BUDYNEK GOSPODARCZY | F38: W02 | G38: 240 | H38: =(G38)*16 -> 3840 | I38: =(G38)*1.4 -> 336 | J38: II | L38: =(K38)*16 -> 0 | M38: =(K38)*1.4 -> 0 | N38: =SUM(G38,K38) -> 240 | O38: =(N38)*16 -> 3840 | P38: =(N38)*1.4 -> 336
B39: 15 | C39: 59/1 | E39: BUDYNEK MIESZKALNY | F39: W02 | G39: 154 | H39: =(G39)*16 -> 2464 | I39: =(G39)*1.4 -> 215.6 | J39: II | L39: =(K39)*16 -> 0 | M39: =(K39)*1.4 -> 0 | N39: =SUM(G39,K39) -> 154 | O39: =(N39)*16 -> 2464 | P39: =(N39)*1.4 -> 215.6
E40: BUDYNEK GOSPODARCZY | F40: W02 | G40: 224 | H40: =(G40)*16 -> 3584 | I40: =(G40)*1.4 -> 313.6 | J40: II | L40: =(K40)*16 -> 0 | M40: =(K40)*1.4 -> 0 | N40: =SUM(G40,K40) -> 224 | O40: =(N40)*16 -> 3584 | P40: =(N40)*1.4 -> 313.6
B41: 16 | C41: 94 | E41: BUDYNEK MIESZKALNY | F41: W02 | G41: 121 | H41: =(G41)*16 -> 1936 | I41: =(G41)*1.4 -> 169.4 | J41: II | L41: =(K41)*16 -> 0 | M41: =(K41)*1.4 -> 0 | N41: =SUM(G41,K41) -> 121 | O41: =(N41)*16 -> 1936 | P41: =(N41)*1.4 -> 169.4
E42: BUDYNEK GOSPODARCZY | F42: W02 | G42: 176 | H42: =(G42)*16 -> 2816 | I42: =(G42)*1.4 -> 246.4 | J42: II | L42: =(K42)*16 -> 0 | M42: =(K42)*1.4 -> 0 | N42: =SUM(G42,K42) -> 176 | O42: =(N42)*16 -> 2816 | P42: =(N42)*1.4 -> 246.4
B43: 7 | C43: 104/2 | E43: BUDYNEK MIESZKALNY | F43: W02 | G43: 96 | H43: =(G43)*16 -> 1536 | I43: =(G43)*1.4 -> 134.4 | J43: II | L43: =(K43)*16 -> 0 | M43: =(K43)*1.4 -> 0 | N43: =SUM(G43,K43) -> 96 | O43: =(N43)*16 -> 1536 | P43: =(N43)*1.4 -> 134.4
B44: 7A | C44: 110/2 | E44: BUDYNEK GOSPODARCZY | F44: W02 | G44: 220 | H44: =(G44)*16 -> 3520 | I44: =(G44)*1.4 -> 308 | J44: II | L44: =(K44)*16 -> 0 | M44: =(K44)*1.4 -> 0 | N44: =SUM(G44,K44) -> 220 | O44: =(N44)*16 -> 3520 | P44: =(N44)*1.4 -> 308
E45: BUDYNEK GOSPODARCZY | F45: W02 | G45: 180 | H45: =(G45)*16 -> 2880 | I45: =(G45)*1.4 -> 252 | J45: II | L45: =(K45)*16 -> 0 | M45: =(K45)*1.4 -> 0 | N45: =SUM(G45,K45) -> 180 | O45: =(N45)*16 -> 2880 | P45: =(N45)*1.4 -> 252
E46: BUDYNEK GOSPODARCZY | F46: W02 | G46: 360 | H46: =(G46)*16 -> 5760 | I46: =(G46)*1.4 -> 504 | J46: II | L46: =(K46)*16 -> 0 | M46: =(K46)*1.4 -> 0 | N46: =SUM(G46,K46) -> 360 | O46: =(N46)*16 -> 5760 | P46: =(N46)*1.4 -> 504
B47: 9 | C47: 105/1 | E47: BUDYNEK GOSPODARCZY | F47: W02 | G47: 120 | H47: =(G47)*16 -> 1920 | I47: =(G47)*1.4 -> 168 | J47: I | L47: =(K47)*16 -> 0 | M47: =(K47)*1.4 -> 0 | N47: =SUM(G47,K47) -> 120 | O47: =(N47)*16 -> 1920 | P47: =(N47)*1.4 -> 168
B48: 11 | C48: 65/1 | E48: BUDYNEK GOSPODARCZY | F48: W02 | G48: 260 | H48: =(G48)*16 -> 4160 | I48: =(G48)*1.4 -> 364 | J48: II | L48: =(K48)*16 -> 0 | M48: =(K48)*1.4 -> 0 | N48: =SUM(G48,K48) -> 260 | O48: =(N48)*16 -> 4160 | P48: =(N48)*1.4 -> 364
B49: 20 | E49: BUDYNEK GOSPODARCZY | F49: W02 | G49: 148 | H49: =(G49)*16 -> 2368 | I49: =(G49)*1.4 -> 207.2 | J49: II | L49: 0 | M49: 0 | N49: =SUM(G49,K49) -> 148 | O49: =(N49)*16 -> 2368 | P49: =(N49)*1.4 -> 207.2
B50: 20 | E50: BUDYNEK GOSPODARCZY | F50: W02 | G50: 218 | H50: =(G50)*16 -> 3488 | I50: =(G50)*1.4 -> 305.2 | J50: II | L50: 0 | M50: 0 | N50: =SUM(G50,K50) -> 218 | O50: =(N50)*16 -> 3488 | P50: =(N50)*1.4 -> 305.2
B52: 8A | C52: 115/1 | E52: BUDYNEK MIESZKALNY | F52: W02 | G52: 0 | H52: 0 | I52: 0 | J52: II | K52: 160 | L52: 2560 | M52: 224 | N52: =SUM(G52,K52) -> 160 | O52: =(N52)*16 -> 2560 | P52: =(N52)*1.4 -> 224
A53: SUMA | G53: =SUM(G2:G52) -> 8522 | H53: =SUM(H2:H52) -> 136352 | I53: =SUM(I2:I52) -> 11930.8 | K53: =SUM(K33:K52) -> 339 | L53: =SUM(L2:L52) -> 5424 | M53: =SUM(M2:M52) -> 474.6 | N53: =SUM(N2:N52) -> 8861 | O53: =SUM(O2:O52) -> 141776 | P53: =SUM(P2:P52) -> 12405.4

Sheet Bilno
A1: MIEJSCOWOŚĆ | B1: ADRES (NR. POSESJI) | C1: NR. DZIAŁKI EWIDENCYJNEJ | D1: NR. OBRĘBU EWIDENCYJNEGO | E1: RODZAJ ZABUDOWY | F1: NAZWA/RODZAJ WYROBU | G1: ILOŚĆ POSIADANYCH WYROBÓW BĘDĄCYCH W UŻYCIU (W SZT.) | H1: WAGA POSIADANYCH WYROBÓW BĘDĄCYCH W UŻYCIU (W KG.) | I1: POWIERZCHNIA POSIADANYCH WYROBÓW BĘDĄCYCH W UŻYCIU (W M2) | J1: STOPIEŃ PILNOŚCI (I-III) | K1: ILOŚĆ POSIADANYCH WYROBÓW ZŁOŻONYCH NA POSESJI (W SZT.) | L1: WAGA POSIADANYCH WYROBÓW ZŁOŻONYCH NA POSESJI (W KG.) | M1: POWIERZCHNIA POSIADANYCH WYROBÓW ZŁOŻONYCH NA POSESJI (W M2) | N1: ILOŚĆ POSIADANYCH WYROBÓW BĘDĄCYCH W UŻYCIU I ZŁOŻONYCH NA POSESJI W SUMIE (W SZT.) | O1: WAGA POSIADANYCH WYROBÓW BĘDĄCYCH W UŻYCIU I ZŁOŻONYCH NA POSESJI W SUMIE (W KG.) | P1: POWIERZCHNIA POSIADANYCH WYROBÓW BĘDĄCYCH W UŻYCIU I ZŁOŻONYCH NA POSESJI W SUMIE (W M2)
A2: Bilno | B2: 42 | C2: 224 | D2: 0001 | E2: BUDYNEK MIESZKALNY | F2: W01 | G2: 0 | H2: 0 | I2: 0 | J2: II | K2: 115 | L2: =(K2)*16 -> 1840 | M2: =(K2)*1.4 -> 161 | N2: =SUM(G2,K2) -> 115 | O2: =(N2)*16 -> 1840 | P2: =(N2)*1.4 -> 161
E3: BUDYNEK GOSPODARCZY | F3: W02 | G3: 64 | H3: =(G3)*16 -> 1024 | I3: =(G3)*1.4 -> 89.6 | J3: II | L3: =(K3)*16 -> 0 | M3: =(K3)*1.4 -> 0 | N3: =SUM(G3,K3) -> 64 | O3: =(N3)*16 -> 1024 | P3: =(N3)*1.4 -> 89.6
E4: BUDYNEK GOSPODARCZY | F4: W02 | G4: 220 | H4: =(G4)*16 -> 3520 | I4: =(G4)*1.4 -> 308 | J4: II | L4: =(K4)*16 -> 0 | M4: =(K4)*1.4 -> 0 | N4: =SUM(G4,K4) -> 220 | O4: =(N4)*16 -> 3520 | P4: =(N4)*1.4 -> 308
B5: 41 | C5: 221 | E5: BUDYNEK GOSPODARCZY | F5: W02 | G5: 112 | H5: =(G5)*16 -> 1792 | I5: =(G5)*1.4 -> 156.8 | J5: II | L5: =(K5)*16 -> 0 | M5: =(K5)*1.4 -> 0 | N5: =SUM(G5,K5) -> 112 | O5: =(N5)*16 -> 1792 | P5: =(N5)*1.4 -> 156.8
E6: BUDYNEK GOSPODARCZY | F6: W02 | G6: 176 | H6: =(G6)*16 -> 2816 | I6: =(G6)*1.4 -> 246.4 | J6: II | L6: =(K6)*16 -> 0 | M6: =(K6)*1.4 -> 0 | N6: =SUM(G6,K6) -> 176 | O6: =(N6)*16 -> 2816 | P6: =(N6)*1.4 -> 246.4
E7: BUDYNEK GOSPODARCZY | F7: W02 | G7: 128 | H7: =(G7)*16 -> 2048 | I7: =(G7)*1.4 -> 179.2 | J7: II | L7: =(K7)*16 -> 0 | M7: =(K7)*1.4 -> 0 | N7: =SUM(G7,K7) -> 128 | O7: =(N7)*16 -> 2048 | P7: =(N7)*1.4 -> 179.2
B8: 40 | C8: 233/1 | E8: BUDYNEK MIESZKALNY | F8: W01 | G8: 115 | H8: =(G8)*16 -> 1840 | I8: =(G8)*1.4 -> 161 | J8: II | L8: =(K8)*16 -> 0 | M8: =(K8)*1.4 -> 0 | N8: =SUM(G8,K8) -> 115 | O8: =(N8)*16 -> 1840 | P8: =(N8)*1.4 -> 161
E9: BUDYNEK GOSPODARCZY | F9: W02 | G9: 240 | H9: =(G9)*16 -> 3840 | I9: =(G9)*1.4 -> 336 | J9: II | L9: =(K9)*16 -> 0 | M9: =(K9)*1.4 -> 0 | N9: =SUM(G9,K9) -> 240 | O9: =(N9)*16 -> 3840 | P9: =(N9)*1.4 -> 336
B10: 39 | C10: 197/1 | E10: BUDYNEK MIESZKALNY | F10: W02 | G10: 96 | H10: =(G10)*16 -> 1536 | I10: =(G10)*1.4 -> 134.4 | J10: II | L10: =(K10)*16 -> 0 | M10: =(K10)*1.4 -> 0 | N10: =SUM(G10,K10) -> 96 | O10: =(N10)*16 -> 1536 | P10: =(N10)*1.4 -> 134.4
E11: BUDYNEK GOSPODARCZY | F11: W02 | G11: 160 | H11: =(G11)*16 -> 2560 | I11: =(G11)*1.4 -> 224 | J11: II | L11: =(K11)*16 -> 0 | M11: =(K11)*1.4 -> 0 | N11: =SUM(G11,K11) -> 160 | O11: =(N11)*16 -> 2560 | P11: =(N11)*1.4 -> 224
B12: 35 | C12: 191/1 | E12: BUDYNEK GOSPODARCZY | F12: W02 | G12: 160 | H12: =(G12)*16 -> 2560 | I12: =(G12)*1.4 -> 224 | J12: II | L12: =(K12)*16 -> 0 | M12: =(K12)*1.4 -> 0 | N12: =SUM(G12,K12) -> 160 | O12: =(N12)*16 -> 2560 | P12: =(N12)*1.4 -> 224
E13: BUDYNEK MIESZKALNY | F13: W02 | G13: 0 | H13: =(G13)*16 -> 0 | I13: =(G13)*1.4 -> 0 | J13: II | K13: 90 | L13: 1488 | M13: 130.2 | N13: =SUM(G13,K13) -> 90 | O13: =(N13)*16 -> 1440 | P13: =(N13)*1.4 -> 126
E14: BUDYNEK GOSPODARCZY | F14: W02 | G14: 160 | H14: =(G14)*16 -> 2560 | I14: =(G14)*1.4 -> 224 | J14: II | L14: =(K14)*16 -> 0 | M14: =(K14)*1.4 -> 0 | N14: =SUM(G14,K14) -> 160 | O14: =(N14)*16 -> 2560 | P14: =(N14)*1.4 -> 224
B15: 1 | C15: 163/1 | E15: BUDYNEK GOSPODARCZY | F15: W02 | G15: 48 | H15: =(G15)*16 -> 768 | I15: =(G15)*1.4 -> 67.2 | J15: II | K15: 250 | L15: =(K15)*16 -> 4000 | M15: =(K15)*1.4 -> 350 | N15: =SUM(G15,K15) -> 298 | O15: =(N15)*16 -> 4768 | P15: =(N15)*1.4 -> 417.2
B16: 2 | C16: 177/1 | E16: BUDYNEK MIESZKALNY | F16: W02 | G16: 98 | H16: =(G16)*16 -> 1568 | I16: =(G16)*1.4 -> 137.2 | J16: II | L16: =(K16)*16 -> 0 | M16: =(K16)*1.4 -> 0 | N16: =SUM(G16,K16) -> 98 | O16: =(N16)*16 -> 1568 | P16: =(N16)*1.4 -> 137.2
B17: 3 | C17: 176 | E17: BUDYNEK MIESZKALNY | F17: W02 | G17: 120 | H17: =(G17)*16 -> 1920 | I17: =(G17)*1.4 -> 168 | J17: II | L17: =(K17)*16 -> 0 | M17: =(K17)*1.4 -> 0 | N17: =SUM(G17,K17) -> 120 | O17: =(N17)*16 -> 1920 | P17: =(N17)*1.4 -> 168
E18: BUDYNEK GOSPODARCZY | F18: W02 | G18: 42 | H18: =(G18)*16 -> 672 | I18: =(G18)*1.4 -> 58.8 | J18: II | L18: =(K18)*16 -> 0 | M18: =(K18)*1.4 -> 0 | N18: =SUM(G18,K18) -> 42 | O18: =(N18)*16 -> 672 | P18: =(N18)*1.4 -> 58.8
B19: 4 | C19: 160/1 | E19: BUDYNEK MIESZKALNY | F19: W02 | G19: 0 | H19: 0 | I19: =(G19)*1.4 -> 0 | J19: II | K19: 71 | L19: =(K19)*16 -> 1136 | M19: =(K19)*1.4 -> 99.4 | N19: =SUM(G19,K19) -> 71 | O19: =(N19)*16 -> 1136 | P19: =(N19)*1.4 -> 99.4
E20: BUDYNEK GOSPODARCZY | F20: W02 | G20: 90 | H20: =(G20)*16 -> 1440 | I20: =(G20)*1.4 -> 126 | J20: II | L20: =(K20)*16 -> 0 | M20: =(K20)*1.4 -> 0 | N20: =SUM(G20,K20) -> 90 | O20: =(N20)*16 -> 1440 | P20: =(N20)*1.4 -> 126
B21: 5 | C21: 173/1 | E21: BUDYNEK MIESZKALNY | F21: W02 | G21: 72 | H21: =(G21)*16 -> 1152 | I21: =(G21)*1.4 -> 100.8 | J21: II | L21: =(K21)*16 -> 0 | M21: =(K21)*1.4 -> 0 | N21: =SUM(G21,K21) -> 72 | O21: =(N21)*16 -> 1152 | P21: =(N21)*1.4 -> 100.8
E22: BUDYNEK GOSPODARCZY | F22: W02 | G22: 72 | H22: =(G22)*16 -> 1152 | I22: =(G22)*1.4 -> 100.8 | J22: II | L22: =(K22)*16 -> 0 | M22: =(K22)*1.4 -> 0 | N22: =SUM(G22,K22) -> 72 | O22: =(N22)*16 -> 1152 | P22: =(N22)*1.4 -> 100.8
B23: 6 | C23: 170/1 | E23: BUDYNEK MIESZKALNY | F23: W02 | G23: 108 | H23: =(G23)*16 -> 1728 | I23: =(G23)*1.4 -> 151.2 | J23: II | L23: =(K23)*16 -> 0 | M23: =(K23)*1.4 -> 0 | N23: =SUM(G23,K23) -> 108 | O23: =(N23)*16 -> 1728 | P23: =(N23)*1.4 -> 151.2
E24: BUDYNEK GOSPODARCZY | F24: W02 | G24: 242 | H24: =(G24)*16 -> 3872 | I24: =(G24)*1.4 -> 338.8 | J24: II | L24: =(K24)*16 -> 0 | M24: =(K24)*1.4 -> 0 | N24: =SUM(G24,K24) -> 242 | O24: =(N24)*16 -> 3872 | P24: =(N24)*1.4 -> 338.8
B25: 7 | C25: 167/1 | E25: BUDYNEK MIESZKALNO - GOSPODARCZY | F25: W02 | G25: 292 | H25: =(G25)*16 -> 4672 | I25: =(G25)*1.4 -> 408.8 | J25: II | L25: =(K25)*16 -> 0 | M25: =(K25)*1.4 -> 0 | N25: =SUM(G25,K25) -> 292 | O25: =(N25)*16 -> 4672 | P25: =(N25)*1.4 -> 408.8
B26: 9 | C26: 141/1 | E26: BUDYNEK MIESZKALNY | F26: W01 | G26: 120 | H26: =(G26)*16 -> 1920 | I26: =(G26)*1.4 -> 168 | J26: II | L26: =(K26)*16 -> 0 | M26: =(K26)*1.4 -> 0 | N26: =SUM(G26,K26) -> 120 | O26: =(N26)*16 -> 1920 | P26: =(N26)*1.4 -> 168
E27: BUDYNEK GOSPODARCZY | F27: W01 | G27: 128 | H27: =(G27)*16 -> 2048 | I27: =(G27)*1.4 -> 179.2 | J27: I | L27: =(K27)*16 -> 0 | M27: =(K27)*1.4 -> 0 | N27: =SUM(G27,K27) -> 128 | O27: =(N27)*16 -> 2048 | P27: =(N27)*1.4 -> 179.2
E28: BUDYNEK GOSPODARCZY | F28: W02 | G28: 24 | H28: =(G28)*16 -> 384 | I28: =(G28)*1.4 -> 33.6 | J28: II | L28: =(K28)*16 -> 0 | M28: =(K28)*1.4 -> 0 | N28: =SUM(G28,K28) -> 24 | O28: =(N28)*16 -> 384 | P28: =(N28)*1.4 -> 33.6
B29: 10 | C29: 140/1 | E29: BUDYNEK GOSPODARCZY | F29: W02 | G29: 162 | H29: =(G29)*16 -> 2592 | I29: =(G29)*1.4 -> 226.8 | J29: II | L29: =(K29)*16 -> 0 | M29: =(K29)*1.4 -> 0 | N29: =SUM(G29,K29) -> 162 | O29: =(N29)*16 -> 2592 | P29: =(N29)*1.4 -> 226.8
B30: 11 | C30: 122/1 | E30: BUDYNEK MIESZKALNY | F30: W01 | G30: 140 | H30: =(G30)*16 -> 2240 | I30: =(G30)*1.4 -> 196 | J30: II | L30: =(K30)*16 -> 0 | M30: =(K30)*1.4 -> 0 | N30: =SUM(G30,K30) -> 140 | O30: =(N30)*16 -> 2240 | P30: =(N30)*1.4 -> 196
E31: BUDYNEK GOSPODARCZY | F31: W02 | G31: 48 | H31: =(G31)*16 -> 768 | I31: =(G31)*1.4 -> 67.2 | J31: II | L31: =(K31)*16 -> 0 | M31: =(K31)*1.4 -> 0 | N31: =SUM(G31,K31) -> 48 | O31: =(N31)*16 -> 768 | P31: =(N31)*1.4 -> 67.2
E32: BUDYNEK GOSPODARCZY | F32: W02 | G32: 240 | H32: =(G32)*16 -> 3840 | I32: =(G32)*1.4 -> 336 | J32: II | L32: =(K32)*16 -> 0 | M32: =(K32)*1.4 -> 0 | N32: =SUM(G32,K32) -> 240 | O32: =(N32)*16 -> 3840 | P32: =(N32)*1.4 -> 336
B33: 12 | C33: 117/1 | E33: BUDYNEK MIESZKALNY | F33: W01 | G33: 120 | H33: =(G33)*16 -> 1920 | I33: =(G33)*1.4 -> 168 | J33: II | K33: 142 | L33: =(K33)*16 -> 2272 | M33: =(K33)*1.4 -> 198.8 | N33: =SUM(G33,K33) -> 262 | O33: =(N33)*16 -> 4192 | P33: =(N33)*1.4 -> 366.8
E34: BUDYNEK GOSPODARCZY | F34: W02 | G34: 60 | H34: =(G34)*16 -> 960 | I34: =(G34)*1.4 -> 84 | J34: II | L34: =(K34)*16 -> 0 | M34: =(K34)*1.4 -> 0 | N34: =SUM(G34,K34) -> 60 | O34: =(N34)*16 -> 960 | P34: =(N34)*1.4 -> 84
E35: BUDYNEK GOSPODARCZY | F35: W02 | G35: 144 | H35: =(G35)*16 -> 2304 | I35: =(G35)*1.4 -> 201.6 | J35: II | L35: =(K35)*16 -> 0 | M35: =(K35)*1.4 -> 0 | N35: =SUM(G35,K35) -> 144 | O35: =(N35)*16 -> 2304 | P35: =(N35)*1.4 -> 201.6
E36: BUDYNEK GOSPODARCZY | F36: W01 | G36: 200 | H36: =(G36)*16 -> 3200 | I36: =(G36)*1.4 -> 280 | J36: II | L36: =(K36)*16 -> 0 | M36: =(K36)*1.4 -> 0 | N36: =SUM(G36,K36) -> 200 | O36: =(N36)*16 -> 3200 | P36: =(N36)*1.4 -> 280
B37: 14 | C37: 131/1 | E37: BUDYNEK MIESZKALNY | F37: W02 | G37: 144 | H37: =(G37)*16 -> 2304 | I37: =(G37)*1.4 -> 201.6 | J37: II | L37: =(K37)*16 -> 0 | M37: =(K37)*1.4 -> 0 | N37: =SUM(G37,K37) -> 144 | O37: =(N37)*16 -> 2304 | P37: =(N37)*1.4 -> 201.6
E38: BUDYNEK GOSPODARCZY | F38: W02 | G38: 112 | H38: =(G38)*16 -> 1792 | I38: =(G38)*1.4 -> 156.8 | J38: II | L38: =(K38)*16 -> 0 | M38: =(K38)*1.4 -> 0 | N38: =SUM(G38,K38) -> 112 | O38: =(N38)*16 -> 1792 | P38: =(N38)*1.4 -> 156.8
B39: 15 | C39: 106/1 | E39: BUDYNEK MIESZKALNO - GOSPODARCZY | F39: W02 | G39: 288 | H39: =(G39)*16 -> 4608 | I39: =(G39)*1.4 -> 403.2 | J39: II | L39: =(K39)*16 -> 0 | M39: =(K39)*1.4 -> 0 | N39: =SUM(G39,K39) -> 288 | O39: =(N39)*16 -> 4608 | P39: =(N39)*1.4 -> 403.2
B40: 20 | C40: 89 | E40: BUDYNEK GOSPODARCZY | F40: W02 | G40: 128 | H40: =(G40)*16 -> 2048 | I40: =(G40)*1.4 -> 179.2 | J40: II | L40: =(K40)*16 -> 0 | M40: =(K40)*1.4 -> 0 | N40: =SUM(G40,K40) -> 128 | O40: =(N40)*16 -> 2048 | P40: =(N40)*1.4 -> 179.2
B41: 16 | C41: 130/1 | E41: BUDYNEK MIESZKALNY | F41: W02 | G41: 168 | H41: =(G41)*16 -> 2688 | I41: =(G41)*1.4 -> 235.2 | J41: II | L41: =(K41)*16 -> 0 | M41: =(K41)*1.4 -> 0 | N41: =SUM(G41,K41) -> 168 | O41: =(N41)*16 -> 2688 | P41: =(N41)*1.4 -> 235.2
E42: BUDYNEK GOSPODARCZY | F42: W02 | G42: 160 | H42: =(G42)*16 -> 2560 | I42: =(G42)*1.4 -> 224 | J42: II | L42: =(K42)*16 -> 0 | M42: =(K42)*1.4 -> 0 | N42: =SUM(G42,K42) -> 160 | O42: =(N42)*16 -> 2560 | P42: =(N42)*1.4 -> 224
E43: BUDYNEK GOSPODARCZY | F43: W02 | G43: 128 | H43: =(G43)*16 -> 2048 | I43: =(G43)*1.4 -> 179.2 | J43: II | L43: =(K43)*16 -> 0 | M43: =(K43)*1.4 -> 0 | N43: =SUM(G43,K43) -> 128 | O43: =(N43)*16 -> 2048 | P43: =(N43)*1.4 -> 179.2
E44: BUDYNEK GOSPODARCZY | F44: W02 | G44: 180 | H44: =(G44)*16 -> 2880 | I44: =(G44)*1.4 -> 252 | J44: II | L44: =(K44)*16 -> 0 | M44: =(K44)*1.4 -> 0 | N44: =SUM(G44,K44) -> 180 | O44: =(N44)*16 -> 2880 | P44: =(N44)*1.4 -> 252
B45: 17 | C45: 92 | E45: BUDYNEK GOSPODARCZY | F45: W02 | G45: 30 | H45: =(G45)*16 -> 480 | I45: =(G45)*1.4 -> 42 | J45: II | L45: =(K45)*16 -> 0 | M45: =(K45)*1.4 -> 0 | N45: =SUM(G45,K45) -> 30 | O45: =(N45)*16 -> 480 | P45: =(N45)*1.4 -> 42
E46: BUDYNEK GOSPODARCZY | F46: W02 | G46: 60 | H46: =(G46)*16 -> 960 | I46: =(G46)*1.4 -> 84 | J46: II | L46: =(K46)*16 -> 0 | M46: =(K46)*1.4 -> 0 | N46: =SUM(G46,K46) -> 60 | O46: =(N46)*16 -> 960 | P46: =(N46)*1.4 -> 84
B47: 18 | C47: 91/1 | E47: BUDYNEK MIESZKALNY | F47: W02 | G47: 126 | H47: =(G47)*16 -> 2016 | I47: =(G47)*1.4 -> 176.4 | J47: II | L47: =(K47)*16 -> 0 | M47: =(K47)*1.4 -> 0 | N47: =SUM(G47,K47) -> 126 | O47: =(N47)*16 -> 2016 | P47: =(N47)*1.4 -> 176.4
E48: BUDYNEK GOSPODARCZY | F48: W02 | G48: 70 | H48: =(G48)*16 -> 1120 | I48: =(G48)*1.4 -> 98 | J48: II | L48: =(K48)*16 -> 0 | M48: =(K48)*1.4 -> 0 | N48: =SUM(G48,K48) -> 70 | O48: =(N48)*16 -> 1120 | P48: =(N48)*1.4 -> 98
B49: 19 | C49: 128/1 | E49: BUDYNEK GOSPODARCZO-MIESZKALNY | F49: W02 | G49: 122 | H49: =(G49)*16 -> 1952 | I49: =(G49)*1.4 -> 170.8 | N49: =SUM(G49,K49) -> 122 | O49: =(N49)*16 -> 1952 | P49: =(N49)*1.4 -> 170.8
B50: 19 | C50: 128/1 | E50: BUDYNEK GOSPODARCZY | F50: W02 | G50: 80 | H50: =(G50)*16 -> 1280 | I50: =(G50)*1.4 -> 112 | J50: II | L50: =(K50)*16 -> 0 | M50: =(K50)*1.4 -> 0 | N50: =SUM(G50,K50) -> 80 | O50: =(N50)*16 -> 1280 | P50: =(N50)*1.4 -> 112
B51: 13 | C51: 102/4 | E51: BUDYNEK MIESZKALNY | F51: W02 | G51: 120 | H51: =(G51)*16 -> 1920 | I51: =(G51)*1.4 -> 168 | J51: II | L51: =(K51)*16 -> 0 | M51: =(K51)*1.4 -> 0 | N51: =SUM(G51,K51) -> 120 | O51: =(N51)*16 -> 1920 | P51: =(N51)*1.4 -> 168
E52: BUDYNEK GOSPODARCZY | F52: W02 | G52: 160 | H52: =(G52)*16 -> 2560 | I52: =(G52)*1.4 -> 224 | J52: II | L52: =(K52)*16 -> 0 | M52: =(K52)*1.4 -> 0 | N52: =SUM(G52,K52) -> 160 | O52: =(N52)*16 -> 2560 | P52: =(N52)*1.4 -> 224
B53: 21 | C53: 99/1 | E53: BUDYNEK MIESZKALNY | F53: W02 | G53: 140 | H53: =(G53)*16 -> 2240 | I53: =(G53)*1.4 -> 196 | J53: II | L53: =(K53)*16 -> 0 | M53: =(K53)*1.4 -> 0 | N53: =SUM(G53,K53) -> 140 | O53: =(N53)*16 -> 2240 | P53: =(N53)*1.4 -> 196
B54: 24 | C54: 97 | E54: BUDYNEK MIESZKALNY | F54: W02 | G54: 112 | H54: =(G54)*16 -> 1792 | I54: =(G54)*1.4 -> 156.8 | J54: II | L54: =(K54)*16 -> 0 | M54: =(K54)*1.4 -> 0 | N54: =SUM(G54,K54) -> 112 | O54: =(N54)*16 -> 1792 | P54: =(N54)*1.4 -> 156.8
E55: BUDYNEK GOSPODARCZY | F55: W02 | G55: 180 | H55: =(G55)*16 -> 2880 | I55: =(G55)*1.4 -> 252 | J55: II | L55: =(K55)*16 -> 0 | M55: =(K55)*1.4 -> 0 | N55: =SUM(G55,K55) -> 180 | O55: =(N55)*16 -> 2880 | P55: =(N55)*1.4 -> 252
B56: 27 | C56: 62/1 | E56: BUDYNEK MIESZKALNY | F56: W02 | G56: 160 | H56: =(G56)*16 -> 2560 | I56: =(G56)*1.4 -> 224 | J56: II | L56: =(K56)*16 -> 0 | M56: =(K56)*1.4 -> 0 | N56: =SUM(G56,K56) -> 160 | O56: =(N56)*16 -> 2560 | P56: =(N56)*1.4 -> 224
E57: BUDYNEK GOSPODARCZY | F57: W02 | G57: 288 | H57: =(G57)*16 -> 4608 | I57: =(G57)*1.4 -> 403.2 | J57: II | L57: =(K57)*16 -> 0 | M57: =(K57)*1.4 -> 0 | N57: =SUM(G57,K57) -> 288 | O57: =(N57)*16 -> 4608 | P57: =(N57)*1.4 -> 403.2
E58: BUDYNEK GOSPODARCZY | F58: W02 | G58: 80 | H58: =(G58)*16 -> 1280 | I58: =(G58)*1.4 -> 112 | J58: II | L58: =(K58)*16 -> 0 | M58: =(K58)*1.4 -> 0 | N58: =SUM(G58,K58) -> 80 | O58: =(N58)*16 -> 1280 | P58: =(N58)*1.4 -> 112
E59: BUDYNEK GOSPODARCZY | F59: W02 | G59: 25 | H59: =(G59)*16 -> 400 | I59: =(G59)*1.4 -> 35 | J59: II | L59: =(K59)*16 -> 0 | M59: =(K59)*1.4 -> 0 | N59: =SUM(G59,K59) -> 25 | O59: =(N59)*16 -> 400 | P59: =(N59)*1.4 -> 35
B60: 28 | C60: 61/1 | E60: BUDYNEK GOSPODARCZY | F60: W02 | G60: 144 | H60: =(G60)*16 -> 2304 | I60: =(G60)*1.4 -> 201.6 | J60: II | L60: =(K60)*16 -> 0 | M60: =(K60)*1.4 -> 0 | N60: =SUM(G60,K60) -> 144 | O60: =(N60)*16 -> 2304 | P60: =(N60)*1.4 -> 201.6
E61: BUDYNEK MIESZKALNO - GOSPODARCZY | F61: W02 | G61: 144 | H61: =(G61)*16 -> 2304 | I61: =(G61)*1.4 -> 201.6 | J61: II | L61: =(K61)*16 -> 0 | M61: =(K61)*1.4 -> 0 | N61: =SUM(G61,K61) -> 144 | O61: =(N61)*16 -> 2304 | P61: =(N61)*1.4 -> 201.6
B62: 29 | C62: 52 | E62: BUDYNEK MIESZKALNO - GOSPODARCZY | F62: W02 | G62: 120 | H62: =(G62)*16 -> 1920 | I62: =(G62)*1.4 -> 168 | J62: II | L62: =(K62)*16 -> 0 | M62: =(K62)*1.4 -> 0 | N62: =SUM(G62,K62) -> 120 | O62: =(N62)*16 -> 1920 | P62: =(N62)*1.4 -> 168
E63: BUDYNEK GOSPODARCZY | F63: W02 | G63: 180 | H63: =(G63)*16 -> 2880 | I63: =(G63)*1.4 -> 252 | J63: II | L63: =(K63)*16 -> 0 | M63: =(K63)*1.4 -> 0 | N63: =SUM(G63,K63) -> 180 | O63: =(N63)*16 -> 2880 | P63: =(N63)*1.4 -> 252
B64: 32 | C64: 47/1 | E64: BUDYNEK MIESZKALNY | F64: W02 | G64: 128 | H64: =(G64)*16 -> 2048 | I64: =(G64)*1.4 -> 179.2 | J64: II | L64: =(K64)*16 -> 0 | M64: =(K64)*1.4 -> 0 | N64: =SUM(G64,K64) -> 128 | O64: =(N64)*16 -> 2048 | P64: =(N64)*1.4 -> 179.2
E65: BUDYNEK GOSPODARCZY | F65: W02 | G65: 96 | H65: =(G65)*16 -> 1536 | I65: =(G65)*1.4 -> 134.4 | J65: II | L65: =(K65)*16 -> 0 | M65: =(K65)*1.4 -> 0 | N65: =SUM(G65,K65) -> 96 | O65: =(N65)*16 -> 1536 | P65: =(N65)*1.4 -> 134.4
B66: 25 | C66: 99/1 | E66: BUDYNEK MIESZKALNY | F66: W01 | G66: 144 | H66: =(G66)*16 -> 2304 | I66: =(G66)*1.4 -> 201.6 | J66: II | L66: =(K66)*16 -> 0 | M66: =(K66)*1.4 -> 0 | N66: =SUM(G66,K66) -> 144 | O66: =(N66)*16 -> 2304 | P66: =(N66)*1.4 -> 201.6
E67: BUDYNEK GOSPODARCZY | F67: W02 | G67: 40 | H67: =(G67)*16 -> 640 | I67: =(G67)*1.4 -> 56 | J67: II | L67: =(K67)*16 -> 0 | M67: =(K67)*1.4 -> 0 | N67: =SUM(G67,K67) -> 40 | O67: =(N67)*16 -> 640 | P67: =(N67)*1.4 -> 56
A69: SUMA | G69: =SUM(G2:G68) -> 8258 | H69: =SUM(H2:H68) -> 132128 | I69: =SUM(I2:I68) -> 11561.2 | K69: =SUM(K2:K68) -> 668 | L69: =SUM(L2:L68) -> 10736 | M69: =SUM(M2:M68) -> 939.4 | N69: =SUM(N2:N68) -> 8926 | O69: =SUM(O2:O68) -> 142816 | P69: =SUM(P2:P68) -> 12496.4

Sheet Bodzanówek
A1: MIEJSCOWOŚĆ | B1: ADRES (NR. POSESJI) | C1: NR. DZIAŁKI EWIDENCYJNEJ | D1: NR. OBRĘBU EWIDENCYJNEGO | E1: RODZAJ ZABUDOWY | F1: NAZWA/RODZAJ WYROBU | G1: ILOŚĆ POSIADANYCH WYROBÓW BĘDĄCYCH W UŻYCIU (W SZT.) | H1: WAGA POSIADANYCH WYROBÓW BĘDĄCYCH W UŻYCIU (W KG.) | I1: POWIERZCHNIA POSIADANYCH WYROBÓW BĘDĄCYCH W UŻYCIU (W M2) | J1: STOPIEŃ PILNOŚCI (I-III) | K1: ILOŚĆ POSIADANYCH WYROBÓW ZŁOŻONYCH NA POSESJI (W SZT.) | L1: WAGA POSIADANYCH WYROBÓW ZŁOŻONYCH NA POSESJI (W KG.) | M1: POWIERZCHNIA POSIADANYCH WYROBÓW ZŁOŻONYCH NA POSESJI (W M2) | N1: ILOŚĆ POSIADANYCH WYROBÓW BĘDĄCYCH W UŻYCIU I ZŁOŻONYCH NA POSESJI W SUMIE (W SZT.) | O1: WAGA POSIADANYCH WYROBÓW BĘDĄCYCH W UŻYCIU I ZŁOŻONYCH NA POSESJI W SUMIE (W KG.) | P1: POWIERZCHNIA POSIADANYCH WYROBÓW BĘDĄCYCH W UŻYCIU I ZŁOŻONYCH NA POSESJI W SUMIE (W M2)
A2: Bodzanówek | B2: 1 | C2: 62 | D2: 0001 | E2: BUDYNEK GOSPODARCZY | F2: W02 | G2: 160 | H2: =(G2)*16 -> 2560 | I2: =(G2)*1.4 -> 224 | J2: II | L2: =(K2)*16 -> 0 | M2: =(K2)*1.4 -> 0 | N2: =SUM(G2,K2) -> 160 | O2: =(N2)*16 -> 2560 | P2: =(N2)*1.4 -> 224
E3: BUDYNEK GOSPODARCZY | F3: W02 | G3: 308 | H3: =(G3)*16 -> 4928 | I3: =(G3)*1.4 -> 431.2 | J3: II | L3: =(K3)*16 -> 0 | M3: =(K3)*1.4 -> 0 | N3: =SUM(G3,K3) -> 308 | O3: =(N3)*16 -> 4928 | P3: =(N3)*1.4 -> 431.2
B4: 3 | C4: 60 | E4: BUDYNEK MIESZKLNY | F4: W02 | G4: 196 | H4: =(G4)*16 -> 3136 | I4: =(G4)*1.4 -> 274.4 | J4: II | L4: =(K4)*16 -> 0 | M4: =(K4)*1.4 -> 0 | N4: =SUM(G4,K4) -> 196 | O4: =(N4)*16 -> 3136 | P4: =(N4)*1.4 -> 274.4
E5: BUDYNEK GOSPODARCZY | F5: W02 | G5: 96 | H5: =(G5)*16 -> 1536 | I5: =(G5)*1.4 -> 134.4 | J5: II | L5: =(K5)*16 -> 0 | M5: =(K5)*1.4 -> 0 | N5: =SUM(G5,K5) -> 96 | O5: =(N5)*16 -> 1536 | P5: =(N5)*1.4 -> 134.4
B6: 2 | C6: 20 | E6: BUDYNEK MIESZKLNY | F6: W02 | G6: 154 | H6: =(G6)*16 -> 2464 | I6: =(G6)*1.4 -> 215.6 | J6: II | L6: =(K6)*16 -> 0 | M6: =(K6)*1.4 -> 0 | N6: =SUM(G6,K6) -> 154 | O6: =(N6)*16 -> 2464 | P6: =(N6)*1.4 -> 215.6
E7: BUDYNEK GOSPODARCZY | F7: W02 | G7: 119 | H7: =(G7)*16 -> 1904 | I7: =(G7)*1.4 -> 166.6 | J7: II | L7: =(K7)*16 -> 0 | M7: =(K7)*1.4 -> 0 | N7: =SUM(G7,K7) -> 119 | O7: =(N7)*16 -> 1904 | P7: =(N7)*1.4 -> 166.6
E8: BUDYNEK GOSPODARCZY | F8: W02 | G8: 325 | H8: =(G8)*16 -> 5200 | I8: =(G8)*1.4 -> 455 | J8: II | L8: =(K8)*16 -> 0 | M8: =(K8)*1.4 -> 0 | N8: =SUM(G8,K8) -> 325 | O8: =(N8)*16 -> 5200 | P8: =(N8)*1.4 -> 455
E9: BUDYNEK GOSPODARCZY | F9: W02 | G9: 30 | H9: =(G9)*16 -> 480 | I9: =(G9)*1.4 -> 42 | J9: II | L9: =(K9)*16 -> 0 | M9: =(K9)*1.4 -> 0 | N9: =SUM(G9,K9) -> 30 | O9: =(N9)*16 -> 480 | P9: =(N9)*1.4 -> 42
B10: 5 | C10: 57/5 | E10: BUDYNEK MIESZKLNY | F10: W02 | G10: 216 | H10: =(G10)*16 -> 3456 | I10: =(G10)*1.4 -> 302.4 | J10: II | L10: =(K10)*16 -> 0 | M10: =(K10)*1.4 -> 0 | N10: =SUM(G10,K10) -> 216 | O10: =(N10)*16 -> 3456 | P10: =(N10)*1.4 -> 302.4
B11: PRZYSTANEK AUTOBUSOWY KOŁO 5 | C11: 57/5 | E11: BUDYNEK GOSPODARCZY | F11: W02 | G11: 25 | H11: =(G11)*16 -> 400 | I11: =(G11)*1.4 -> 35 | J11: I | L11: =(K11)*16 -> 0 | M11: =(K11)*1.4 -> 0 | N11: =SUM(G11,K11) -> 25 | O11: =(N11)*16 -> 400 | P11: =(N11)*1.4 -> 35
B12: 6 | C12: 25 | E12: BUDYNEK MIESZKALNO - GOSPODARCZY | F12: W02 | G12: 279 | H12: =(G12)*16 -> 4464 | I12: =(G12)*1.4 -> 390.6 | J12: II | L12: =(K12)*16 -> 0 | M12: =(K12)*1.4 -> 0 | N12: =SUM(G12,K12) -> 279 | O12: =(N12)*16 -> 4464 | P12: =(N12)*1.4 -> 390.6
B13: 8 | C13: 26 | E13: BUDYNEK MIESZKLNY | F13: W02 | G13: 120 | H13: =(G13)*16 -> 1920 | I13: =(G13)*1.4 -> 168 | J13: II | L13: =(K13)*16 -> 0 | M13: =(K13)*1.4 -> 0 | N13: =SUM(G13,K13) -> 120 | O13: =(N13)*16 -> 1920 | P13: =(N13)*1.4 -> 168
E14: BUDYNEK GOSPODARCZY | F14: W02 | G14: 96 | H14: =(G14)*16 -> 1536 | I14: =(G14)*1.4 -> 134.4 | J14: II | L14: =(K14)*16 -> 0 | M14: =(K14)*1.4 -> 0 | N14: =SUM(G14,K14) -> 96 | O14: =(N14)*16 -> 1536 | P14: =(N14)*1.4 -> 134.4
B15: 10 | C15: 42 | E15: BUDYNEK MIESZKLNY | F15: W02 | G15: 120 | H15: =(G15)*16 -> 1920 | I15: =(G15)*1.4 -> 168 | J15: II | L15: =(K15)*16 -> 0 | M15: =(K15)*1.4 -> 0 | N15: =SUM(G15,K15) -> 120 | O15: =(N15)*16 -> 1920 | P15: =(N15)*1.4 -> 168
E16: BUDYNEK GOSPODARCZY | F16: W02 | G16: 140 | H16: =(G16)*16 -> 2240 | I16: =(G16)*1.4 -> 196 | J16: II | L16: =(K16)*16 -> 0 | M16: =(K16)*1.4 -> 0 | N16: =SUM(G16,K16) -> 140 | O16: =(N16)*16 -> 2240 | P16: =(N16)*1.4 -> 196
E17: BUDYNEK GOSPODARCZY | F17: W02 | G17: 15 | H17: =(G17)*16 -> 240 | I17: =(G17)*1.4 -> 21 | J17: II | L17: =(K17)*16 -> 0 | M17: =(K17)*1.4 -> 0 | N17: =SUM(G17,K17) -> 15 | O17: =(N17)*16 -> 240 | P17: =(N17)*1.4 -> 21
B18: 11 | C18: 29 | E18: BUDYNEK MIESZKLNY | F18: W02 | G18: 60 | H18: =(G18)*16 -> 960 | I18: =(G18)*1.4 -> 84 | J18: II | L18: =(K18)*16 -> 0 | M18: =(K18)*1.4 -> 0 | N18: =SUM(G18,K18) -> 60 | O18: =(N18)*16 -> 960 | P18: =(N18)*1.4 -> 84
E19: BUDYNEK GOSPODARCZY | F19: W02 | G19: 84 | H19: =(G19)*16 -> 1344 | I19: =(G19)*1.4 -> 117.6 | J19: II | L19: =(K19)*16 -> 0 | M19: =(K19)*1.4 -> 0 | N19: =SUM(G19,K19) -> 84 | O19: =(N19)*16 -> 1344 | P19: =(N19)*1.4 -> 117.6
B20: 12 | C20: 30 | E20: BUDYNEK MIESZKLNY | F20: W02 | G20: 110 | H20: =(G20)*16 -> 1760 | I20: =(G20)*1.4 -> 154 | J20: II | L20: =(K20)*16 -> 0 | M20: =(K20)*1.4 -> 0 | N20: =SUM(G20,K20) -> 110 | O20: =(N20)*16 -> 1760 | P20: =(N20)*1.4 -> 154
B21: 13 | C21: 31/1 | E21: BUDYNEK GOSPODARCZY | F21: W02 | G21: 288 | H21: =(G21)*16 -> 4608 | I21: =(G21)*1.4 -> 403.2 | J21: II | L21: =(K21)*16 -> 0 | M21: =(K21)*1.4 -> 0 | N21: =SUM(G21,K21) -> 288 | O21: =(N21)*16 -> 4608 | P21: =(N21)*1.4 -> 403.2
B22: 14 | C22: 40 | E22: BUDYNEK GOSPODARCZY | F22: W02 | G22: 72 | H22: =(G22)*16 -> 1152 | I22: =(G22)*1.4 -> 100.8 | J22: II | L22: =(K22)*16 -> 0 | M22: =(K22)*1.4 -> 0 | N22: =SUM(G22,K22) -> 72 | O22: =(N22)*16 -> 1152 | P22: =(N22)*1.4 -> 100.8
E23: BUDYNEK GOSPODARCZY | F23: W02 | G23: 264 | H23: =(G23)*16 -> 4224 | I23: =(G23)*1.4 -> 369.6 | J23: II | L23: =(K23)*16 -> 0 | M23: =(K23)*1.4 -> 0 | N23: =SUM(G23,K23) -> 264 | O23: =(N23)*16 -> 4224 | P23: =(N23)*1.4 -> 369.6
B24: 15 | C24: 39/1 | E24: BUDYNEK MIESZKLNY | F24: W01 | G24: 120 | H24: =(G24)*16 -> 1920 | I24: =(G24)*1.4 -> 168 | J24: II | L24: =(K24)*16 -> 0 | M24: =(K24)*1.4 -> 0 | N24: =SUM(G24,K24) -> 120 | O24: =(N24)*16 -> 1920 | P24: =(N24)*1.4 -> 168
E25: BUDYNEK GOSPODARCZY | F25: W02 | G25: 300 | H25: =(G25)*16 -> 4800 | I25: =(G25)*1.4 -> 420 | J25: II | L25: =(K25)*16 -> 0 | M25: =(K25)*1.4 -> 0 | N25: =SUM(G25,K25) -> 300 | O25: =(N25)*16 -> 4800 | P25: =(N25)*1.4 -> 420
B26: 26 | E26: BUDYNEK GOSPODARCZY | F26: W02 | G26: 80 | H26: =(G26)*16 -> 1280 | I26: =(G26)*1.4 -> 112 | J26: II | L26: 0 | M26: 0 | N26: =SUM(G26,K26) -> 80 | O26: =(N26)*16 -> 1280 | P26: =(N26)*1.4 -> 112
B27: 26 | E27: BUDYNEK GOSPODARCZY | F27: W02 | G27: 124 | H27: =(G27)*16 -> 1984 | I27: =(G27)*1.4 -> 173.6 | J27: II | L27: 0 | M27: 0 | N27: =SUM(G27,K27) -> 124 | O27: =(N27)*16 -> 1984 | P27: =(N27)*1.4 -> 173.6
B28: 26 | E28: BUDYNEK GOSPODARCZY | F28: W02 | G28: 83 | H28: =(G28)*16 -> 1328 | I28: =(G28)*1.4 -> 116.2 | J28: II | L28: 0 | M28: 0 | N28: =SUM(G28,K28) -> 83 | O28: =(N28)*16 -> 1328 | P28: =(N28)*1.4 -> 116.2
A29: SUMA | G29: =SUM(G2:G28) -> 3984 | H29: =SUM(H2:H28) -> 63744 | I29: =SUM(I2:I28) -> 5577.6 | K29: =SUM(K2:K28) -> 0 | L29: =SUM(L2:L28) -> 0 | M29: =SUM(M2:M28) -> 0 | N29: =SUM(N2:N28) -> 3984 | O29: =SUM(O2:O28) -> 63744 | P29: =SUM(P2:P28) -> 5577.6

Sheet Borucin
A1: MIEJSCOWOŚĆ | B1: ADRES (NR. POSESJI) | C1: NR. DZIAŁKI EWIDENCYJNEJ | D1: NR. OBRĘBU EWIDENCYJNEGO | E1: RODZAJ ZABUDOWY | F1: NAZWA/RODZAJ WYROBU | G1: ILOŚĆ POSIADANYCH WYROBÓW BĘDĄCYCH W UŻYCIU (W SZT.) | H1: WAGA POSIADANYCH WYROBÓW BĘDĄCYCH W UŻYCIU (W KG.) | I1: POWIERZCHNIA POSIADANYCH WYROBÓW BĘDĄCYCH W UŻYCIU (W M2) | J1: STOPIEŃ PILNOŚCI (I-III) | K1: ILOŚĆ POSIADANYCH WYROBÓW ZŁOŻONYCH NA POSESJI (W SZT.) | L1: WAGA POSIADANYCH WYROBÓW ZŁOŻONYCH NA POSESJI (W KG.) | M1: POWIERZCHNIA POSIADANYCH WYROBÓW ZŁOŻONYCH NA POSESJI (W M2) | N1: ILOŚĆ POSIADANYCH WYROBÓW BĘDĄCYCH W UŻYCIU I ZŁOŻONYCH NA POSESJI W SUMIE (W SZT.) | O1: WAGA POSIADANYCH WYROBÓW BĘDĄCYCH W UŻYCIU I ZŁOŻONYCH NA POSESJI W SUMIE (W KG.) | P1: POWIERZCHNIA POSIADANYCH WYROBÓW BĘDĄCYCH W UŻYCIU I ZŁOŻONYCH NA POSESJI W SUMIE (W M2)
A2: Borucin | B2: 13A | C2: 63/6 | D2: 0001 | E2: BUDYNEK MIESZKALNY | F2: W02 | G2: 168 | H2: =(G2)*16 -> 2688 | I2: =(G2)*1.4 -> 235.2 | J2: II | L2: =(K2)*16 -> 0 | M2: =(K2)*1.4 -> 0 | N2: =SUM(G2,K2) -> 168 | O2: =(N2)*16 -> 2688 | P2: =(N2)*1.4 -> 235.2
B3: 13A | E3: BUDYNEK GOSPODARCZY | F3: W02 | G3: 72 | H3: =(G3)*16 -> 1152 | I3: =(G3)*1.4 -> 100.8 | J3: II | L3: =(K3)*16 -> 0 | M3: =(K3)*1.4 -> 0 | N3: =SUM(G3,K3) -> 72 | O3: =(N3)*16 -> 1152 | P3: =(N3)*1.4 -> 100.8
B4: 13 | C4: 63/4 | E4: BUDYNEK MIESZKALNY | F4: W02 | G4: 96 | H4: =(G4)*16 -> 1536 | I4: =(G4)*1.4 -> 134.4 | J4: II | L4: =(K4)*16 -> 0 | M4: =(K4)*1.4 -> 0 | N4: =SUM(G4,K4) -> 96 | O4: =(N4)*16 -> 1536 | P4: =(N4)*1.4 -> 134.4
B5: 14 | C5: 64/2 | E5: BUDYNEK GOSPODARCZY | F5: W02 | G5: 64 | H5: =(G5)*16 -> 1024 | I5: =(G5)*1.4 -> 89.6 | J5: II | L5: =(K5)*16 -> 0 | M5: =(K5)*1.4 -> 0 | N5: =SUM(G5,K5) -> 64 | O5: =(N5)*16 -> 1024 | P5: =(N5)*1.4 -> 89.6
B6: 66 | C6: 122 | E6: BUDYNEK GOSPODARCZY | F6: W02 | G6: 336 | H6: =(G6)*16 -> 5376 | I6: =(G6)*1.4 -> 470.4 | J6: II | K6: 30 | L6: =(K6)*16 -> 480 | M6: =(K6)*1.4 -> 42 | N6: =SUM(G6,K6) -> 366 | O6: =(N6)*16 -> 5856 | P6: =(N6)*1.4 -> 512.4
B7: 72 | C7: 125 | E7: BUDYNEK MIESZKALNY | F7: W02 | G7: 240 | H7: =(G7)*16 -> 3840 | I7: =(G7)*1.4 -> 336 | J7: II | L7: =(K7)*16 -> 0 | M7: =(K7)*1.4 -> 0 | N7: =SUM(G7,K7) -> 240 | O7: =(N7)*16 -> 3840 | P7: =(N7)*1.4 -> 336
B8: 72 | E8: BUDYNEK GOSPODARCZY | F8: W02 | G8: 260 | H8: =(G8)*16 -> 4160 | I8: =(G8)*1.4 -> 364 | J8: II | L8: =(K8)*16 -> 0 | M8: =(K8)*1.4 -> 0 | N8: =SUM(G8,K8) -> 260 | O8: =(N8)*16 -> 4160 | P8: =(N8)*1.4 -> 364
B9: 75 | C9: 280 | E9: BUDYNEK GOSPODARCZY | F9: W02 | G9: 750 | H9: =(G9)*16 -> 12000 | I9: =(G9)*1.4 -> 1050 | J9: II | L9: =(K9)*16 -> 0 | M9: =(K9)*1.4 -> 0 | N9: =SUM(G9,K9) -> 750 | O9: =(N9)*16 -> 12000 | P9: =(N9)*1.4 -> 1050
B10: 75 | E10: BUDYNEK GOSPODARCZY | F10: W02 | G10: 61 | H10: =(G10)*16 -> 976 | I10: =(G10)*1.4 -> 85.4 | J10: II | L10: 0 | M10: 0 | N10: =SUM(G10,K10) -> 61 | O10: =(N10)*16 -> 976 | P10: =(N10)*1.4 -> 85.4
B11: 75 | E11: BUDYNEK GOSPODARCZY | F11: W02 | G11: 610 | H11: =(G11)*16 -> 9760 | I11: =(G11)*1.4 -> 854 | J11: II | L11: =(K11)*16 -> 0 | M11: =(K11)*1.4 -> 0 | N11: =SUM(G11,K11) -> 610 | O11: =(N11)*16 -> 9760 | P11: =(N11)*1.4 -> 854
B12: 73 | C12: 108/1 | E12: BUDYNEK GOSPODARCZY | F12: W02 | G12: 50 | H12: =(G12)*16 -> 800 | I12: =(G12)*1.4 -> 70 | J12: II | L12: =(K12)*16 -> 0 | M12: =(K12)*1.4 -> 0 | N12: =SUM(G12,K12) -> 50 | O12: =(N12)*16 -> 800 | P12: =(N12)*1.4 -> 70
B13: 73 | E13: BUDYNEK GOSPODARCZY | F13: W02 | G13: 25 | H13: =(G13)*16 -> 400 | I13: =(G13)*1.4 -> 35 | J13: II | L13: =(K13)*16 -> 0 | M13: =(K13)*1.4 -> 0 | N13: =SUM(G13,K13) -> 25 | O13: =(N13)*16 -> 400 | P13: =(N13)*1.4 -> 35
B14: 73 | E14: BUDYNEK GOSPODARCZY | F14: W02 | G14: 178 | H14: =(G14)*16 -> 2848 | I14: =(G14)*1.4 -> 249.2 | J14: II | L14: =(K14)*16 -> 0 | M14: =(K14)*1.4 -> 0 | N14: =SUM(G14,K14) -> 178 | O14: =(N14)*16 -> 2848 | P14: =(N14)*1.4 -> 249.2
B15: 73 | E15: BUDYNEK GOSPODARCZY | F15: W02 | G15: 60 | H15: =(G15)*16 -> 960 | I15: =(G15)*1.4 -> 84 | J15: II | L15: =(K15)*16 -> 0 | M15: =(K15)*1.4 -> 0 | N15: =SUM(G15,K15) -> 60 | O15: =(N15)*16 -> 960 | P15: =(N15)*1.4 -> 84
B16: 81 | C16: 51 | E16: BUDYNEK MIESZKALNY | F16: W02 | G16: 99 | H16: =(G16)*16 -> 1584 | I16: =(G16)*1.4 -> 138.6 | J16: II | L16: =(K16)*16 -> 0 | M16: =(K16)*1.4 -> 0 | N16: =SUM(G16,K16) -> 99 | O16: =(N16)*16 -> 1584 | P16: =(N16)*1.4 -> 138.6
B17: 81 | E17: BUDYNEK GOSPODARCZY | F17: W02 | G17: 132 | H17: =(G17)*16 -> 2112 | I17: =(G17)*1.4 -> 184.8 | J17: II | L17: =(K17)*16 -> 0 | M17: =(K17)*1.4 -> 0 | N17: =SUM(G17,K17) -> 132 | O17: =(N17)*16 -> 2112 | P17: =(N17)*1.4 -> 184.8
B18: 81 | E18: BUDYNEK GOSPODARCZY | F18: W02 | G18: 105 | H18: =(G18)*16 -> 1680 | I18: =(G18)*1.4 -> 147 | J18: II | L18: =(K18)*16 -> 0 | M18: =(K18)*1.4 -> 0 | N18: =SUM(G18,K18) -> 105 | O18: =(N18)*16 -> 1680 | P18: =(N18)*1.4 -> 147
B19: 81 | E19: BUDYNEK GOSPODARCZY | F19: W02 | G19: 25 | H19: =(G19)*16 -> 400 | I19: =(G19)*1.4 -> 35 | J19: II | L19: =(K19)*16 -> 0 | M19: =(K19)*1.4 -> 0 | N19: =SUM(G19,K19) -> 25 | O19: =(N19)*16 -> 400 | P19: =(N19)*1.4 -> 35
B20: 105 | C20: 54 | E20: BUDYNEK MIESZKALNY | F20: W02 | G20: 203 | H20: =(G20)*16 -> 3248 | I20: =(G20)*1.4 -> 284.2 | J20: II | L20: 0 | M20: 0 | N20: =SUM(G20,K20) -> 203 | O20: =(N20)*16 -> 3248 | P20: =(N20)*1.4 -> 284.2
B21: 105 | C21: 54 | E21: BUDYNEK GOSPODARCZY | F21: W02 | G21: 190 | H21: =(G21)*16 -> 3040 | I21: =(G21)*1.4 -> 266 | J21: II | L21: 0 | M21: 0 | N21: =SUM(G21,K21) -> 190 | O21: =(N21)*16 -> 3040 | P21: =(N21)*1.4 -> 266
B22: 8 | C22: 180/3 | E22: BUDYNEK GOSPODARCZY | F22: W01 | G22: 176 | H22: =(G22)*16 -> 2816 | I22: =(G22)*1.4 -> 246.4 | J22: II | L22: =(K22)*16 -> 0 | M22: =(K22)*1.4 -> 0 | N22: =SUM(G22,K22) -> 176 | O22: =(N22)*16 -> 2816 | P22: =(N22)*1.4 -> 246.4
B23: 8 | E23: BUDYNEK GOSPODARCZY | F23: W02 | G23: 96 | H23: =(G23)*16 -> 1536 | I23: =(G23)*1.4 -> 134.4 | J23: II | L23: =(K23)*16 -> 0 | M23: =(K23)*1.4 -> 0 | N23: =SUM(G23,K23) -> 96 | O23: =(N23)*16 -> 1536 | P23: =(N23)*1.4 -> 134.4
B24: 11 | C24: 84 | E24: BUDYNEK MIESZKALNY | F24: W02 | G24: 21 | H24: =(G24)*16 -> 336 | I24: =(G24)*1.4 -> 29.4 | J24: II | L24: =(K24)*16 -> 0 | M24: =(K24)*1.4 -> 0 | N24: =SUM(G24,K24) -> 21 | O24: =(N24)*16 -> 336 | P24: =(N24)*1.4 -> 29.4
B25: 11 | E25: BUDYNEK GOSPODARCZY | F25: W02 | G25: 30 | H25: =(G25)*16 -> 480 | I25: =(G25)*1.4 -> 42 | J25: II | L25: =(K25)*16 -> 0 | M25: =(K25)*1.4 -> 0 | N25: =SUM(G25,K25) -> 30 | O25: =(N25)*16 -> 480 | P25: =(N25)*1.4 -> 42
B26: 6/2 | C26: 93/2 | E26: BUDYNEK GOSPODARCZY | F26: W02 | G26: 60 | H26: =(G26)*16 -> 960 | I26: =(G26)*1.4 -> 84 | J26: II | L26: =(K26)*16 -> 0 | M26: =(K26)*1.4 -> 0 | N26: =SUM(G26,K26) -> 60 | O26: =(N26)*16 -> 960 | P26: =(N26)*1.4 -> 84
B27: 67 | C27: 124 | E27: BUDYNEK GOSPODARCZY | F27: W02 | G27: 120 | H27: =(G27)*16 -> 1920 | I27: =(G27)*1.4 -> 168 | J27: II | L27: =(K27)*16 -> 0 | M27: =(K27)*1.4 -> 0 | N27: =SUM(G27,K27) -> 120 | O27: =(N27)*16 -> 1920 | P27: =(N27)*1.4 -> 168
B28: 68 | C28: 128 | E28: BUDYNEK MIESZKALNY | F28: W02 | G28: 91 | H28: =(G28)*16 -> 1456 | I28: =(G28)*1.4 -> 127.4 | J28: II | L28: =(K28)*16 -> 0 | M28: =(K28)*1.4 -> 0 | N28: =SUM(G28,K28) -> 91 | O28: =(N28)*16 -> 1456 | P28: =(N28)*1.4 -> 127.4
B29: 68 | E29: BUDYNEK GOSPODARCZY | F29: W02 | G29: 98 | H29: =(G29)*16 -> 1568 | I29: =(G29)*1.4 -> 137.2 | J29: II | L29: =(K29)*16 -> 0 | M29: =(K29)*1.4 -> 0 | N29: =SUM(G29,K29) -> 98 | O29: =(N29)*16 -> 1568 | P29: =(N29)*1.4 -> 137.2
B30: 68 | E30: BUDYNEK GOSPODARCZY | F30: W02 | G30: 20 | H30: =(G30)*16 -> 320 | I30: =(G30)*1.4 -> 28 | J30: II | L30: =(K30)*16 -> 0 | M30: =(K30)*1.4 -> 0 | N30: =SUM(G30,K30) -> 20 | O30: =(N30)*16 -> 320 | P30: =(N30)*1.4 -> 28
B31: 36 | E31: BUDYNEK MIESZKALNY | F31: W02 | G31: 182 | H31: =(G31)*16 -> 2912 | I31: =(G31)*1.4 -> 254.8 | J31: II | L31: 0 | M31: 0 | N31: =SUM(G31,K31) -> 182 | O31: =(N31)*16 -> 2912 | P31: =(N31)*1.4 -> 254.8
B32: 36 | E32: BUDYNEK GOSPODARCZY | F32: W01 | G32: 172 | H32: =(G32)*16 -> 2752 | I32: =(G32)*1.4 -> 240.8 | J32: II | L32: 0 | M32: 0 | N32: =SUM(G32,K32) -> 172 | O32: =(N32)*16 -> 2752 | P32: =(N32)*1.4 -> 240.8
B33: 36 | E33: BUDYNEK GOSPODRACZY | F33: W02 | G33: 270 | H33: =(G33)*16 -> 4320 | I33: =(G33)*1.4 -> 378 | J33: II | L33: 0 | M33: 0 | N33: =SUM(G33,K33) -> 270 | O33: =(N33)*16 -> 4320 | P33: =(N33)*1.4 -> 378
B34: 70 | C34: 131 | E34: BUDYNEK MIESZKALNY | F34: W01 | G34: 84 | H34: =(G34)*16 -> 1344 | I34: =(G34)*1.4 -> 117.6 | J34: II | L34: =(K34)*16 -> 0 | M34: =(K34)*1.4 -> 0 | N34: =SUM(G34,K34) -> 84 | O34: =(N34)*16 -> 1344 | P34: =(N34)*1.4 -> 117.6
B35: 70 | E35: BUDYNEK GOSPODARCZY | F35: W02 | G35: 40 | H35: =(G35)*16 -> 640 | I35: =(G35)*1.4 -> 56 | J35: II | L35: =(K35)*16 -> 0 | M35: =(K35)*1.4 -> 0 | N35: =SUM(G35,K35) -> 40 | O35: =(N35)*16 -> 640 | P35: =(N35)*1.4 -> 56
B36: 76 | C36: 97/3 | E36: BUDYNEK MIESZKALNY | F36: W02 | G36: 155 | H36: =(G36)*16 -> 2480 | I36: =(G36)*1.4 -> 217 | J36: II | L36: =(K36)*16 -> 0 | M36: =(K36)*1.4 -> 0 | N36: =SUM(G36,K36) -> 155 | O36: =(N36)*16 -> 2480 | P36: =(N36)*1.4 -> 217
B37: 76 | E37: BUDYNEK GOSPODARCZY | F37: W02 | G37: 311 | H37: =(G37)*16 -> 4976 | I37: =(G37)*1.4 -> 435.4 | J37: II | L37: =(K37)*16 -> 0 | M37: =(K37)*1.4 -> 0 | N37: =SUM(G37,K37) -> 311 | O37: =(N37)*16 -> 4976 | P37: =(N37)*1.4 -> 435.4
B38: 76 | E38: BUDYNEK GOSPODARCZY | F38: W02 | G38: 20 | H38: =(G38)*16 -> 320 | I38: =(G38)*1.4 -> 28 | J38: II | L38: =(K38)*16 -> 0 | M38: =(K38)*1.4 -> 0 | N38: =SUM(G38,K38) -> 20 | O38: =(N38)*16 -> 320 | P38: =(N38)*1.4 -> 28
B39: 82 | C39: 50 | E39: BUDYNEK MIESZKALNY | F39: W02 | G39: 112 | H39: =(G39)*16 -> 1792 | I39: =(G39)*1.4 -> 156.8 | J39: II | L39: =(K39)*16 -> 0 | M39: =(K39)*1.4 -> 0 | N39: =SUM(G39,K39) -> 112 | O39: =(N39)*16 -> 1792 | P39: =(N39)*1.4 -> 156.8
B40: 83 | C40: 49/1 | E40: BUDYNEK MIESZKALNY | F40: W01 | G40: 96 | H40: =(G40)*16 -> 1536 | I40: =(G40)*1.4 -> 134.4 | J40: II | L40: =(K40)*16 -> 0 | M40: =(K40)*1.4 -> 0 | N40: =SUM(G40,K40) -> 96 | O40: =(N40)*16 -> 1536 | P40: =(N40)*1.4 -> 134.4
B41: 83 | E41: BUDYNEK GOSPODARCZY | F41: W01 | G41: 124 | H41: =(G41)*16 -> 1984 | I41: =(G41)*1.4 -> 173.6 | J41: II | L41: =(K41)*16 -> 0 | M41: =(K41)*1.4 -> 0 | N41: =SUM(G41,K41) -> 124 | O41: =(N41)*16 -> 1984 | P41: =(N41)*1.4 -> 173.6
B42: 83 | E42: BUDYNEK GOSPODARCZY | F42: W01 | G42: 144 | H42: =(G42)*16 -> 2304 | I42: =(G42)*1.4 -> 201.6 | J42: II | L42: =(K42)*16 -> 0 | M42: =(K42)*1.4 -> 0 | N42: =SUM(G42,K42) -> 144 | O42: =(N42)*16 -> 2304 | P42: =(N42)*1.4 -> 201.6
B43: 7 | C43: 183/1 | E43: BUDYNEK MIESZKALNY | F43: W02 | G43: 90 | H43: =(G43)*16 -> 1440 | I43: =(G43)*1.4 -> 126 | J43: II | L43: =(K43)*16 -> 0 | M43: =(K43)*1.4 -> 0 | N43: =SUM(G43,K43) -> 90 | O43: =(N43)*16 -> 1440 | P43: =(N43)*1.4 -> 126
B44: 7 | E44: BUDYNEK GOSPODARCZY | F44: W02 | G44: 96 | H44: =(G44)*16 -> 1536 | I44: =(G44)*1.4 -> 134.4 | J44: II | L44: =(K44)*16 -> 0 | M44: =(K44)*1.4 -> 0 | N44: =SUM(G44,K44) -> 96 | O44: =(N44)*16 -> 1536 | P44: =(N44)*1.4 -> 134.4
B45: 7 | E45: BUDYNEK GOSPODARCZY | F45: W02 | G45: 128 | H45: =(G45)*16 -> 2048 | I45: =(G45)*1.4 -> 179.2 | J45: I | L45: =(K45)*16 -> 0 | M45: =(K45)*1.4 -> 0 | N45: =SUM(G45,K45) -> 128 | O45: =(N45)*16 -> 2048 | P45: =(N45)*1.4 -> 179.2
B46: 6 | C46: 184/1 | E46: BUDYNEK MIESZKALNY | F46: W02 | G46: 256 | H46: =(G46)*16 -> 4096 | I46: =(G46)*1.4 -> 358.4 | J46: II | L46: =(K46)*16 -> 0 | M46: =(K46)*1.4 -> 0 | N46: =SUM(G46,K46) -> 256 | O46: =(N46)*16 -> 4096 | P46: =(N46)*1.4 -> 358.4
B47: 6 | E47: BUDYNEK GOSPODARCZY | F47: W02 | G47: 128 | H47: =(G47)*16 -> 2048 | I47: =(G47)*1.4 -> 179.2 | J47: II | L47: =(K47)*16 -> 0 | M47: =(K47)*1.4 -> 0 | N47: =SUM(G47,K47) -> 128 | O47: =(N47)*16 -> 2048 | P47: =(N47)*1.4 -> 179.2
B48: 65 | C48: 120 | E48: BUDYNEK MIESZKALNY | F48: W02 | G48: 135.5 | H48: =(G48)*16 -> 2168 | I48: =(G48)*1.4 -> 189.7 | J48: II | L48: =(K48)*16 -> 0 | M48: =(K48)*1.4 -> 0 | N48: =SUM(G48,K48) -> 135.5 | O48: =(N48)*16 -> 2168 | P48: =(N48)*1.4 -> 189.7
B49: 65 | E49: BUDYNEK GOSPODARCZY | F49: W02 | G49: 180 | H49: =(G49)*16 -> 2880 | I49: =(G49)*1.4 -> 252 | J49: II | L49: =(K49)*16 -> 0 | M49: =(K49)*1.4 -> 0 | N49: =SUM(G49,K49) -> 180 | O49: =(N49)*16 -> 2880 | P49: =(N49)*1.4 -> 252
B50: 65 | E50: BUDYNEK GOSPODARCZY | F50: W02 | G50: 25 | H50: =(G50)*16 -> 400 | I50: =(G50)*1.4 -> 35 | J50: II | L50: =(K50)*16 -> 0 | M50: =(K50)*1.4 -> 0 | N50: =SUM(G50,K50) -> 25 | O50: =(N50)*16 -> 400 | P50: =(N50)*1.4 -> 35
B51: 71 | C51: 114 | E51: BUDYNEK MIESZKALNY | F51: W02 | G51: 126 | H51: =(G51)*16 -> 2016 | I51: =(G51)*1.4 -> 176.4 | J51: II | L51: =(K51)*16 -> 0 | M51: =(K51)*1.4 -> 0 | N51: =SUM(G51,K51) -> 126 | O51: =(N51)*16 -> 2016 | P51: =(N51)*1.4 -> 176.4
B52: 69 | C52: 130 | E52: BUDYNEK MIESZKALNY | F52: W02 | G52: 118 | H52: =(G52)*16 -> 1888 | I52: =(G52)*1.4 -> 165.2 | J52: II | K52: 10 | L52: =(K52)*16 -> 160 | M52: =(K52)*1.4 -> 14 | N52: =SUM(G52,K52) -> 128 | O52: =(N52)*16 -> 2048 | P52: =(N52)*1.4 -> 179.2
B53: 69 | E53: BUDYNEK GOSPODARCZY | F53: W02 | G53: 15 | H53: =(G53)*16 -> 240 | I53: =(G53)*1.4 -> 21 | J53: II | L53: =(K53)*16 -> 0 | M53: =(K53)*1.4 -> 0 | N53: =SUM(G53,K53) -> 15 | O53: =(N53)*16 -> 240 | P53: =(N53)*1.4 -> 21
B54: 69 | E54: BUDYNEK GOSPODARCZY | F54: W02 | G54: 9 | H54: =(G54)*16 -> 144 | I54: =(G54)*1.4 -> 12.6 | J54: II | L54: =(K54)*16 -> 0 | M54: =(K54)*1.4 -> 0 | N54: =SUM(G54,K54) -> 9 | O54: =(N54)*16 -> 144 | P54: =(N54)*1.4 -> 12.6
B55: 88 | C55: 40/2 | E55: BUDYNEK MIESZKALNY | F55: W01 | G55: 120 | H55: =(G55)*16 -> 1920 | I55: =(G55)*1.4 -> 168 | J55: II | L55: =(K55)*16 -> 0 | M55: =(K55)*1.4 -> 0 | N55: =SUM(G55,K55) -> 120 | O55: =(N55)*16 -> 1920 | P55: =(N55)*1.4 -> 168
B56: 88 | E56: BUDYNEK GOSPODARCZY | F56: W02 | G56: 350 | H56: =(G56)*16 -> 5600 | I56: =(G56)*1.4 -> 490 | J56: II | L56: =(K56)*16 -> 0 | M56: =(K56)*1.4 -> 0 | N56: =SUM(G56,K56) -> 350 | O56: =(N56)*16 -> 5600 | P56: =(N56)*1.4 -> 490
B57: 88 | E57: BUDYNEK GOSPODARCZY | F57: W02 | G57: 160 | H57: =(G57)*16 -> 2560 | I57: =(G57)*1.4 -> 224 | J57: II | L57: =(K57)*16 -> 0 | M57: =(K57)*1.4 -> 0 | N57: =SUM(G57,K57) -> 160 | O57: =(N57)*16 -> 2560 | P57: =(N57)*1.4 -> 224
B58: 88 | E58: BUDYNEK GOSPODARCZY | F58: W02 | G58: 160 | H58: =(G58)*16 -> 2560 | I58: =(G58)*1.4 -> 224 | J58: II | L58: =(K58)*16 -> 0 | M58: =(K58)*1.4 -> 0 | N58: =SUM(G58,K58) -> 160 | O58: =(N58)*16 -> 2560 | P58: =(N58)*1.4 -> 224
B59: 88 | E59: BUDYNEK GOSPODARCZY | F59: W02 | G59: 208 | H59: =(G59)*16 -> 3328 | I59: =(G59)*1.4 -> 291.2 | J59: II | L59: =(K59)*16 -> 0 | M59: =(K59)*1.4 -> 0 | N59: =SUM(G59,K59) -> 208 | O59: =(N59)*16 -> 3328 | P59: =(N59)*1.4 -> 291.2
B60: 79 | C60: 70/1 | E60: BUDYNEK MIESZKALNY | F60: W02 | G60: 144 | H60: =(G60)*16 -> 2304 | I60: =(G60)*1.4 -> 201.6 | J60: II | L60: =(K60)*16 -> 0 | M60: =(K60)*1.4 -> 0 | N60: =SUM(G60,K60) -> 144 | O60: =(N60)*16 -> 2304 | P60: =(N60)*1.4 -> 201.6
B61: 79 | E61: BUDYNEK GOSPODARCZY | F61: W02 | G61: 48 | H61: =(G61)*16 -> 768 | I61: =(G61)*1.4 -> 67.2 | J61: II | L61: =(K61)*16 -> 0 | M61: =(K61)*1.4 -> 0 | N61: =SUM(G61,K61) -> 48 | O61: =(N61)*16 -> 768 | P61: =(N61)*1.4 -> 67.2
B62: 78 | C62: 73/1 | E62: BUDYNEK MIESZKALNY | F62: W02 | G62: 112 | H62: =(G62)*16 -> 1792 | I62: =(G62)*1.4 -> 156.8 | J62: II | L62: =(K62)*16 -> 0 | M62: =(K62)*1.4 -> 0 | N62: =SUM(G62,K62) -> 112 | O62: =(N62)*16 -> 1792 | P62: =(N62)*1.4 -> 156.8
B63: 78 | E63: BUDYNEK GOSPODARCZY | F63: W02 | G63: 154 | H63: =(G63)*16 -> 2464 | I63: =(G63)*1.4 -> 215.6 | J63: II | L63: =(K63)*16 -> 0 | M63: =(K63)*1.4 -> 0 | N63: =SUM(G63,K63) -> 154 | O63: =(N63)*16 -> 2464 | P63: =(N63)*1.4 -> 215.6
B64: 80 | C64: 69/1 | E64: BUDYNEK MIESZKALNY | F64: W02 | G64: 112 | H64: =(G64)*16 -> 1792 | I64: =(G64)*1.4 -> 156.8 | J64: I | L64: =(K64)*16 -> 0 | M64: =(K64)*1.4 -> 0 | N64: =SUM(G64,K64) -> 112 | O64: =(N64)*16 -> 1792 | P64: =(N64)*1.4 -> 156.8
B65: 84 | C65: 67/1 | E65: BUDYNEK MIESZKALNY | F65: W02 | G65: 160 | H65: =(G65)*16 -> 2560 | I65: =(G65)*1.4 -> 224 | J65: II | L65: =(K65)*16 -> 0 | M65: =(K65)*1.4 -> 0 | N65: =SUM(G65,K65) -> 160 | O65: =(N65)*16 -> 2560 | P65: =(N65)*1.4 -> 224
B66: 84 | E66: BUDYNEK GOSPODARCZY | F66: W02 | G66: 240 | H66: =(G66)*16 -> 3840 | I66: =(G66)*1.4 -> 336 | J66: II | L66: =(K66)*16 -> 0 | M66: =(K66)*1.4 -> 0 | N66: =SUM(G66,K66) -> 240 | O66: =(N66)*16 -> 3840 | P66: =(N66)*1.4 -> 336
B67: 84 | E67: BUDYNEK GOSPODARCZY | F67: W01 | G67: 120 | H67: =(G67)*16 -> 1920 | I67: =(G67)*1.4 -> 168 | J67: I | L67: =(K67)*16 -> 0 | M67: =(K67)*1.4 -> 0 | N67: =SUM(G67,K67) -> 120 | O67: =(N67)*16 -> 1920 | P67: =(N67)*1.4 -> 168
B68: 86 | C68: 42/1 | E68: BUDYNEK GOSPODARCZY | F68: W02 | G68: 84 | H68: =(G68)*16 -> 1344 | I68: =(G68)*1.4 -> 117.6 | J68: II | L68: =(K68)*16 -> 0 | M68: =(K68)*1.4 -> 0 | N68: =SUM(G68,K68) -> 84 | O68: =(N68)*16 -> 1344 | P68: =(N68)*1.4 -> 117.6
B69: 86 | E69: BUDYNEK GOSPODARCZY | F69: W02 | G69: 200 | H69: =(G69)*16 -> 3200 | I69: =(G69)*1.4 -> 280 | J69: II | L69: =(K69)*16 -> 0 | M69: =(K69)*1.4 -> 0 | N69: =SUM(G69,K69) -> 200 | O69: =(N69)*16 -> 3200 | P69: =(N69)*1.4 -> 280
B70: 86 | E70: BUDYNEK GOSPODARCZY | F70: W01 | G70: 200 | H70: =(G70)*16 -> 3200 | I70: =(G70)*1.4 -> 280 | J70: II | L70: =(K70)*16 -> 0 | M70: =(K70)*1.4 -> 0 | N70: =SUM(G70,K70) -> 200 | O70: =(N70)*16 -> 3200 | P70: =(N70)*1.4 -> 280
B71: 86 | E71: BUDYNEK GOSPODARCZY | F71: W02 | G71: 16 | H71: =(G71)*16 -> 256 | I71: =(G71)*1.4 -> 22.4 | J71: II | L71: =(K71)*16 -> 0 | M71: =(K71)*1.4 -> 0 | N71: =SUM(G71,K71) -> 16 | O71: =(N71)*16 -> 256 | P71: =(N71)*1.4 -> 22.4
B72: 85 | C72: 43/6 | E72: BUDYNEK MIESZKALNY | F72: W02 | G72: 143 | H72: =(G72)*16 -> 2288 | I72: =(G72)*1.4 -> 200.2 | J72: II | L72: =(K72)*16 -> 0 | M72: =(K72)*1.4 -> 0 | N72: =SUM(G72,K72) -> 143 | O72: =(N72)*16 -> 2288 | P72: =(N72)*1.4 -> 200.2
B73: 85 | E73: BUDYNEK GOSPODARCZY | F73: W02 | G73: 140 | H73: =(G73)*16 -> 2240 | I73: =(G73)*1.4 -> 196 | J73: II | L73: =(K73)*16 -> 0 | M73: =(K73)*1.4 -> 0 | N73: =SUM(G73,K73) -> 140 | O73: =(N73)*16 -> 2240 | P73: =(N73)*1.4 -> 196
B74: 85 | E74: BUDYNEK GOSPODARCZY | F74: W02 | G74: 360 | H74: =(G74)*16 -> 5760 | I74: =(G74)*1.4 -> 504 | J74: II | L74: =(K74)*16 -> 0 | M74: =(K74)*1.4 -> 0 | N74: =SUM(G74,K74) -> 360 | O74: =(N74)*16 -> 5760 | P74: =(N74)*1.4 -> 504
B75: 87 | C75: 59/2 | E75: BUDYNEK MIESZKALNY | F75: W02 | G75: 132 | H75: =(G75)*16 -> 2112 | I75: =(G75)*1.4 -> 184.8 | J75: II | L75: =(K75)*16 -> 0 | M75: =(K75)*1.4 -> 0 | N75: =SUM(G75,K75) -> 132 | O75: =(N75)*16 -> 2112 | P75: =(N75)*1.4 -> 184.8
B76: 87 | E76: BUDYNEK GOSPODARCZY | F76: W02 | G76: 84 | H76: =(G76)*16 -> 1344 | I76: =(G76)*1.4 -> 117.6 | J76: I | L76: =(K76)*16 -> 0 | M76: =(K76)*1.4 -> 0 | N76: =SUM(G76,K76) -> 84 | O76: =(N76)*16 -> 1344 | P76: =(N76)*1.4 -> 117.6
B77: 42 | C77: 236/7 | E77: BUDYNEK MIESZKALNY | F77: W02 | G77: 96 | H77: =(G77)*16 -> 1536 | I77: =(G77)*1.4 -> 134.4 | J77: II | L77: =(K77)*16 -> 0 | M77: =(K77)*1.4 -> 0 | N77: =SUM(G77,K77) -> 96 | O77: =(N77)*16 -> 1536 | P77: =(N77)*1.4 -> 134.4
B78: 42 | E78: BUDYNEK GOSPODARCZY | F78: W02 | G78: 66 | H78: =(G78)*16 -> 1056 | I78: =(G78)*1.4 -> 92.4 | J78: II | L78: =(K78)*16 -> 0 | M78: =(K78)*1.4 -> 0 | N78: =SUM(G78,K78) -> 66 | O78: =(N78)*16 -> 1056 | P78: =(N78)*1.4 -> 92.4
B79: 41 | C79: 157/1 | E79: BUDYNEK MIESZKALNY | F79: W02 | G79: 165 | H79: =(G79)*16 -> 2640 | I79: =(G79)*1.4 -> 231 | J79: II | L79: =(K79)*16 -> 0 | M79: =(K79)*1.4 -> 0 | N79: =SUM(G79,K79) -> 165 | O79: =(N79)*16 -> 2640 | P79: =(N79)*1.4 -> 231
B80: 41 | E80: BUDYNEK GOSPODARCZY | F80: W02 | G80: 176 | H80: =(G80)*16 -> 2816 | I80: =(G80)*1.4 -> 246.4 | J80: II | L80: =(K80)*16 -> 0 | M80: =(K80)*1.4 -> 0 | N80: =SUM(G80,K80) -> 176 | O80: =(N80)*16 -> 2816 | P80: =(N80)*1.4 -> 246.4
B81: 41 | E81: BUDYNEK GOSPODARCZY | F81: W02 | G81: 96 | H81: =(G81)*16 -> 1536 | I81: =(G81)*1.4 -> 134.4 | J81: II | L81: =(K81)*16 -> 0 | M81: =(K81)*1.4 -> 0 | N81: =SUM(G81,K81) -> 96 | O81: =(N81)*16 -> 1536 | P81: =(N81)*1.4 -> 134.4
B82: 34 | C82: 146 | E82: BUDYNEK GOSPODARCZY | F82: W02 | G82: 330 | H82: =(G82)*16 -> 5280 | I82: =(G82)*1.4 -> 462 | J82: III | L82: =(K82)*16 -> 0 | M82: =(K82)*1.4 -> 0 | N82: =SUM(G82,K82) -> 330 | O82: =(N82)*16 -> 5280 | P82: =(N82)*1.4 -> 462
B83: 34 | E83: BUDYNEK GOSPODARCZY | F83: W02 | G83: 275 | H83: =(G83)*16 -> 4400 | I83: =(G83)*1.4 -> 385 | J83: III | L83: =(K83)*16 -> 0 | M83: =(K83)*1.4 -> 0 | N83: =SUM(G83,K83) -> 275 | O83: =(N83)*16 -> 4400 | P83: =(N83)*1.4 -> 385
B84: 34 | E84: BUDYNEK GOSPODARCZY | F84: W02 | G84: 350 | H84: =(G84)*16 -> 5600 | I84: =(G84)*1.4 -> 490 | J84: III | L84: =(K84)*16 -> 0 | M84: =(K84)*1.4 -> 0 | N84: =SUM(G84,K84) -> 350 | O84: =(N84)*16 -> 5600 | P84: =(N84)*1.4 -> 490
B85: 64 | C85: 172/2 | E85: BUDYNEK MIESZKALNY | F85: W02 | G85: 120 | H85: =(G85)*16 -> 1920 | I85: =(G85)*1.4 -> 168 | J85: II | L85: =(K85)*16 -> 0 | M85: =(K85)*1.4 -> 0 | N85: =SUM(G85,K85) -> 120 | O85: =(N85)*16 -> 1920 | P85: =(N85)*1.4 -> 168
B86: 64 | E86: BUDYNEK GOSPODARCZY | F86: W02 | G86: 70 | H86: =(G86)*16 -> 1120 | I86: =(G86)*1.4 -> 98 | J86: II | L86: =(K86)*16 -> 0 | M86: =(K86)*1.4 -> 0 | N86: =SUM(G86,K86) -> 70 | O86: =(N86)*16 -> 1120 | P86: =(N86)*1.4 -> 98
B87: 54 | C87: 255 | E87: BUDYNEK MIESZKALNY | F87: W02 | G87: 155 | H87: =(G87)*16 -> 2480 | I87: =(G87)*1.4 -> 217 | J87: II | L87: =(K87)*16 -> 0 | M87: =(K87)*1.4 -> 0 | N87: =SUM(G87,K87) -> 155 | O87: =(N87)*16 -> 2480 | P87: =(N87)*1.4 -> 217
B88: 54 | E88: BUDYNEK GOSPODARCZY | F88: W02 | G88: 336 | H88: =(G88)*16 -> 5376 | I88: =(G88)*1.4 -> 470.4 | J88: II | L88: =(K88)*16 -> 0 | M88: =(K88)*1.4 -> 0 | N88: =SUM(G88,K88) -> 336 | O88: =(N88)*16 -> 5376 | P88: =(N88)*1.4 -> 470.4
B89: 54 | E89: BUDYNEK GOSPODARCZY | F89: W02 | G89: 96 | H89: =(G89)*16 -> 1536 | I89: =(G89)*1.4 -> 134.4 | J89: II | L89: =(K89)*16 -> 0 | M89: =(K89)*1.4 -> 0 | N89: =SUM(G89,K89) -> 96 | O89: =(N89)*16 -> 1536 | P89: =(N89)*1.4 -> 134.4
B90: 50 | C90: 247/2 | E90: BUDYNEK MIESZKALNY | F90: W02 | G90: 144 | H90: =(G90)*16 -> 2304 | I90: =(G90)*1.4 -> 201.6 | J90: II | L90: =(K90)*16 -> 0 | M90: =(K90)*1.4 -> 0 | N90: =SUM(G90,K90) -> 144 | O90: =(N90)*16 -> 2304 | P90: =(N90)*1.4 -> 201.6
B91: 50 | E91: BUDYNEK GOSPODARCZY | F91: W02 | G91: 440 | H91: =(G91)*16 -> 7040 | I91: =(G91)*1.4 -> 616 | J91: II | L91: =(K91)*16 -> 0 | M91: =(K91)*1.4 -> 0 | N91: =SUM(G91,K91) -> 440 | O91: =(N91)*16 -> 7040 | P91: =(N91)*1.4 -> 616
B92: 50 | E92: BUDYNEK GOSPODARCZY | F92: W02 | G92: 176 | H92: =(G92)*16 -> 2816 | I92: =(G92)*1.4 -> 246.4 | J92: II | L92: =(K92)*16 -> 0 | M92: =(K92)*1.4 -> 0 | N92: =SUM(G92,K92) -> 176 | O92: =(N92)*16 -> 2816 | P92: =(N92)*1.4 -> 246.4
B93: 40 | C93: 156/4 | E93: BUDYNEK MIESZKALNY | F93: W02 | G93: 160 | H93: =(G93)*16 -> 2560 | I93: =(G93)*1.4 -> 224 | J93: II | L93: =(K93)*16 -> 0 | M93: =(K93)*1.4 -> 0 | N93: =SUM(G93,K93) -> 160 | O93: =(N93)*16 -> 2560 | P93: =(N93)*1.4 -> 224
B94: 38 | C94: 153/1 | E94: BUDYNEK MIESZKALNY | F94: W02 | G94: 192 | H94: =(G94)*16 -> 3072 | I94: =(G94)*1.4 -> 268.8 | J94: II | L94: =(K94)*16 -> 0 | M94: =(K94)*1.4 -> 0 | N94: =SUM(G94,K94) -> 192 | O94: =(N94)*16 -> 3072 | P94: =(N94)*1.4 -> 268.8
B95: 38 | E95: BUDYNEK GOSPODARCZY | F95: W02 | G95: 200 | H95: =(G95)*16 -> 3200 | I95: =(G95)*1.4 -> 280 | J95: II | L95: =(K95)*16 -> 0 | M95: =(K95)*1.4 -> 0 | N95: =SUM(G95,K95) -> 200 | O95: =(N95)*16 -> 3200 | P95: =(N95)*1.4 -> 280
B96: 38 | E96: BUDYNEK GOSPODARCZY | F96: W02 | G96: 180 | H96: =(G96)*16 -> 2880 | I96: =(G96)*1.4 -> 252 | J96: II | L96: =(K96)*16 -> 0 | M96: =(K96)*1.4 -> 0 | N96: =SUM(G96,K96) -> 180 | O96: =(N96)*16 -> 2880 | P96: =(N96)*1.4 -> 252
B97: 35 | C97: 147 | E97: BUDYNEK GOSPODARCZY | F97: W02 | G97: 364 | H97: =(G97)*16 -> 5824 | I97: =(G97)*1.4 -> 509.6 | J97: III | L97: =(K97)*16 -> 0 | M97: =(K97)*1.4 -> 0 | N97: =SUM(G97,K97) -> 364 | O97: =(N97)*16 -> 5824 | P97: =(N97)*1.4 -> 509.6
B98: 35 | E98: BUDYNEK GOSPODARCZY | F98: W01 | G98: 160 | H98: =(G98)*16 -> 2560 | I98: =(G98)*1.4 -> 224 | J98: II | L98: =(K98)*16 -> 0 | M98: =(K98)*1.4 -> 0 | N98: =SUM(G98,K98) -> 160 | O98: =(N98)*16 -> 2560 | P98: =(N98)*1.4 -> 224
B99: 33 | C99: 141/2 | E99: BUDYNEK MIESZKALNY | F99: W02 | G99: 160 | H99: =(G99)*16 -> 2560 | I99: =(G99)*1.4 -> 224 | J99: II | L99: =(K99)*16 -> 0 | M99: =(K99)*1.4 -> 0 | N99: =SUM(G99,K99) -> 160 | O99: =(N99)*16 -> 2560 | P99: =(N99)*1.4 -> 224
B100: 33 | E100: BUDYNEK GOSPODARCZY | F100: W02 | G100: 70 | H100: =(G100)*16 -> 1120 | I100: =(G100)*1.4 -> 98 | J100: II | L100: =(K100)*16 -> 0 | M100: =(K100)*1.4 -> 0 | N100: =SUM(G100,K100) -> 70 | O100: =(N100)*16 -> 1120 | P100: =(N100)*1.4 -> 98
...

Sheet Borucinek
A1: MIEJSCOWOŚĆ | B1: ADRES (NR. POSESJI) | C1: NR. DZIAŁKI EWIDENCYJNEJ | D1: NR. OBRĘBU EWIDENCYJNEGO | E1: RODZAJ ZABUDOWY | F1: NAZWA/RODZAJ WYROBU | G1: ILOŚĆ POSIADANYCH WYROBÓW BĘDĄCYCH W UŻYCIU (W SZT.) | H1: WAGA POSIADANYCH WYROBÓW BĘDĄCYCH W UŻYCIU (W KG.) | I1: POWIERZCHNIA POSIADANYCH WYROBÓW BĘDĄCYCH W UŻYCIU (W M2) | J1: STOPIEŃ PILNOŚCI (I-III) | K1: ILOŚĆ POSIADANYCH WYROBÓW ZŁOŻONYCH NA POSESJI (W SZT.) | L1: WAGA POSIADANYCH WYROBÓW ZŁOŻONYCH NA POSESJI (W KG.) | M1: POWIERZCHNIA POSIADANYCH WYROBÓW ZŁOŻONYCH NA POSESJI (W M2) | N1: ILOŚĆ POSIADANYCH WYROBÓW BĘDĄCYCH W UŻYCIU I ZŁOŻONYCH NA POSESJI W SUMIE (W SZT.) | O1: WAGA POSIADANYCH WYROBÓW BĘDĄCYCH W UŻYCIU I ZŁOŻONYCH NA POSESJI W SUMIE (W KG.) | P1: POWIERZCHNIA POSIADANYCH WYROBÓW BĘDĄCYCH W UŻYCIU I ZŁOŻONYCH NA POSESJI W SUMIE (W M2)
A2: Borucinek | B2: 64 | C2: 165/1 | D2: 0001 | E2: BUDYNEK GOSPODARCZY | F2: W02 | G2: 253 | H2: =(G2)*16 -> 4048 | I2: =(G2)*1.4 -> 354.2 | J2: II | K2: 132 | L2: =(K2)*16 -> 2112 | M2: =(K2)*1.4 -> 184.8 | N2: =SUM(G2,K2) -> 385 | O2: =(N2)*16 -> 6160 | P2: =(N2)*1.4 -> 539
B3: 64 | C3: 165/1 | E3: BUDYNEK MIESZKALNY | F3: W01 | G3: 0 | H3: 0 | I3: 0 | J3: II | K3: 103 | L3: 2884 | M3: 144.2 | P3: =(N3)*1.4 -> 0
B4: 48 | C4: 34/1 | E4: BUDYNEK MIESZKALNY | F4: W02 | G4: 240 | H4: =(G4)*16 -> 3840 | I4: =(G4)*1.4 -> 336 | J4: II | L4: =(K4)*16 -> 0 | M4: =(K4)*1.4 -> 0 | N4: =SUM(G4,K4) -> 240 | O4: =(N4)*16 -> 3840 | P4: =(N4)*1.4 -> 336
B5: 48 | E5: BUDYNEK GOSPODARCZY | F5: W02 | G5: 144 | H5: =(G5)*16 -> 2304 | I5: =(G5)*1.4 -> 201.6 | J5: II | L5: =(K5)*16 -> 0 | M5: =(K5)*1.4 -> 0 | N5: =SUM(G5,K5) -> 144 | O5: =(N5)*16 -> 2304 | P5: =(N5)*1.4 -> 201.6
B6: 48 | E6: BUDYNEK GOSPODARCZY | F6: W02 | G6: 64 | H6: =(G6)*16 -> 1024 | I6: =(G6)*1.4 -> 89.6 | J6: II | L6: =(K6)*16 -> 0 | M6: =(K6)*1.4 -> 0 | N6: =SUM(G6,K6) -> 64 | O6: =(N6)*16 -> 1024 | P6: =(N6)*1.4 -> 89.6
B7: 51 | C7: 47/1 | E7: BUDYNEK GOSPODARCZY | F7: W02 | G7: 348 | H7: =(G7)*16 -> 5568 | I7: =(G7)*1.4 -> 487.2 | J7: II | L7: =(K7)*16 -> 0 | M7: =(K7)*1.4 -> 0 | N7: =SUM(G7,K7) -> 348 | O7: =(N7)*16 -> 5568 | P7: =(N7)*1.4 -> 487.2
B8: 51 | E8: BUDYNEK GOSPODARCZY | F8: W02 | G8: 220 | H8: =(G8)*16 -> 3520 | I8: =(G8)*1.4 -> 308 | J8: II | L8: =(K8)*16 -> 0 | M8: =(K8)*1.4 -> 0 | N8: =SUM(G8,K8) -> 220 | O8: =(N8)*16 -> 3520 | P8: =(N8)*1.4 -> 308
B9: 57 | C9: 135/1 | E9: BUDYNEK MIESZKALNY | F9: W02 | G9: 110 | H9: =(G9)*16 -> 1760 | I9: =(G9)*1.4 -> 154 | J9: II | L9: =(K9)*16 -> 0 | M9: =(K9)*1.4 -> 0 | N9: =SUM(G9,K9) -> 110 | O9: =(N9)*16 -> 1760 | P9: =(N9)*1.4 -> 154
B10: 57 | E10: BUDYNEK GOSPODARCZY | F10: W02 | G10: 135 | H10: =(G10)*16 -> 2160 | I10: =(G10)*1.4 -> 189 | J10: II | L10: =(K10)*16 -> 0 | M10: =(K10)*1.4 -> 0 | N10: =SUM(G10,K10) -> 135 | O10: =(N10)*16 -> 2160 | P10: =(N10)*1.4 -> 189
B11: 57 | E11: BUDYNEK GOSPODARCZY | F11: W02 | G11: 180 | H11: =(G11)*16 -> 2880 | I11: =(G11)*1.4 -> 252 | J11: II | L11: =(K11)*16 -> 0 | M11: =(K11)*1.4 -> 0 | N11: =SUM(G11,K11) -> 180 | O11: =(N11)*16 -> 2880 | P11: =(N11)*1.4 -> 252
B12: 57 | E12: BUDYNEK GOSPODARCZY | F12: W02 | G12: 76.5 | H12: =(G12)*16 -> 1224 | I12: =(G12)*1.4 -> 107.1 | J12: II | L12: =(K12)*16 -> 0 | M12: =(K12)*1.4 -> 0 | N12: =SUM(G12,K12) -> 76.5 | O12: =(N12)*16 -> 1224 | P12: =(N12)*1.4 -> 107.1
B13: 29 | C13: 234 | E13: BUDYNEK GOSPODARCZY | F13: W02 | G13: 200 | H13: =(G13)*16 -> 3200 | I13: =(G13)*1.4 -> 280 | J13: I | L13: =(K13)*16 -> 0 | M13: =(K13)*1.4 -> 0 | N13: =SUM(G13,K13) -> 200 | O13: =(N13)*16 -> 3200 | P13: =(N13)*1.4 -> 280
B14: 29 | E14: BUDYNEK GOSPODARCZY | F14: W02 | G14: 144 | H14: =(G14)*16 -> 2304 | I14: =(G14)*1.4 -> 201.6 | J14: II | L14: =(K14)*16 -> 0 | M14: =(K14)*1.4 -> 0 | N14: =SUM(G14,K14) -> 144 | O14: =(N14)*16 -> 2304 | P14: =(N14)*1.4 -> 201.6
B15: 10 | C15: 200/1 | E15: BUDYNEK GOSPODARCZY | F15: W02 | G15: 140 | H15: =(G15)*16 -> 2240 | I15: =(G15)*1.4 -> 196 | J15: II | L15: =(K15)*16 -> 0 | M15: =(K15)*1.4 -> 0 | N15: =SUM(G15,K15) -> 140 | O15: =(N15)*16 -> 2240 | P15: =(N15)*1.4 -> 196
B16: 10 | E16: BUDYNEK GOSPODARCZY | F16: W02 | G16: 240 | H16: =(G16)*16 -> 3840 | I16: =(G16)*1.4 -> 336 | J16: II | L16: =(K16)*16 -> 0 | M16: =(K16)*1.4 -> 0 | N16: =SUM(G16,K16) -> 240 | O16: =(N16)*16 -> 3840 | P16: =(N16)*1.4 -> 336
B17: 22 | C17: 237 | E17: BUDYNEK MIESZKALNY | F17: W02 | G17: 0 | H17: =(G17)*16 -> 0 | I17: =(G17)*1.4 -> 0 | J17: III | K17: 248 | L17: =(K17)*16 -> 3968 | M17: =(K17)*1.4 -> 347.2 | N17: =SUM(G17,K17) -> 248 | O17: =(N17)*16 -> 3968 | P17: =(N17)*1.4 -> 347.2
B18: 11 | C18: 202 | E18: BUDYNEK MIESZKALNY | F18: W02 | G18: 154 | H18: =(G18)*16 -> 2464 | I18: =(G18)*1.4 -> 215.6 | J18: II | L18: =(K18)*16 -> 0 | M18: =(K18)*1.4 -> 0 | N18: =SUM(G18,K18) -> 154 | O18: =(N18)*16 -> 2464 | P18: =(N18)*1.4 -> 215.6
B19: 11 | E19: BUDYNEK GOSPODARCZY | F19: W02 | G19: 220 | H19: =(G19)*16 -> 3520 | I19: =(G19)*1.4 -> 308 | J19: II | L19: =(K19)*16 -> 0 | M19: =(K19)*1.4 -> 0 | N19: =SUM(G19,K19) -> 220 | O19: =(N19)*16 -> 3520 | P19: =(N19)*1.4 -> 308
B20: 3 | C20: 163/1 | E20: BUDYNEK GOSPODARCZY | F20: W02 | G20: 180 | H20: =(G20)*16 -> 2880 | I20: =(G20)*1.4 -> 252 | J20: II | L20: =(K20)*16 -> 0 | M20: =(K20)*1.4 -> 0 | N20: =SUM(G20,K20) -> 180 | O20: =(N20)*16 -> 2880 | P20: =(N20)*1.4 -> 252
B21: 60 | C21: 132 | E21: BUDYNEK MIESZKALNY | F21: W02 | G21: 96 | H21: =(G21)*16 -> 1536 | I21: =(G21)*1.4 -> 134.4 | J21: II | L21: =(K21)*16 -> 0 | M21: =(K21)*1.4 -> 0 | N21: =SUM(G21,K21) -> 96 | O21: =(N21)*16 -> 1536 | P21: =(N21)*1.4 -> 134.4
B22: 60 | E22: BUDYNEK GOSPODARCZY | F22: W02 | G22: 152 | H22: =(G22)*16 -> 2432 | I22: =(G22)*1.4 -> 212.8 | J22: II | L22: =(K22)*16 -> 0 | M22: =(K22)*1.4 -> 0 | N22: =SUM(G22,K22) -> 152 | O22: =(N22)*16 -> 2432 | P22: =(N22)*1.4 -> 212.8
B23: 60 | E23: BUDYNEK GOSPODARCZY | F23: W02 | G23: 144 | H23: =(G23)*16 -> 2304 | I23: =(G23)*1.4 -> 201.6 | J23: II | L23: =(K23)*16 -> 0 | M23: =(K23)*1.4 -> 0 | N23: =SUM(G23,K23) -> 144 | O23: =(N23)*16 -> 2304 | P23: =(N23)*1.4 -> 201.6
B24: 60 | E24: BUDYNEK GOSPODARCZY | F24: W02 | G24: 16 | H24: =(G24)*16 -> 256 | I24: =(G24)*1.4 -> 22.4 | J24: II | L24: =(K24)*16 -> 0 | M24: =(K24)*1.4 -> 0 | N24: =SUM(G24,K24) -> 16 | O24: =(N24)*16 -> 256 | P24: =(N24)*1.4 -> 22.4
B25: 55 | C25: 139 | E25: BUDYNEK MIESZKALNY | F25: W02 | G25: 110 | H25: =(G25)*16 -> 1760 | I25: =(G25)*1.4 -> 154 | J25: II | L25: =(K25)*16 -> 0 | M25: =(K25)*1.4 -> 0 | N25: =SUM(G25,K25) -> 110 | O25: =(N25)*16 -> 1760 | P25: =(N25)*1.4 -> 154
B26: 55 | E26: BUDYNEK GOSPODARCZY | F26: W02 | G26: 160 | H26: =(G26)*16 -> 2560 | I26: =(G26)*1.4 -> 224 | J26: II | L26: =(K26)*16 -> 0 | M26: =(K26)*1.4 -> 0 | N26: =SUM(G26,K26) -> 160 | O26: =(N26)*16 -> 2560 | P26: =(N26)*1.4 -> 224
B27: 6 | C27: 114/1 | E27: BUDYNEK GOSPODARCZY | F27: W02 | G27: 280 | H27: =(G27)*16 -> 4480 | I27: =(G27)*1.4 -> 392 | J27: II | L27: =(K27)*16 -> 0 | M27: =(K27)*1.4 -> 0 | N27: =SUM(G27,K27) -> 280 | O27: =(N27)*16 -> 4480 | P27: =(N27)*1.4 -> 392
B28: 6 | E28: BUDYNEK GOSPODARCZY | F28: W01 | G28: 200 | H28: =(G28)*16 -> 3200 | I28: =(G28)*1.4 -> 280 | J28: II | L28: =(K28)*16 -> 0 | M28: =(K28)*1.4 -> 0 | N28: =SUM(G28,K28) -> 200 | O28: =(N28)*16 -> 3200 | P28: =(N28)*1.4 -> 280
B29: 14 | C29: 211 | E29: BUDYNEK MIESZKALNY | F29: W01 | G29: 168 | H29: =(G29)*16 -> 2688 | I29: =(G29)*1.4 -> 235.2 | J29: II | L29: =(K29)*16 -> 0 | M29: =(K29)*1.4 -> 0 | N29: =SUM(G29,K29) -> 168 | O29: =(N29)*16 -> 2688 | P29: =(N29)*1.4 -> 235.2
B30: 14 | E30: BUDYNEK GOSPODARCZY | F30: W02 | G30: 240 | H30: =(G30)*16 -> 3840 | I30: =(G30)*1.4 -> 336 | J30: II | L30: =(K30)*16 -> 0 | M30: =(K30)*1.4 -> 0 | N30: =SUM(G30,K30) -> 240 | O30: =(N30)*16 -> 3840 | P30: =(N30)*1.4 -> 336
B31: 14 | E31: BUDYNEK GOSPODARCZY | F31: W01 | G31: 168 | H31: =(G31)*16 -> 2688 | I31: =(G31)*1.4 -> 235.2 | J31: II | L31: =(K31)*16 -> 0 | M31: =(K31)*1.4 -> 0 | N31: =SUM(G31,K31) -> 168 | O31: =(N31)*16 -> 2688 | P31: =(N31)*1.4 -> 235.2
B32: 52 | C32: 192/1 | E32: BUDYNEK GOSPODARCZY | F32: W01 | G32: 220 | H32: =(G32)*16 -> 3520 | I32: =(G32)*1.4 -> 308 | J32: II | L32: =(K32)*16 -> 0 | M32: =(K32)*1.4 -> 0 | N32: =SUM(G32,K32) -> 220 | O32: =(N32)*16 -> 3520 | P32: =(N32)*1.4 -> 308
B33: 59 | C33: 133 | E33: BUDYNEK GOSPODARCZY | F33: W02 | G33: 180 | H33: =(G33)*16 -> 2880 | I33: =(G33)*1.4 -> 252 | J33: II | L33: =(K33)*16 -> 0 | M33: =(K33)*1.4 -> 0 | N33: =SUM(G33,K33) -> 180 | O33: =(N33)*16 -> 2880 | P33: =(N33)*1.4 -> 252
B34: 59 | E34: BUDYNEK GOSPODARCZY | F34: W02 | G34: 220 | H34: =(G34)*16 -> 3520 | I34: =(G34)*1.4 -> 308 | J34: II | L34: =(K34)*16 -> 0 | M34: =(K34)*1.4 -> 0 | N34: =SUM(G34,K34) -> 220 | O34: =(N34)*16 -> 3520 | P34: =(N34)*1.4 -> 308
B35: 59 | E35: BUDYNEK GOSPODARCZY | F35: W02 | G35: 80 | H35: =(G35)*16 -> 1280 | I35: =(G35)*1.4 -> 112 | J35: II | L35: =(K35)*16 -> 0 | M35: =(K35)*1.4 -> 0 | N35: =SUM(G35,K35) -> 80 | O35: =(N35)*16 -> 1280 | P35: =(N35)*1.4 -> 112
B36: 59 | E36: BUDYNEK GOSPODARCZY | F36: W02 | G36: 72 | H36: =(G36)*16 -> 1152 | I36: =(G36)*1.4 -> 100.8 | J36: II | L36: =(K36)*16 -> 0 | M36: =(K36)*1.4 -> 0 | N36: =SUM(G36,K36) -> 72 | O36: =(N36)*16 -> 1152 | P36: =(N36)*1.4 -> 100.8
B37: 54 | C37: 141 | E37: BUDYNEK MIESZKALNY | F37: W02 | G37: 160 | H37: =(G37)*16 -> 2560 | I37: =(G38)*1.4 -> 1041.6 | J37: II | L37: =(K37)*16 -> 0 | M37: =(K37)*1.4 -> 0 | N37: =SUM(G38,K37) -> 744 | O37: =(N37)*16 -> 11904 | P37: =(N37)*1.4 -> 1041.6
B38: 54 | E38: BUDYNEK GOSPODARCZY | F38: W02 | G38: 744 | H38: =(G38)*16 -> 11904 | I38: =(G39)*1.4 -> 504 | J38: II | L38: =(K38)*16 -> 0 | M38: =(K38)*1.4 -> 0 | N38: =SUM(G39,K38) -> 360 | O38: =(N38)*16 -> 5760 | P38: =(N38)*1.4 -> 504
B39: 54 | E39: BUDYNEK GOSPODARCZY | F39: W02 | G39: 360 | H39: =(G39)*16 -> 5760 | I39: =(G39)*1.4 -> 504 | J39: II | L39: =(K39)*16 -> 0 | M39: =(K39)*1.4 -> 0 | N39: =SUM(G39,K39) -> 360 | O39: =(N39)*16 -> 5760 | P39: =(N39)*1.4 -> 504
B40: 54 | E40: BUDYNEK GOSPODARCZY | F40: W02 | G40: 120 | H40: =(G40)*16 -> 1920 | I40: 180 | J40: II | P40: =(N40)*1.4 -> 0
B41: 54 | E41: BUDYNEK GOSPODARCZY | F41: W02 | G41: 240 | H41: =(G41)*16 -> 3840 | I41: 630 | J41: I | L41: =(K41)*16 -> 0 | M41: =(K41)*1.4 -> 0 | N41: =SUM(G41,K41) -> 240 | O41: =(N41)*16 -> 3840 | P41: =(N41)*1.4 -> 336
B42: 13 | C42: 210/2 | E42: BUDYNEK GOSPODARCZY | F42: W01 | G42: 96 | H42: =(G42)*16 -> 1536 | I42: =(G42)*1.4 -> 134.4 | J42: I | L42: =(K42)*16 -> 0 | M42: =(K42)*1.4 -> 0 | N42: =SUM(G42,K42) -> 96 | O42: =(N42)*16 -> 1536 | P42: =(N42)*1.4 -> 134.4
B43: 15 | C43: 213 | E43: BUDYNEK MIESZKALNY | F43: W02 | G43: 132 | H43: =(G43)*16 -> 2112 | I43: =(G43)*1.4 -> 184.8 | J43: II | L43: =(K43)*16 -> 0 | M43: =(K43)*1.4 -> 0 | N43: =SUM(G43,K43) -> 132 | O43: =(N43)*16 -> 2112 | P43: =(N43)*1.4 -> 184.8
B44: 16 | C44: 214 | E44: BUDYNEK GOSPODARCZY | F44: W02 | G44: 120 | H44: =(G44)*16 -> 1920 | I44: =(G44)*1.4 -> 168 | J44: II | L44: =(K44)*16 -> 0 | M44: =(K44)*1.4 -> 0 | N44: =SUM(G44,K44) -> 120 | O44: =(N44)*16 -> 1920 | P44: =(N44)*1.4 -> 168
B45: 16 | E45: BUDYNEK GOSPODARCZY | F45: W02 | G45: 112 | H45: =(G45)*16 -> 1792 | I45: =(G45)*1.4 -> 156.8 | J45: II | L45: =(K45)*16 -> 0 | M45: =(K45)*1.4 -> 0 | N45: =SUM(G45,K45) -> 112 | O45: =(N45)*16 -> 1792 | P45: =(N45)*1.4 -> 156.8
B46: 15 | C46: 213 | E46: BUDYNEK GOSPODARCZY | F46: W02 | G46: 168 | H46: =(G46)*16 -> 2688 | I46: =(G46)*1.4 -> 235.2 | J46: II | L46: =(K46)*16 -> 0 | M46: =(K46)*1.4 -> 0 | N46: =SUM(G46,K46) -> 168 | O46: =(N46)*16 -> 2688 | P46: =(N46)*1.4 -> 235.2
B47: 15 | C47: 213/2 | E47: BUDYNEK MIESZKALNY | F47: W02 | G47: 0 | H47: =(G47)*16 -> 0 | I47: =(G47)*1.4 -> 0 | J47: II | K47: 140 | L47: =(K47)*16 -> 2240 | M47: =(K47)*1.4 -> 196 | N47: =SUM(G47,K47) -> 140 | O47: =(N47)*16 -> 2240 | P47: =(N47)*1.4 -> 196
B48: 2 | C48: 164 | E48: BUDYNEK GOSPODARCZY | F48: W02 | G48: 96 | H48: =(G48)*16 -> 1536 | I48: =(G48)*1.4 -> 134.4 | J48: II | L48: =(K48)*16 -> 0 | M48: =(K48)*1.4 -> 0 | N48: =SUM(G48,K48) -> 96 | O48: =(N48)*16 -> 1536 | P48: =(N48)*1.4 -> 134.4
B49: 5 | C49: 262 | E49: BUDYNEK GOSPODARCZY | F49: W02 | G49: 408 | H49: =(G49)*16 -> 6528 | I49: =(G49)*1.4 -> 571.2 | J49: II | L49: =(K49)*16 -> 0 | M49: =(K49)*1.4 -> 0 | N49: =SUM(G49,K49) -> 408 | O49: =(N49)*16 -> 6528 | P49: =(N49)*1.4 -> 571.2
B50: 5 | E50: BUDYNEK GOSPODARCZY | F50: W02 | G50: 390 | H50: =(G50)*16 -> 6240 | I50: =(G50)*1.4 -> 546 | J50: II | L50: =(K50)*16 -> 0 | M50: =(K50)*1.4 -> 0 | N50: =SUM(G50,K50) -> 390 | O50: =(N50)*16 -> 6240 | P50: =(N50)*1.4 -> 546
B51: 17 | C51: 215/2 | E51: BUDYNEK GOSPODARCZY | F51: W02 | G51: 160 | H51: =(G51)*16 -> 2560 | I51: =(G51)*1.4 -> 224 | J51: II | L51: =(K51)*16 -> 0 | M51: =(K51)*1.4 -> 0 | N51: =SUM(G51,K51) -> 160 | O51: =(N51)*16 -> 2560 | P51: =(N51)*1.4 -> 224
B52: 17 | E52: BUDYNEK GOSPODARCZY | F52: W02 | G52: 252 | H52: =(G52)*16 -> 4032 | I52: =(G52)*1.4 -> 352.8 | J52: II | L52: =(K52)*16 -> 0 | M52: =(K52)*1.4 -> 0 | N52: =SUM(G52,K52) -> 252 | O52: =(N52)*16 -> 4032 | P52: =(N52)*1.4 -> 352.8
B53: 58 | C53: 134 | E53: BUDYNEK MIESZKALNY | F53: W02 | G53: 260 | H53: =(G53)*16 -> 4160 | I53: =(G53)*1.4 -> 364 | J53: II | L53: =(K53)*16 -> 0 | M53: =(K53)*1.4 -> 0 | N53: =SUM(G53,K53) -> 260 | O53: =(N53)*16 -> 4160 | P53: =(N53)*1.4 -> 364
B54: 58 | E54: BUDYNEK GOSPODARCZY | F54: W02 | G54: 140 | H54: =(G54)*16 -> 2240 | I54: =(G54)*1.4 -> 196 | J54: II | L54: =(K54)*16 -> 0 | M54: =(K54)*1.4 -> 0 | N54: =SUM(G54,K54) -> 140 | O54: =(N54)*16 -> 2240 | P54: =(N54)*1.4 -> 196
B55: 58 | E55: BUDYNEK GOSPODARCZY | F55: W02 | G55: 286 | H55: =(G55)*16 -> 4576 | I55: =(G55)*1.4 -> 400.4 | J55: II | L55: =(K55)*16 -> 0 | M55: =(K55)*1.4 -> 0 | N55: =SUM(G55,K55) -> 286 | O55: =(N55)*16 -> 4576 | P55: =(N55)*1.4 -> 400.4
B56: 53 | C56: 49 | E56: BUDYNEK MIESZKALNY | F56: W01 | G56: 80 | H56: =(G56)*16 -> 1280 | I56: =(G56)*1.4 -> 112 | J56: II | L56: =(K56)*16 -> 0 | M56: =(K56)*1.4 -> 0 | N56: =SUM(G56,K56) -> 80 | O56: =(N56)*16 -> 1280 | P56: =(N56)*1.4 -> 112
B57: 53 | E57: BUDYNEK GOSPODARCZY | F57: W02 | G57: 144 | H57: =(G57)*16 -> 2304 | I57: =(G57)*1.4 -> 201.6 | J57: II | L57: =(K57)*16 -> 0 | M57: =(K57)*1.4 -> 0 | N57: =SUM(G57,K57) -> 144 | O57: =(N57)*16 -> 2304 | P57: =(N57)*1.4 -> 201.6
B58: 53 | E58: BUDYNEK GOSPODARCZY | F58: W02 | G58: 200 | H58: =(G58)*16 -> 3200 | I58: =(G58)*1.4 -> 280 | J58: II | L58: =(K58)*16 -> 0 | M58: =(K58)*1.4 -> 0 | N58: =SUM(G58,K58) -> 200 | O58: =(N58)*16 -> 3200 | P58: =(N58)*1.4 -> 280
B59: 53 | E59: BUDYNEK GOSPODARCZY | F59: W02 | G59: 80 | H59: =(G59)*16 -> 1280 | I59: =(G59)*1.4 -> 112 | J59: II | L59: =(K59)*16 -> 0 | M59: =(K59)*1.4 -> 0 | N59: =SUM(G59,K59) -> 80 | O59: =(N59)*16 -> 1280 | P59: =(N59)*1.4 -> 112
B60: 53 | E60: BUDYNEK GOSPODARCZY | F60: W02 | G60: 24 | H60: =(G60)*16 -> 384 | I60: =(G60)*1.4 -> 33.6 | J60: II | L60: =(K60)*16 -> 0 | M60: =(K60)*1.4 -> 0 | N60: =SUM(G60,K60) -> 24 | O60: =(N60)*16 -> 384 | P60: =(N60)*1.4 -> 33.6
B61: 69 | C61: 229/14 | E61: BUDYNEK GOSPODARCZY | F61: W02 | G61: 312 | H61: =(G61)*16 -> 4992 | I61: =(G61)*1.4 -> 436.8 | J61: II | L61: =(K61)*16 -> 0 | M61: =(K61)*1.4 -> 0 | N61: =SUM(G61,K61) -> 312 | O61: =(N61)*16 -> 4992 | P61: =(N61)*1.4 -> 436.8
B62: 71 | C62: 175/1 | E62: BUDYNEK GOSPODARCZY | F62: W02 | G62: 216 | H62: =(G62)*16 -> 3456 | I62: =(G62)*1.4 -> 302.4 | J62: II | L62: =(K62)*16 -> 0 | M62: =(K62)*1.4 -> 0 | N62: =SUM(G62,K62) -> 216 | O62: =(N62)*16 -> 3456 | P62: =(N62)*1.4 -> 302.4
B63: 23 | C63: 238/1 | E63: BUDYNEK GOSPODARCZY | F63: W02 | G63: 160 | H63: =(G63)*16 -> 2560 | I63: =(G63)*1.4 -> 224 | J63: II | L63: =(K63)*16 -> 0 | M63: =(K63)*1.4 -> 0 | N63: =SUM(G63,K63) -> 160 | O63: =(N63)*16 -> 2560 | P63: =(N63)*1.4 -> 224
B64: 23 | E64: BUDYNEK GOSPODARCZY | F64: W02 | G64: 312 | H64: =(G64)*16 -> 4992 | I64: =(G64)*1.4 -> 436.8 | J64: II | L64: =(K64)*16 -> 0 | M64: =(K64)*1.4 -> 0 | N64: =SUM(G64,K64) -> 312 | O64: =(N64)*16 -> 4992 | P64: =(N64)*1.4 -> 436.8
B65: 27 | C65: 97/1 | E65: BUDYNEK GOSPODARCZY | F65: W01 | G65: 200 | H65: =(G65)*16 -> 3200 | I65: =(G65)*1.4 -> 280 | J65: II | L65: =(K65)*16 -> 0 | M65: =(K65)*1.4 -> 0 | N65: =SUM(G65,K65) -> 200 | O65: =(N65)*16 -> 3200 | P65: =(N65)*1.4 -> 280
B66: 36 | C66: 82/1 | E66: BUDYNEK MIESZKALNY | F66: W01 | G66: 80 | H66: =(G66)*16 -> 1280 | I66: =(G66)*1.4 -> 112 | J66: II | L66: =(K66)*16 -> 0 | M66: =(K66)*1.4 -> 0 | N66: =SUM(G66,K66) -> 80 | O66: =(N66)*16 -> 1280 | P66: =(N66)*1.4 -> 112
B67: 36 | E67: BUDYNEK GOSPODARCZY | F67: W01 | G67: 165 | H67: =(G67)*16 -> 2640 | I67: =(G67)*1.4 -> 231 | J67: II | L67: =(K67)*16 -> 0 | M67: =(K67)*1.4 -> 0 | N67: =SUM(G67,K67) -> 165 | O67: =(N67)*16 -> 2640 | P67: =(N67)*1.4 -> 231
B68: 36 | E68: BUDYNEK GOSPODARCZY | F68: W02 | G68: 30 | H68: =(G68)*16 -> 480 | I68: =(G68)*1.4 -> 42 | J68: II | L68: =(K68)*16 -> 0 | M68: =(K68)*1.4 -> 0 | N68: =SUM(G68,K68) -> 30 | O68: =(N68)*16 -> 480 | P68: =(N68)*1.4 -> 42
B69: 36 | E69: BUDYNEK GOSPODARCZY | F69: W02 | G69: 80 | H69: =(G69)*16 -> 1280 | I69: =(G69)*1.4 -> 112 | J69: II | L69: =(K69)*16 -> 0 | M69: =(K69)*1.4 -> 0 | N69: =SUM(G69,K69) -> 80 | O69: =(N69)*16 -> 1280 | P69: =(N69)*1.4 -> 112
B70: 36 | E70: BUDYNEK GOSPODARCZY | F70: W02 | G70: 80 | H70: =(G70)*16 -> 1280 | I70: =(G70)*1.4 -> 112 | J70: II | L70: =(K70)*16 -> 0 | M70: =(K70)*1.4 -> 0 | N70: =SUM(G70,K70) -> 80 | O70: =(N70)*16 -> 1280 | P70: =(N70)*1.4 -> 112
B71: 65 | C71: 227/1 | E71: BUDYNEK GOSPODARCZY | F71: W02 | G71: 240 | H71: =(G71)*16 -> 3840 | I71: =(G71)*1.4 -> 336 | J71: II | L71: =(K71)*16 -> 0 | M71: =(K71)*1.4 -> 0 | N71: =SUM(G71,K71) -> 240 | O71: =(N71)*16 -> 3840 | P71: =(N71)*1.4 -> 336
B72: 22 | C72: 237 | E72: BUDYNEK MIESZKALNY | F72: W01 | G72: 120 | H72: =(G72)*16 -> 1920 | I72: =(G72)*1.4 -> 168 | J72: I | L72: =(K72)*16 -> 0 | M72: =(K72)*1.4 -> 0 | N72: =SUM(G72,K72) -> 120 | O72: =(N72)*16 -> 1920 | P72: =(N72)*1.4 -> 168
B73: 22 | E73: BUDYNEK GOSPODARCZY | F73: W01 | G73: 128 | H73: =(G73)*16 -> 2048 | I73: =(G73)*1.4 -> 179.2 | J73: II | L73: =(K73)*16 -> 0 | M73: =(K73)*1.4 -> 0 | N73: =SUM(G73,K73) -> 128 | O73: =(N73)*16 -> 2048 | P73: =(N73)*1.4 -> 179.2
B74: 24 | C74: 243/1 | E74: BUDYNEK MIESZKALNY | F74: W02 | G74: 180 | H74: =(G74)*16 -> 2880 | I74: =(G74)*1.4 -> 252 | J74: II | L74: =(K74)*16 -> 0 | M74: =(K74)*1.4 -> 0 | N74: =SUM(G74,K74) -> 180 | O74: =(N74)*16 -> 2880 | P74: =(N74)*1.4 -> 252
B75: 24 | E75: BUDYNEK GOSPODARCZY | F75: W02 | G75: 360 | H75: =(G75)*16 -> 5760 | I75: =(G75)*1.4 -> 504 | J75: II | L75: =(K75)*16 -> 0 | M75: =(K75)*1.4 -> 0 | N75: =SUM(G75,K75) -> 360 | O75: =(N75)*16 -> 5760 | P75: =(N75)*1.4 -> 504
B76: 32 | C76: 95/1 | E76: BUDYNEK MIESZKALNY | F76: W01 | G76: 120 | H76: =(G76)*16 -> 1920 | I76: =(G76)*1.4 -> 168 | J76: II | L76: =(K76)*16 -> 0 | M76: =(K76)*1.4 -> 0 | N76: =SUM(G76,K76) -> 120 | O76: =(N76)*16 -> 1920 | P76: =(N76)*1.4 -> 168
B77: 32 | E77: BUDYNEK GOSPODARCZY | F77: W01 | G77: 200 | H77: =(G77)*16 -> 3200 | I77: =(G77)*1.4 -> 280 | J77: II | L77: =(K77)*16 -> 0 | M77: =(K77)*1.4 -> 0 | N77: =SUM(G77,K77) -> 200 | O77: =(N77)*16 -> 3200 | P77: =(N77)*1.4 -> 280
B78: 37 | C78: 79/1 | E78: BUDYNEK GOSPODARCZY | F78: W02 | G78: 220 | H78: =(G78)*16 -> 3520 | I78: =(G78)*1.4 -> 308 | J78: II | L78: =(K78)*16 -> 0 | M78: =(K78)*1.4 -> 0 | N78: =SUM(G78,K78) -> 220 | O78: =(N78)*16 -> 3520 | P78: =(N78)*1.4 -> 308
B79: 49 | C79: 38/1 | E79: BUDYNEK MIESZKALNY | F79: W01 | G79: 120 | H79: =(G79)*16 -> 1920 | I79: =(G79)*1.4 -> 168 | J79: II | L79: =(K79)*16 -> 0 | M79: =(K79)*1.4 -> 0 | N79: =SUM(G79,K79) -> 120 | O79: =(N79)*16 -> 1920 | P79: =(N79)*1.4 -> 168
B80: 49 | E80: BUDYNEK GOSPODARCZY | F80: W01 | G80: 140 | H80: =(G80)*16 -> 2240 | I80: =(G80)*1.4 -> 196 | J80: II | L80: =(K80)*16 -> 0 | M80: =(K80)*1.4 -> 0 | N80: =SUM(G80,K80) -> 140 | O80: =(N80)*16 -> 2240 | P80: =(N80)*1.4 -> 196
B81: 49 | E81: BUDYNEK GOSPODARCZY | F81: W02 | G81: 360 | H81: =(G81)*16 -> 5760 | I81: =(G81)*1.4 -> 504 | J81: II | L81: =(K81)*16 -> 0 | M81: =(K81)*1.4 -> 0 | N81: =SUM(G81,K81) -> 360 | O81: =(N81)*16 -> 5760 | P81: =(N81)*1.4 -> 504
B82: 1 | C82: 168/1 | E82: BUDYNEK GOSPODARCZY | F82: W02 | G82: 200 | H82: =(G82)*16 -> 3200 | I82: =(G82)*1.4 -> 280 | J82: II | L82: =(K82)*16 -> 0 | M82: =(K82)*1.4 -> 0 | N82: =SUM(G82,K82) -> 200 | O82: =(N82)*16 -> 3200 | P82: =(N82)*1.4 -> 280
B83: 25 | C83: 248/1 | E83: BUDYNEK GOSPODARCZY | F83: W02 | G83: 160 | H83: =(G83)*16 -> 2560 | I83: =(G83)*1.4 -> 224 | J83: II | L83: =(K83)*16 -> 0 | M83: =(K83)*1.4 -> 0 | N83: =SUM(G83,K83) -> 160 | O83: =(N83)*16 -> 2560 | P83: =(N83)*1.4 -> 224
B84: 33 | C84: 91/1 | E84: BUDYNEK MIESZKALNY | F84: W02 | G84: 120 | H84: =(G84)*16 -> 1920 | I84: =(G84)*1.4 -> 168 | J84: II | L84: =(K84)*16 -> 0 | M84: =(K84)*1.4 -> 0 | N84: =SUM(G84,K84) -> 120 | O84: =(N84)*16 -> 1920 | P84: =(N84)*1.4 -> 168
B85: 33 | E85: BUDYNEK GOSPODARCZY | F85: W02 | G85: 288 | H85: =(G85)*16 -> 4608 | I85: =(G85)*1.4 -> 403.2 | J85: II | L85: =(K85)*16 -> 0 | M85: =(K85)*1.4 -> 0 | N85: =SUM(G85,K85) -> 288 | O85: =(N85)*16 -> 4608 | P85: =(N85)*1.4 -> 403.2
B86: 38 | C86: 78/1 | E86: BUDYNEK MIESZKALNY | F86: W01 | G86: 100 | H86: =(G86)*16 -> 1600 | I86: =(G86)*1.4 -> 140 | J86: II | L86: =(K86)*16 -> 0 | M86: =(K86)*1.4 -> 0 | N86: =SUM(G86,K86) -> 100 | O86: =(N86)*16 -> 1600 | P86: =(N86)*1.4 -> 140
B87: 38 | E87: BUDYNEK GOSPODARCZY | F87: W02 | G87: 264 | H87: =(G87)*16 -> 4224 | I87: =(G87)*1.4 -> 369.6 | J87: II | L87: =(K87)*16 -> 0 | M87: =(K87)*1.4 -> 0 | N87: =SUM(G87,K87) -> 264 | O87: =(N87)*16 -> 4224 | P87: =(N87)*1.4 -> 369.6
B88: 38 | E88: BUDYNEK GOSPODARCZY | F88: W02 | G88: 360 | H88: =(G88)*16 -> 5760 | I88: =(G88)*1.4 -> 504 | J88: II | L88: =(K88)*16 -> 0 | M88: =(K88)*1.4 -> 0 | N88: =SUM(G88,K88) -> 360 | O88: =(N88)*16 -> 5760 | P88: =(N88)*1.4 -> 504
B89: 41 | C89: 54/2 | E89: BUDYNEK GOSPODARCZY | F89: W02 | G89: 210 | H89: =(G89)*16 -> 3360 | I89: =(G89)*1.4 -> 294 | J89: II | L89: =(K89)*16 -> 0 | M89: =(K89)*1.4 -> 0 | N89: =SUM(G89,K89) -> 210 | O89: =(N89)*16 -> 3360 | P89: =(N89)*1.4 -> 294
B90: 41 | E90: BUDYNEK GOSPODARCZY | F90: W01 | G90: 140 | H90: =(G90)*16 -> 2240 | I90: =(G90)*1.4 -> 196 | J90: II | L90: =(K90)*16 -> 0 | M90: =(K90)*1.4 -> 0 | N90: =SUM(G90,K90) -> 140 | O90: =(N90)*16 -> 2240 | P90: =(N90)*1.4 -> 196
B91: 41 | E91: BUDYNEK GOSPODARCZY | F91: W02 | G91: 260 | H91: =(G91)*16 -> 4160 | I91: =(G91)*1.4 -> 364 | J91: II | L91: =(K91)*16 -> 0 | M91: =(K91)*1.4 -> 0 | N91: =SUM(G91,K91) -> 260 | O91: =(N91)*16 -> 4160 | P91: =(N91)*1.4 -> 364
B92: 46 | C92: 25/1 | E92: BUDYNEK MIESZKALNY | F92: W02 | G92: 234 | H92: =(G92)*16 -> 3744 | I92: =(G92)*1.4 -> 327.6 | J92: II | L92: =(K92)*16 -> 0 | M92: =(K92)*1.4 -> 0 | N92: =SUM(G92,K92) -> 234 | O92: =(N92)*16 -> 3744 | P92: =(N92)*1.4 -> 327.6
B93: 46 | E93: BUDYNEK GOSPODARCZY | F93: W02 | G93: 144 | H93: =(G93)*16 -> 2304 | I93: =(G93)*1.4 -> 201.6 | J93: II | L93: =(K93)*16 -> 0 | M93: =(K93)*1.4 -> 0 | N93: =SUM(G93,K93) -> 144 | O93: =(N93)*16 -> 2304 | P93: =(N93)*1.4 -> 201.6
B94: 46 | E94: BUDYNEK GOSPODARCZY | F94: W02 | G94: 390 | H94: =(G94)*16 -> 6240 | I94: =(G94)*1.4 -> 546 | J94: II | L94: =(K94)*16 -> 0 | M94: =(K94)*1.4 -> 0 | N94: =SUM(G94,K94) -> 390 | O94: =(N94)*16 -> 6240 | P94: =(N94)*1.4 -> 546
B95: 21 | C95: 223/1 | E95: BUDYNEK GOSPODARCZY | F95: W02 | G95: 480 | H95: =(G95)*16 -> 7680 | I95: =(G95)*1.4 -> 672 | J95: II | L95: =(K95)*16 -> 0 | M95: =(K95)*1.4 -> 0 | N95: =SUM(G95,K95) -> 480 | O95: =(N95)*16 -> 7680 | P95: =(N95)*1.4 -> 672
B96: 21 | E96: BUDYNEK GOSPODARCZY | F96: W02 | G96: 220 | H96: =(G96)*16 -> 3520 | I96: =(G96)*1.4 -> 308 | J96: II | L96: =(K96)*16 -> 0 | M96: =(K96)*1.4 -> 0 | N96: =SUM(G96,K96) -> 220 | O96: =(N96)*16 -> 3520 | P96: =(N96)*1.4 -> 308
B97: 45 | C97: 22/1 | E97: BUDYNEK GOSPODARCZY | F97: W02 | G97: 330 | H97: =(G97)*16 -> 5280 | I97: =(G97)*1.4 -> 462 | J97: II | L97: =(K97)*16 -> 0 | M97: =(K97)*1.4 -> 0 | N97: =SUM(G97,K97) -> 330 | O97: =(N97)*16 -> 5280 | P97: =(N97)*1.4 -> 462
B98: 26 | C98: 106/1 | E98: BUDYNEK GOSPODARCZY | F98: W01 | G98: 200 | H98: =(G98)*16 -> 3200 | I98: =(G98)*1.4 -> 280 | J98: II | L98: =(K98)*16 -> 0 | M98: =(K98)*1.4 -> 0 | N98: =SUM(G98,K98) -> 200 | O98: =(N98)*16 -> 3200 | P98: =(N98)*1.4 -> 280
B99: 26 | E99: BUDYNEK GOSPODARCZY | F99: W01 | G99: 176 | H99: =(G99)*16 -> 2816 | I99: =(G99)*1.4 -> 246.4 | J99: II | L99: =(K99)*16 -> 0 | M99: =(K99)*1.4 -> 0 | N99: =SUM(G99,K99) -> 176 | O99: =(N99)*16 -> 2816 | P99: =(N99)*1.4 -> 246.4
B100: 34 | C100: 88/1 | E100: BUDYNEK MIESZKALNY | F100: W02 | G100: 100 | H100: =(G100)*16 -> 1600 | I100: =(G100)*1.4 -> 140 | J100: II | L100: =(K100)*16 -> 0 | M100: =(K100)*1.4 -> 0 | N100: =SUM(G100,K100) -> 100 | O100: =(N100)*16 -> 1600 | P100: =(N100)*1.4 -> 140
...

Sheet Jarantowice
A1: MIEJSCOWOŚĆ | B1: ADRES (NR. POSESJI) | C1: NR. DZIAŁKI EWIDENCYJNEJ | D1: NR. OBRĘBU EWIDENCYJNEGO | E1: RODZAJ ZABUDOWY | F1: NAZWA/RODZAJ WYROBU | G1: ILOŚĆ POSIADANYCH WYROBÓW BĘDĄCYCH W UŻYCIU (W SZT.) | H1: WAGA POSIADANYCH WYROBÓW BĘDĄCYCH W UŻYCIU (W KG.) | I1: POWIERZCHNIA POSIADANYCH WYROBÓW BĘDĄCYCH W UŻYCIU (W M2) | J1: STOPIEŃ PILNOŚCI (I-III) | K1: ILOŚĆ POSIADANYCH WYROBÓW ZŁOŻONYCH NA POSESJI (W SZT.) | L1: WAGA POSIADANYCH WYROBÓW ZŁOŻONYCH NA POSESJI (W KG.) | M1: POWIERZCHNIA POSIADANYCH WYROBÓW ZŁOŻONYCH NA POSESJI (W M2) | N1: ILOŚĆ POSIADANYCH WYROBÓW BĘDĄCYCH W UŻYCIU I ZŁOŻONYCH NA POSESJI W SUMIE (W SZT.) | O1: WAGA POSIADANYCH WYROBÓW BĘDĄCYCH W UŻYCIU I ZŁOŻONYCH NA POSESJI W SUMIE (W KG.) | P1: POWIERZCHNIA POSIADANYCH WYROBÓW BĘDĄCYCH W UŻYCIU I ZŁOŻONYCH NA POSESJI W SUMIE (W M2)
A2: Jarantowice | B2: 4 | C2: 46 | D2: 0001 | E2: BUDYNEK GOSPODARCZY | F2: W02 | G2: 176 | H2: =(G2)*16 -> 2816 | I2: =(G2)*1.4 -> 246.4 | J2: II | L2: =(K2)*16 -> 0 | M2: =(K2)*1.4 -> 0 | N2: =SUM(G2,K2) -> 176 | O2: =(N2)*16 -> 2816 | P2: =(N2)*1.4 -> 246.4
B3: 9 | C3: 40 | E3: BUDYNEK MIESZKALNY | F3: W02 | G3: 208 | H3: =(G3)*16 -> 3328 | I3: =(G3)*1.4 -> 291.2 | J3: II | L3: =(K3)*16 -> 0 | M3: =(K3)*1.4 -> 0 | N3: =SUM(G3,K3) -> 208 | O3: =(N3)*16 -> 3328 | P3: =(N3)*1.4 -> 291.2
B4: 5 | C4: 45 | E4: BUDYNEK MIESZKALNY | F4: W02 | G4: 96 | H4: =(G4)*16 -> 1536 | I4: =(G4)*1.4 -> 134.4 | J4: II | L4: =(K4)*16 -> 0 | M4: =(K4)*1.4 -> 0 | N4: =SUM(G4,K4) -> 96 | O4: =(N4)*16 -> 1536 | P4: =(N4)*1.4 -> 134.4
E5: BUDYNEK GOSPODARCZY | F5: W02 | G5: 90 | H5: =(G5)*16 -> 1440 | I5: =(G5)*1.4 -> 126 | J5: II | L5: =(K5)*16 -> 0 | M5: =(K5)*1.4 -> 0 | N5: =SUM(G5,K5) -> 90 | O5: =(N5)*16 -> 1440 | P5: =(N5)*1.4 -> 126
E6: BUDYNEK GOSPODARCZY | F6: W02 | G6: 90 | H6: =(G6)*16 -> 1440 | I6: =(G6)*1.4 -> 126 | J6: II | L6: =(K6)*16 -> 0 | M6: =(K6)*1.4 -> 0 | N6: =SUM(G6,K6) -> 90 | O6: =(N6)*16 -> 1440 | P6: =(N6)*1.4 -> 126
B7: 8 | C7: 41 | E7: BUDYNEK MIESZKALNY | F7: W02 | G7: 96 | H7: =(G7)*16 -> 1536 | I7: =(G7)*1.4 -> 134.4 | J7: II | L7: =(K7)*16 -> 0 | M7: =(K7)*1.4 -> 0 | N7: =SUM(G7,K7) -> 96 | O7: =(N7)*16 -> 1536 | P7: =(N7)*1.4 -> 134.4
E8: BUDYNEK GOSPODARCZY | F8: W02 | G8: 160 | H8: =(G8)*16 -> 2560 | I8: =(G8)*1.4 -> 224 | J8: II | L8: =(K8)*16 -> 0 | M8: =(K8)*1.4 -> 0 | N8: =SUM(G8,K8) -> 160 | O8: =(N8)*16 -> 2560 | P8: =(N8)*1.4 -> 224
B9: 3 | C9: 47/2 | E9: BUDYNEK GOSPODARCZY | F9: W02 | G9: 20 | H9: =(G9)*16 -> 320 | I9: =(G9)*1.4 -> 28 | J9: II | L9: =(K9)*16 -> 0 | M9: =(K9)*1.4 -> 0 | N9: =SUM(G9,K9) -> 20 | O9: =(N9)*16 -> 320 | P9: =(N9)*1.4 -> 28
B10: 2 | C10: 47/3 | E10: BUDYNEK GOSPODARCZY | F10: W02 | G10: 48 | H10: =(G10)*16 -> 768 | I10: =(G10)*1.4 -> 67.2 | J10: II | L10: =(K10)*16 -> 0 | M10: =(K10)*1.4 -> 0 | N10: =SUM(G10,K10) -> 48 | O10: =(N10)*16 -> 768 | P10: =(N10)*1.4 -> 67.2
B11: 7 | C11: 42/1 | E11: BUDYNEK MIESZKALNY | F11: W02 | G11: 80 | H11: =(G11)*16 -> 1280 | I11: =(G11)*1.4 -> 112 | J11: II | L11: =(K11)*16 -> 0 | M11: =(K11)*1.4 -> 0 | N11: =SUM(G11,K11) -> 80 | O11: =(N11)*16 -> 1280 | P11: =(N11)*1.4 -> 112
B12: 1 | C12: 237 | E12: BUDYNEK MIESZKALNY | F12: W02 | G12: 144 | H12: =(G12)*16 -> 2304 | I12: =(G12)*1.4 -> 201.6 | J12: II | L12: =(K12)*16 -> 0 | M12: =(K12)*1.4 -> 0 | N12: =SUM(G12,K12) -> 144 | O12: =(N12)*16 -> 2304 | P12: =(N12)*1.4 -> 201.6
E13: BUDYNEK GOSPODARCZY | F13: W02 | G13: 98 | H13: =(G13)*16 -> 1568 | I13: =(G13)*1.4 -> 137.2 | J13: II | L13: =(K13)*16 -> 0 | M13: =(K13)*1.4 -> 0 | N13: =SUM(G13,K13) -> 98 | O13: =(N13)*16 -> 1568 | P13: =(N13)*1.4 -> 137.2
B14: 6 | C14: 44 | E14: BUDYNEK GOSPODARCZY | F14: W02 | G14: 312 | H14: =(G14)*16 -> 4992 | I14: =(G14)*1.4 -> 436.8 | J14: II | L14: =(K14)*16 -> 0 | M14: =(K14)*1.4 -> 0 | N14: =SUM(G14,K14) -> 312 | O14: =(N14)*16 -> 4992 | P14: =(N14)*1.4 -> 436.8
E15: BUDYNEK GOSPODARCZY | F15: W02 | G15: 560 | H15: =(G15)*16 -> 8960 | I15: =(G15)*1.4 -> 784 | J15: II | L15: =(K15)*16 -> 0 | M15: =(K15)*1.4 -> 0 | N15: =SUM(G15,K15) -> 560 | O15: =(N15)*16 -> 8960 | P15: =(N15)*1.4 -> 784
B16: 20 | C16: 33 | E16: BUDYNEK MIESZKALNY | F16: W02 | G16: 180 | H16: =(G16)*16 -> 2880 | I16: =(G16)*1.4 -> 252 | J16: II | L16: =(K16)*16 -> 0 | M16: =(K16)*1.4 -> 0 | N16: =SUM(G16,K16) -> 180 | O16: =(N16)*16 -> 2880 | P16: =(N16)*1.4 -> 252
E17: BUDYNEK GOSPODARCZY | F17: W02 | G17: 560 | H17: =(G17)*16 -> 8960 | I17: =(G17)*1.4 -> 784 | J17: II | L17: =(K17)*16 -> 0 | M17: =(K17)*1.4 -> 0 | N17: =SUM(G17,K17) -> 560 | O17: =(N17)*16 -> 8960 | P17: =(N17)*1.4 -> 784
E18: BUDYNEK GOSPODARCZY | F18: W02 | G18: 364 | H18: =(G18)*16 -> 5824 | I18: =(G18)*1.4 -> 509.6 | J18: II | L18: =(K18)*16 -> 0 | M18: =(K18)*1.4 -> 0 | N18: =SUM(G18,K18) -> 364 | O18: =(N18)*16 -> 5824 | P18: =(N18)*1.4 -> 509.6
B19: 19 | C19: 29/2 | E19: BUDYNEK MIESZKALNY | F19: W02 | G19: 96 | H19: =(G19)*16 -> 1536 | I19: =(G19)*1.4 -> 134.4 | J19: II | L19: =(K19)*16 -> 0 | M19: =(K19)*1.4 -> 0 | N19: =SUM(G19,K19) -> 96 | O19: =(N19)*16 -> 1536 | P19: =(N19)*1.4 -> 134.4
B20: 17 | C20: 25 | E20: BUDYNEK MIESZKALNY | F20: W02 | G20: 112 | H20: =(G20)*16 -> 1792 | I20: =(G20)*1.4 -> 156.8 | J20: II | L20: =(K20)*16 -> 0 | M20: =(K20)*1.4 -> 0 | N20: =SUM(G20,K20) -> 112 | O20: =(N20)*16 -> 1792 | P20: =(N20)*1.4 -> 156.8
E21: BUDYNEK GOSPODARCZY | F21: W02 | G21: 304 | H21: =(G21)*16 -> 4864 | I21: =(G21)*1.4 -> 425.6 | J21: II | L21: =(K21)*16 -> 0 | M21: =(K21)*1.4 -> 0 | N21: =SUM(G21,K21) -> 304 | O21: =(N21)*16 -> 4864 | P21: =(N21)*1.4 -> 425.6
B22: 16 | C22: 22/1 | E22: BUDYNEK MIESZKALNY | F22: W02 | G22: 120 | H22: =(G22)*16 -> 1920 | I22: =(G22)*1.4 -> 168 | J22: II | L22: =(K22)*16 -> 0 | M22: =(K22)*1.4 -> 0 | N22: =SUM(G22,K22) -> 120 | O22: =(N22)*16 -> 1920 | P22: =(N22)*1.4 -> 168
E23: BUDYNEK GOSPODARCZY | F23: W02 | G23: 252 | H23: =(G23)*16 -> 4032 | I23: =(G23)*1.4 -> 352.8 | J23: II | L23: =(K23)*16 -> 0 | M23: =(K23)*1.4 -> 0 | N23: =SUM(G23,K23) -> 252 | O23: =(N23)*16 -> 4032 | P23: =(N23)*1.4 -> 352.8
B24: 15 | C24: 18 | E24: BUDYNEK GOSPODARCZY | F24: W02 | G24: 80 | H24: =(G24)*16 -> 1280 | I24: =(G24)*1.4 -> 112 | J24: II | L24: =(K24)*16 -> 0 | M24: =(K24)*1.4 -> 0 | N24: =SUM(G24,K24) -> 80 | O24: =(N24)*16 -> 1280 | P24: =(N24)*1.4 -> 112
B25: 14 | C25: 16 | E25: BUDYNEK MIESZKALNY | F25: W02 | G25: 96 | H25: =(G25)*16 -> 1536 | I25: =(G25)*1.4 -> 134.4 | J25: II | L25: =(K25)*16 -> 0 | M25: =(K25)*1.4 -> 0 | N25: =SUM(G25,K25) -> 96 | O25: =(N25)*16 -> 1536 | P25: =(N25)*1.4 -> 134.4
E26: BUDYNEK GOSPODARCZY | F26: W02 | G26: 8 | H26: =(G26)*16 -> 128 | I26: =(G26)*1.4 -> 11.2 | J26: II | L26: =(K26)*16 -> 0 | M26: =(K26)*1.4 -> 0 | N26: =SUM(G26,K26) -> 8 | O26: =(N26)*16 -> 128 | P26: =(N26)*1.4 -> 11.2
E27: BUDYNEK GOSPODARCZY | F27: W02 | G27: 110 | H27: =(G27)*16 -> 1760 | I27: =(G27)*1.4 -> 154 | J27: II | L27: =(K27)*16 -> 0 | M27: =(K27)*1.4 -> 0 | N27: =SUM(G27,K27) -> 110 | O27: =(N27)*16 -> 1760 | P27: =(N27)*1.4 -> 154
E28: BUDYNEK GOSPODARCZY | F28: W01 | G28: 220 | H28: =(G28)*16 -> 3520 | I28: =(G28)*1.4 -> 308 | J28: II | L28: =(K28)*16 -> 0 | M28: =(K28)*1.4 -> 0 | N28: =SUM(G28,K28) -> 220 | O28: =(N28)*16 -> 3520 | P28: =(N28)*1.4 -> 308
B29: 12 | C29: 6 | E29: BUDYNEK GOSPODARCZY | F29: W02 | G29: 128 | H29: =(G29)*16 -> 2048 | I29: =(G29)*1.4 -> 179.2 | J29: II | L29: =(K29)*16 -> 0 | M29: =(K29)*1.4 -> 0 | N29: =SUM(G29,K29) -> 128 | O29: =(N29)*16 -> 2048 | P29: =(N29)*1.4 -> 179.2
E30: BUDYNEK GOSPODARCZY | F30: W02 | G30: 176 | H30: =(G30)*16 -> 2816 | I30: =(G30)*1.4 -> 246.4 | J30: II | L30: =(K30)*16 -> 0 | M30: =(K30)*1.4 -> 0 | N30: =SUM(G30,K30) -> 176 | O30: =(N30)*16 -> 2816 | P30: =(N30)*1.4 -> 246.4
E31: BUDYNEK GOSPODARCZY | F31: W02 | G31: 12 | H31: =(G31)*16 -> 192 | I31: =(G31)*1.4 -> 16.8 | J31: II | L31: =(K31)*16 -> 0 | M31: =(K31)*1.4 -> 0 | N31: =SUM(G31,K31) -> 12 | O31: =(N31)*16 -> 192 | P31: =(N31)*1.4 -> 16.8
B32: 13 | C32: 14 | E32: BUDYNEK GOSPODARCZY | F32: W02 | G32: 20 | H32: =(G32)*16 -> 320 | I32: =(G32)*1.4 -> 28 | J32: II | L32: =(K32)*16 -> 0 | M32: =(K32)*1.4 -> 0 | N32: =SUM(G32,K32) -> 20 | O32: =(N32)*16 -> 320 | P32: =(N32)*1.4 -> 28
E33: BUDYNEK GOSPODARCZY | F33: W02 | G33: 64 | H33: =(G33)*16 -> 1024 | I33: =(G33)*1.4 -> 89.6 | J33: II | L33: =(K33)*16 -> 0 | M33: =(K33)*1.4 -> 0 | N33: =SUM(G33,K33) -> 64 | O33: =(N33)*16 -> 1024 | P33: =(N33)*1.4 -> 89.6
B34: 11 | C34: 12 | E34: BUDYNEK GOSPODARCZY | F34: W02 | G34: 286 | H34: =(G34)*16 -> 4576 | I34: =(G34)*1.4 -> 400.4 | J34: II | L34: =(K34)*16 -> 0 | M34: =(K34)*1.4 -> 0 | N34: =SUM(G34,K34) -> 286 | O34: =(N34)*16 -> 4576 | P34: =(N34)*1.4 -> 400.4
E35: BUDYNEK GOSPODARCZY | F35: W02 | G35: 144 | H35: =(G35)*16 -> 2304 | I35: =(G35)*1.4 -> 201.6 | J35: II | L35: =(K35)*16 -> 0 | M35: =(K35)*1.4 -> 0 | N35: =SUM(G35,K35) -> 144 | O35: =(N35)*16 -> 2304 | P35: =(N35)*1.4 -> 201.6
B36: 21 | C36: 55/4 | E36: BUDYNEK MIESZKALNY | F36: W02 | G36: 96 | H36: =(G36)*16 -> 1536 | I36: =(G36)*1.4 -> 134.4 | J36: II | L36: =(K36)*16 -> 0 | M36: =(K36)*1.4 -> 0 | N36: =SUM(G36,K36) -> 96 | O36: =(N36)*16 -> 1536 | P36: =(N36)*1.4 -> 134.4
E37: BUDYNEK MIESZKALNY | F37: W02 | G37: 252 | H37: =(G37)*16 -> 4032 | I37: =(G37)*1.4 -> 352.8 | J37: II | L37: =(K37)*16 -> 0 | M37: =(K37)*1.4 -> 0 | N37: =SUM(G37,K37) -> 252 | O37: =(N37)*16 -> 4032 | P37: =(N37)*1.4 -> 352.8
B38: 22 | C38: 55/3 | E38: BUDYNEK MIESZKALNY | F38: W02 | G38: 544 | H38: =(G38)*16 -> 8704 | I38: =(G38)*1.4 -> 761.6 | J38: II | L38: =(K38)*16 -> 0 | M38: =(K38)*1.4 -> 0 | N38: =SUM(G38,K38) -> 544 | O38: =(N38)*16 -> 8704 | P38: =(N38)*1.4 -> 761.6
B39: 23 | C39: 55/2 | E39: BUDYNEK MIESZKALNY | F39: W02 | G39: 544 | H39: =(G39)*16 -> 8704 | I39: =(G39)*1.4 -> 761.6 | J39: II | L39: =(K39)*16 -> 0 | M39: =(K39)*1.4 -> 0 | N39: =SUM(G39,K39) -> 544 | O39: =(N39)*16 -> 8704 | P39: =(N39)*1.4 -> 761.6
B40: 26 | C40: 53/17 | E40: BUDYNEK MIESZKALNY | F40: W02 | G40: 84 | H40: =(G40)*16 -> 1344 | I40: =(G40)*1.4 -> 117.6 | J40: II | L40: =(K40)*16 -> 0 | M40: =(K40)*1.4 -> 0 | N40: =SUM(G40,K40) -> 84 | O40: =(N40)*16 -> 1344 | P40: =(N40)*1.4 -> 117.6
E41: BUDYNEK GOSPODARCZY | F41: W02 | G41: 24 | H41: =(G41)*16 -> 384 | I41: =(G41)*1.4 -> 33.6 | J41: II | L41: =(K41)*16 -> 0 | M41: =(K41)*1.4 -> 0 | N41: =SUM(G41,K41) -> 24 | O41: =(N41)*16 -> 384 | P41: =(N41)*1.4 -> 33.6
B42: 28 | C42: 53/15 | E42: BUDYNEK MIESZKALNY | F42: W02 | G42: 216 | H42: =(G42)*16 -> 3456 | I42: =(G42)*1.4 -> 302.4 | J42: II | L42: =(K42)*16 -> 0 | M42: =(K42)*1.4 -> 0 | N42: =SUM(G42,K42) -> 216 | O42: =(N42)*16 -> 3456 | P42: =(N42)*1.4 -> 302.4
B43: 26 | E43: BUDYNEK MIESZKALNY | F43: W02 | G43: 130 | H43: =(G43)*16 -> 2080 | I43: =(G43)*1.4 -> 182 | J43: II | N43: =SUM(G43,K43) -> 130 | O43: =(N43)*16 -> 2080 | P43: =(N43)*1.4 -> 182
B44: 26/2 | C44: 53/17 | E44: BUDYNEK MIESZKALNY | F44: W02 | G44: 0 | H44: =(G44)*16 -> 0 | I44: =(G44)*1.4 -> 0 | J44: II | K44: 72 | L44: 1152 | M44: 100.8 | N44: =SUM(G44,K44) -> 72 | O44: =(N44)*16 -> 1152 | P44: =(N44)*1.4 -> 100.8
B45: 26 | E45: BUDYNEK GOSPODARCZY | F45: W02 | G45: 50 | H45: =(G45)*16 -> 800 | I45: =(G45)*1.4 -> 70 | N45: =SUM(G45,K45) -> 50 | O45: =(N45)*16 -> 800 | P45: =(N45)*1.4 -> 70
B46: 29 | C46: 53/12 | E46: BUDYNEK MIESZKALNY | F46: W02 | G46: 216 | H46: =(G46)*16 -> 3456 | I46: =(G46)*1.4 -> 302.4 | J46: II | L46: =(K46)*16 -> 0 | M46: =(K46)*1.4 -> 0 | N46: =SUM(G46,K46) -> 216 | O46: =(N46)*16 -> 3456 | P46: =(N46)*1.4 -> 302.4
B47: 30 | C47: 53/10 | E47: BUDYNEK MIESZKALNY | F47: W02 | G47: 216 | H47: =(G47)*16 -> 3456 | I47: =(G47)*1.4 -> 302.4 | J47: II | L47: =(K47)*16 -> 0 | M47: =(K47)*1.4 -> 0 | N47: =SUM(G47,K47) -> 216 | O47: =(N47)*16 -> 3456 | P47: =(N47)*1.4 -> 302.4
E48: BUDYNEK GOSPODARCZY | F48: W02 | G48: 24 | H48: =(G48)*16 -> 384 | I48: =(G48)*1.4 -> 33.6 | J48: II | L48: =(K48)*16 -> 0 | M48: =(K48)*1.4 -> 0 | N48: =SUM(G48,K48) -> 24 | O48: =(N48)*16 -> 384 | P48: =(N48)*1.4 -> 33.6
B49: 31 | C49: 53/7 | E49: BUDYNEK MIESZKALNY | F49: W02 | G49: 216 | H49: =(G49)*16 -> 3456 | I49: =(G49)*1.4 -> 302.4 | J49: II | L49: =(K49)*16 -> 0 | M49: =(K49)*1.4 -> 0 | N49: =SUM(G49,K49) -> 216 | O49: =(N49)*16 -> 3456 | P49: =(N49)*1.4 -> 302.4
B50: 25 | C50: 60/1 | E50: BUDYNEK MIESZKALNY | F50: W02 | G50: 270 | H50: =(G50)*16 -> 4320 | I50: =(G50)*1.4 -> 378 | J50: II | L50: =(K50)*16 -> 0 | M50: =(K50)*1.4 -> 0 | N50: =SUM(G50,K50) -> 270 | O50: =(N50)*16 -> 4320 | P50: =(N50)*1.4 -> 378
B51: PGR | C51: 53/19 | E51: BUDYNEK GOSPODARCZY | F51: W02 | G51: 208 | H51: =(G51)*16 -> 3328 | I51: =(G51)*1.4 -> 291.2 | J51: II | L51: =(K51)*16 -> 0 | M51: =(K51)*1.4 -> 0 | N51: =SUM(G51,K51) -> 208 | O51: =(N51)*16 -> 3328 | P51: =(N51)*1.4 -> 291.2
E52: BUDYNEK GOSPODARCZY | F52: W02 | G52: 720 | H52: =(G52)*16 -> 11520 | I52: =(G52)*1.4 -> 1008 | J52: II | L52: =(K52)*16 -> 0 | M52: =(K52)*1.4 -> 0 | N52: =SUM(G52,K52) -> 720 | O52: =(N52)*16 -> 11520 | P52: =(N52)*1.4 -> 1008
E53: BUDYNEK GOSPODARCZY | F53: W02 | G53: 96 | H53: =(G53)*16 -> 1536 | I53: =(G53)*1.4 -> 134.4 | J53: II | L53: =(K53)*16 -> 0 | M53: =(K53)*1.4 -> 0 | N53: =SUM(G53,K53) -> 96 | O53: =(N53)*16 -> 1536 | P53: =(N53)*1.4 -> 134.4
E54: BUDYNEK GOSPODARCZY | F54: W02 | G54: 400 | H54: =(G54)*16 -> 6400 | I54: =(G54)*1.4 -> 560 | J54: II | L54: =(K54)*16 -> 0 | M54: =(K54)*1.4 -> 0 | N54: =SUM(G54,K54) -> 400 | O54: =(N54)*16 -> 6400 | P54: =(N54)*1.4 -> 560
E55: BUDYNEK GOSPODARCZY | F55: W02 | G55: 24 | H55: =(G55)*16 -> 384 | I55: =(G55)*1.4 -> 33.6 | J55: II | L55: =(K55)*16 -> 0 | M55: =(K55)*1.4 -> 0 | N55: =SUM(G55,K55) -> 24 | O55: =(N55)*16 -> 384 | P55: =(N55)*1.4 -> 33.6
E56: BUDYNEK GOSPODARCZY | F56: W02 | G56: 420 | H56: =(G56)*16 -> 6720 | I56: =(G56)*1.4 -> 588 | J56: II | L56: =(K56)*16 -> 0 | M56: =(K56)*1.4 -> 0 | N56: =SUM(G56,K56) -> 420 | O56: =(N56)*16 -> 6720 | P56: =(N56)*1.4 -> 588
A58: SUMA | G58: =SUM(G2:G57) -> 10260 | H58: =SUM(H2:H57) -> 164160 | I58: =SUM(I2:I57) -> 14364 | K58: =SUM(K2:K57) -> 72 | L58: =SUM(L2:L57) -> 1152 | M58: =SUM(M2:M57) -> 100.8 | N58: =SUM(N2:N57) -> 10332 | O58: =SUM(O2:O57) -> 165312 | P58: =SUM(P2:P57) -> 14464.8

Sheet Karolin
A1: MIEJSCOWOŚĆ | B1: ADRES (NR. POSESJI) | C1: NR. DZIAŁKI EWIDENCYJNEJ | D1: NR. OBRĘBU EWIDENCYJNEGO | E1: RODZAJ ZABUDOWY | F1: NAZWA/RODZAJ WYROBU | G1: ILOŚĆ POSIADANYCH WYROBÓW BĘDĄCYCH W UŻYCIU (W SZT.) | H1: WAGA POSIADANYCH WYROBÓW BĘDĄCYCH W UŻYCIU (W KG.) | I1: POWIERZCHNIA POSIADANYCH WYROBÓW BĘDĄCYCH W UŻYCIU (W M2) | J1: STOPIEŃ PILNOŚCI (I-III) | K1: ILOŚĆ POSIADANYCH WYROBÓW ZŁOŻONYCH NA POSESJI (W SZT.) | L1: WAGA POSIADANYCH WYROBÓW ZŁOŻONYCH NA POSESJI (W KG.) | M1: POWIERZCHNIA POSIADANYCH WYROBÓW ZŁOŻONYCH NA POSESJI (W M2) | N1: ILOŚĆ POSIADANYCH WYROBÓW BĘDĄCYCH W UŻYCIU I ZŁOŻONYCH NA POSESJI W SUMIE (W SZT.) | O1: WAGA POSIADANYCH WYROBÓW BĘDĄCYCH W UŻYCIU I ZŁOŻONYCH NA POSESJI W SUMIE (W KG.) | P1: POWIERZCHNIA POSIADANYCH WYROBÓW BĘDĄCYCH W UŻYCIU I ZŁOŻONYCH NA POSESJI W SUMIE (W M2)
A2: Karolin | B2: 1 | C2: 560/1 | D2: 0001 | E2: BUDYNEK GOSPODARCZY | F2: W02 | G2: 140 | H2: =(G2)*16 -> 2240 | I2: =(G2)*1.4 -> 196 | J2: II | L2: =(K2)*16 -> 0 | M2: =(K2)*1.4 -> 0 | N2: =SUM(G2,K2) -> 140 | O2: =(N2)*16 -> 2240 | P2: =(N2)*1.4 -> 196
E3: BUDYNEK GOSPODARCZY | F3: W02 | G3: 120 | H3: =(G3)*16 -> 1920 | I3: =(G3)*1.4 -> 168 | J3: II | L3: =(K3)*16 -> 0 | M3: =(K3)*1.4 -> 0 | N3: =SUM(G3,K3) -> 120 | O3: =(N3)*16 -> 1920 | P3: =(N3)*1.4 -> 168
E4: BUDYNEK GOSPODARCZY | F4: W02 | G4: 270 | H4: =(G4)*16 -> 4320 | I4: =(G4)*1.4 -> 378 | J4: II | L4: =(K4)*16 -> 0 | M4: =(K4)*1.4 -> 0 | N4: =SUM(G4,K4) -> 270 | O4: =(N4)*16 -> 4320 | P4: =(N4)*1.4 -> 378
B5: 3A | C5: 511/4 | E5: BUDYNEK MIESZKALNY | F5: W02 | G5: 80 | H5: 1280 | I5: 112 | J5: II | L5: 0 | M5: 80 | N5: 1280 | O5: 1280 | P5: 112
B6: 3A | C6: 511/5 | E6: BUDYNEK GOSPODARCZY | F6: W02 | G6: 400 | H6: 6400 | I6: 560 | J6: II | L6: 0 | M6: 0
B7: 10 | C7: 525 | E7: BUDYNEK MIESZKALNY | F7: W02 | G7: 98 | H7: =(G7)*16 -> 1568 | I7: =(G7)*1.4 -> 137.2 | J7: II | L7: =(K7)*16 -> 0 | M7: =(K7)*1.4 -> 0 | N7: =SUM(G7,K7) -> 98 | O7: =(N7)*16 -> 1568 | P7: =(N7)*1.4 -> 137.2
B8: 1A | C8: 563/1 | E8: BUDYNEK GOSPODARCZY | F8: W02 | G8: 160 | H8: =(G8)*16 -> 2560 | I8: =(G8)*1.4 -> 224 | J8: II | L8: =(K8)*16 -> 0 | M8: =(K8)*1.4 -> 0 | N8: =SUM(G8,K8) -> 160 | O8: =(N8)*16 -> 2560 | P8: =(N8)*1.4 -> 224
B9: 2 | C9: 557/1 | E9: BUDYNEK GOSPODARCZY | F9: W01 | G9: 128 | H9: =(G9)*16 -> 2048 | I9: =(G9)*1.4 -> 179.2 | J9: I | L9: =(K9)*16 -> 0 | M9: =(K9)*1.4 -> 0 | N9: =SUM(G9,K9) -> 128 | O9: =(N9)*16 -> 2048 | P9: =(N9)*1.4 -> 179.2
B10: 5 | C10: 548/1 | E10: BUDYNEK GOSPODARCZY | F10: W02 | G10: 176 | H10: =(G10)*16 -> 2816 | I10: =(G10)*1.4 -> 246.4 | J10: II | L10: =(K10)*16 -> 0 | M10: =(K10)*1.4 -> 0 | N10: =SUM(G10,K10) -> 176 | O10: =(N10)*16 -> 2816 | P10: =(N10)*1.4 -> 246.4
B11: 8 | C11: 524/13 | E11: BUDYNEK GOSPODARCZY | F11: W02 | G11: 126 | H11: =(G11)*16 -> 2016 | I11: =(G11)*1.4 -> 176.4 | J11: II | L11: =(K11)*16 -> 0 | M11: =(K11)*1.4 -> 0 | N11: =SUM(G11,K11) -> 126 | O11: =(N11)*16 -> 2016 | P11: =(N11)*1.4 -> 176.4
E12: BUDYNEK GOSPODARCZY | F12: W01 | G12: 120 | H12: =(G12)*16 -> 1920 | I12: =(G12)*1.4 -> 168 | J12: II | L12: =(K12)*16 -> 0 | M12: =(K12)*1.4 -> 0 | N12: =SUM(G12,K12) -> 120 | O12: =(N12)*16 -> 1920 | P12: =(N12)*1.4 -> 168
B13: 4 | C13: 549/1 | E13: BUDYNEK GOSPODARCZY | F13: W02 | G13: 192 | H13: =(G13)*16 -> 3072 | I13: =(G13)*1.4 -> 268.8 | J13: II | L13: =(K13)*16 -> 0 | M13: =(K13)*1.4 -> 0 | N13: =SUM(G13,K13) -> 192 | O13: =(N13)*16 -> 3072 | P13: =(N13)*1.4 -> 268.8
E14: BUDYNEK GOSPODARCZY | F14: W02 | G14: 9 | H14: =(G14)*16 -> 144 | I14: =(G14)*1.4 -> 12.6 | J14: II | L14: =(K14)*16 -> 0 | M14: =(K14)*1.4 -> 0 | N14: =SUM(G14,K14) -> 9 | O14: =(N14)*16 -> 144 | P14: =(N14)*1.4 -> 12.6
E15: BUDYNEK GOSPODARCZY | F15: W02 | G15: 48 | H15: =(G15)*16 -> 768 | I15: =(G15)*1.4 -> 67.2 | J15: II | L15: =(K15)*16 -> 0 | M15: =(K15)*1.4 -> 0 | N15: =SUM(G15,K15) -> 48 | O15: =(N15)*16 -> 768 | P15: =(N15)*1.4 -> 67.2
E16: BUDYNEK GOSPODARCZY | F16: W02 | G16: 72 | H16: =(G16)*16 -> 1152 | I16: =(G16)*1.4 -> 100.8 | J16: II | L16: =(K16)*16 -> 0 | M16: =(K16)*1.4 -> 0 | N16: =SUM(G16,K16) -> 72 | O16: =(N16)*16 -> 1152 | P16: =(N16)*1.4 -> 100.8
B17: 6 | C17: 523 | E17: BUDYNEK GOSPODARCZY | F17: w02 | G17: 108 | H17: =(G17)*16 -> 1728 | I17: =(G17)*1.4 -> 151.2 | J17: II | L17: =(K17)*16 -> 0 | M17: =(K17)*1.4 -> 0 | N17: =SUM(G17,K17) -> 108 | O17: =(N17)*16 -> 1728 | P17: =(N17)*1.4 -> 151.2
A19: SUMA | G19: =SUM(G2:G18) -> 2247 | H19: =SUM(H2:H18) -> 35952 | I19: =SUM(I2:I18) -> 3145.8 | K19: =SUM(K2:K18) -> 0 | L19: =SUM(L2:L18) -> 0 | M19: =SUM(M2:M18) -> 80 | N19: =SUM(N2:N18) -> 3047 | O19: =SUM(O2:O18) -> 29552 | P19: =SUM(P2:P18) -> 2585.8

Sheet Konary
A1: MIEJSCOWOŚĆ | B1: ADRES (NR. POSESJI) | C1: NR. DZIAŁKI EWIDENCYJNEJ | D1: NR. OBRĘBU EWIDENCYJNEGO | E1: RODZAJ ZABUDOWY | F1: NAZWA/RODZAJ WYROBU | G1: ILOŚĆ POSIADANYCH WYROBÓW BĘDĄCYCH W UŻYCIU (W SZT.) | H1: WAGA POSIADANYCH WYROBÓW BĘDĄCYCH W UŻYCIU (W KG.) | I1: POWIERZCHNIA POSIADANYCH WYROBÓW BĘDĄCYCH W UŻYCIU (W M2) | J1: STOPIEŃ PILNOŚCI (I-III) | K1: ILOŚĆ POSIADANYCH WYROBÓW ZŁOŻONYCH NA POSESJI (W SZT.) | L1: WAGA POSIADANYCH WYROBÓW ZŁOŻONYCH NA POSESJI (W KG.) | M1: POWIERZCHNIA POSIADANYCH WYROBÓW ZŁOŻONYCH NA POSESJI (W M2) | N1: ILOŚĆ POSIADANYCH WYROBÓW BĘDĄCYCH W UŻYCIU I ZŁOŻONYCH NA POSESJI W SUMIE (W SZT.) | O1: WAGA POSIADANYCH WYROBÓW BĘDĄCYCH W UŻYCIU I ZŁOŻONYCH NA POSESJI W SUMIE (W KG.) | P1: POWIERZCHNIA POSIADANYCH WYROBÓW BĘDĄCYCH W UŻYCIU I ZŁOŻONYCH NA POSESJI W SUMIE (W M2)
A2: Konary | B2: 12 | C2: 50 | D2: 0001 | E2: BUDYNEK MIESZKALNY | F2: W01 | G2: 80 | H2: =(G2)*16 -> 1280 | I2: =(G2)*1.4 -> 112 | J2: II | L2: =(K2)*16 -> 0 | M2: =(K2)*1.4 -> 0 | N2: =SUM(G2,K2) -> 80 | O2: =(N2)*16 -> 1280 | P2: =(N2)*1.4 -> 112
E3: BUDYNEK GOSPODARCZY | F3: W02 | G3: 372 | H3: =(G3)*16 -> 5952 | I3: =(G3)*1.4 -> 520.8 | J3: II | L3: =(K3)*16 -> 0 | M3: =(K3)*1.4 -> 0 | N3: =SUM(G3,K3) -> 372 | O3: =(N3)*16 -> 5952 | P3: =(N3)*1.4 -> 520.8
B4: 3 | C4: 60/2 | E4: BUDYNEK GOSPODARCZY | F4: W02 | G4: 216 | H4: =(G4)*16 -> 3456 | I4: =(G4)*1.4 -> 302.4 | J4: III | L4: =(K4)*16 -> 0 | M4: =(K4)*1.4 -> 0 | N4: =SUM(G4,K4) -> 216 | O4: =(N4)*16 -> 3456 | P4: =(N4)*1.4 -> 302.4
E5: BUDYNEK GOSPODARCZY | F5: W02 | G5: 64 | H5: =(G5)*16 -> 1024 | I5: =(G5)*1.4 -> 89.6 | J5: II | L5: =(K5)*16 -> 0 | M5: =(K5)*1.4 -> 0 | N5: =SUM(G5,K5) -> 64 | O5: =(N5)*16 -> 1024 | P5: =(N5)*1.4 -> 89.6
E6: BUDYNEK GOSPODARCZY | F6: W02 | G6: 128 | H6: =(G6)*16 -> 2048 | I6: =(G6)*1.4 -> 179.2 | J6: II | L6: =(K6)*16 -> 0 | M6: =(K6)*1.4 -> 0 | N6: =SUM(G6,K6) -> 128 | O6: =(N6)*16 -> 2048 | P6: =(N6)*1.4 -> 179.2
E7: BUDYNEK GOSPODARCZY | F7: W02 | G7: 20 | H7: =(G7)*16 -> 320 | I7: =(G7)*1.4 -> 28 | J7: II | L7: =(K7)*16 -> 0 | M7: =(K7)*1.4 -> 0 | N7: =SUM(G7,K7) -> 20 | O7: =(N7)*16 -> 320 | P7: =(N7)*1.4 -> 28
E9: BUDYNEK GOSPODARCZY | F9: W02 | G9: 12 | H9: =(G9)*16 -> 192 | I9: =(G9)*1.4 -> 16.8 | J9: II | L9: =(K9)*16 -> 0 | M9: =(K9)*1.4 -> 0 | N9: =SUM(G9,K9) -> 12 | O9: =(N9)*16 -> 192 | P9: =(N9)*1.4 -> 16.8
B10: 2 | C10: 65/1 | E10: BUDYNEK GOSPODARCZY | F10: W01 | G10: 160 | H10: =(G10)*16 -> 2560 | I10: =(G10)*1.4 -> 224 | J10: II | L10: =(K10)*16 -> 0 | M10: =(K10)*1.4 -> 0 | N10: =SUM(G10,K10) -> 160 | O10: =(N10)*16 -> 2560 | P10: =(N10)*1.4 -> 224
E11: BUDYNEK GOSPODARCZY | F11: W02 | G11: 210 | H11: =(G11)*16 -> 3360 | I11: =(G11)*1.4 -> 294 | J11: II | L11: =(K11)*16 -> 0 | M11: =(K11)*1.4 -> 0 | N11: =SUM(G11,K11) -> 210 | O11: =(N11)*16 -> 3360 | P11: =(N11)*1.4 -> 294
B12: 4 | C12: 67/4 | E12: BUDYNEK MIESZKALNY | F12: W02 | G12: 144 | H12: =(G12)*16 -> 2304 | I12: =(G12)*1.4 -> 201.6 | J12: II | L12: =(K12)*16 -> 0 | M12: =(K12)*1.4 -> 0 | N12: =SUM(G12,K12) -> 144 | O12: =(N12)*16 -> 2304 | P12: =(N12)*1.4 -> 201.6
B13: 23 | C13: 21/1 | E13: BUDYNEK MIESZKALNY | F13: W02 | G13: 150 | H13: =(G13)*16 -> 2400 | I13: =(G13)*1.4 -> 210 | J13: II | L13: =(K13)*16 -> 0 | M13: =(K13)*1.4 -> 0 | N13: =SUM(G13,K13) -> 150 | O13: =(N13)*16 -> 2400 | P13: =(N13)*1.4 -> 210
B14: 21 | C14: 18 | E14: BUDYNEK MIESZKALNY | F14: W02 | G14: 210 | H14: =(G14)*16 -> 3360 | I14: =(G14)*1.4 -> 294 | J14: II | L14: =(K14)*16 -> 0 | M14: =(K14)*1.4 -> 0 | N14: =SUM(G14,K14) -> 210 | O14: =(N14)*16 -> 3360 | P14: =(N14)*1.4 -> 294
E15: BUDYNEK GOSPODARCZY | F15: W02 | G15: 168 | H15: =(G15)*16 -> 2688 | I15: =(G15)*1.4 -> 235.2 | J15: II | L15: =(K15)*16 -> 0 | M15: =(K15)*1.4 -> 0 | N15: =SUM(G15,K15) -> 168 | O15: =(N15)*16 -> 2688 | P15: =(N15)*1.4 -> 235.2
B16: 18 | C16: 29 | E16: BUDYNEK MIESZKALNY | F16: W02 | G16: 160 | H16: =(G16)*16 -> 2560 | I16: =(G16)*1.4 -> 224 | J16: II | L16: =(K16)*16 -> 0 | M16: =(K16)*1.4 -> 0 | N16: =SUM(G16,K16) -> 160 | O16: =(N16)*16 -> 2560 | P16: =(N16)*1.4 -> 224
B17: 6 | C17: 56/2 | E17: BUDYNEK GOSPODARCZY | F17: W02 | G17: 180 | H17: =(G17)*16 -> 2880 | I17: =(G17)*1.4 -> 252 | J17: II | L17: =(K17)*16 -> 0 | M17: =(K17)*1.4 -> 0 | N17: =SUM(G17,K17) -> 180 | O17: =(N17)*16 -> 2880 | P17: =(N17)*1.4 -> 252
B18: 5 | C18: 68 | E18: BUDYNEK GOSPODARCZY | F18: W02 | G18: 360 | H18: =(G18)*16 -> 5760 | I18: =(G18)*1.4 -> 504 | J18: II | L18: =(K18)*16 -> 0 | M18: =(K18)*1.4 -> 0 | N18: =SUM(G18,K18) -> 360 | O18: =(N18)*16 -> 5760 | P18: =(N18)*1.4 -> 504
E19: BUDYNEK GOSPODARCZY | F19: W02 | G19: 6 | H19: =(G19)*16 -> 96 | I19: =(G19)*1.4 -> 8.4 | J19: II | L19: =(K19)*16 -> 0 | M19: =(K19)*1.4 -> 0 | N19: =SUM(G19,K19) -> 6 | O19: =(N19)*16 -> 96 | P19: =(N19)*1.4 -> 8.4
B20: 7 | C20: 69/1 | E20: BUDYNEK GOSPODARCZY | F20: W01 | G20: 300 | H20: =(G20)*16 -> 4800 | I20: =(G20)*1.4 -> 420 | J20: II | L20: =(K20)*16 -> 0 | M20: =(K20)*1.4 -> 0 | N20: =SUM(G20,K20) -> 300 | O20: =(N20)*16 -> 4800 | P20: =(N20)*1.4 -> 420
E21: BUDYNEK GOSPODARCZY | F21: W02 | G21: 240 | H21: =(G21)*16 -> 3840 | I21: =(G21)*1.4 -> 336 | J21: II | L21: =(K21)*16 -> 0 | M21: =(K21)*1.4 -> 0 | N21: =SUM(G21,K21) -> 240 | O21: =(N21)*16 -> 3840 | P21: =(N21)*1.4 -> 336
E22: BUDYNEK GOSPODARCZY | F22: W02 | G22: 96 | H22: =(G22)*16 -> 1536 | I22: =(G22)*1.4 -> 134.4 | J22: II | L22: =(K22)*16 -> 0 | M22: =(K22)*1.4 -> 0 | N22: =SUM(G22,K22) -> 96 | O22: =(N22)*16 -> 1536 | P22: =(N22)*1.4 -> 134.4
B23: 22 | C23: 26 | E23: BUDYNEK MIESZKALNY | F23: W02 | G23: 140 | H23: =(G23)*16 -> 2240 | I23: =(G23)*1.4 -> 196 | J23: II | L23: 0 | M23: 0 | N23: =SUM(G23,K23) -> 140 | O23: =(N23)*16 -> 2240 | P23: =(N23)*1.4 -> 196
B24: 22 | C24: 20 | E24: BUDYNEK MIESZKALNY | F24: W02 | G24: 100 | H24: =(G24)*16 -> 1600 | I24: =(G24)*1.4 -> 140 | J24: II | L24: 0 | M24: 0 | N24: =SUM(G24,K24) -> 100 | O24: =(N24)*16 -> 1600 | P24: =(N24)*1.4 -> 140
E25: BUDYNEK GOSPODARCZY | F25: W02 | G25: 120 | H25: =(G25)*16 -> 1920 | I25: =(G25)*1.4 -> 168 | J25: II | L25: =(K25)*16 -> 0 | M25: =(K25)*1.4 -> 0 | N25: =SUM(G25,K25) -> 120 | O25: =(N25)*16 -> 1920 | P25: =(N25)*1.4 -> 168
E26: BUDYNEK GOSPODARCZY | F26: W02 | G26: 145 | H26: =(G26)*16 -> 2320 | I26: =(G26)*1.4 -> 203 | J26: II | L26: =(K26)*16 -> 0 | M26: =(K26)*1.4 -> 0 | N26: =SUM(G26,K26) -> 145 | O26: =(N26)*16 -> 2320 | P26: =(N26)*1.4 -> 203
E27: BUDYNEK GOSPODARCZY | F27: W02 | G27: 171 | H27: =(G27)*16 -> 2736 | I27: =(G27)*1.4 -> 239.4 | J27: II | L27: =(K27)*16 -> 0 | M27: =(K27)*1.4 -> 0 | N27: =SUM(G27,K27) -> 171 | O27: =(N27)*16 -> 2736 | P27: =(N27)*1.4 -> 239.4
B28: 20 | C28: 17/2 | E28: BUDYNEK MIESZKALNY | F28: W02 | G28: 64 | H28: =(G28)*16 -> 1024 | I28: =(G28)*1.4 -> 89.6 | J28: II | L28: =(K28)*16 -> 0 | M28: =(K28)*1.4 -> 0 | N28: =SUM(G28,K28) -> 64 | O28: =(N28)*16 -> 1024 | P28: =(N28)*1.4 -> 89.6
E29: BUDYNEK MIESZKALNY | F29: W02 | G29: 144 | H29: =(G29)*16 -> 2304 | I29: =(G29)*1.4 -> 201.6 | J29: II | L29: =(K29)*16 -> 0 | M29: =(K29)*1.4 -> 0 | N29: =SUM(G29,K29) -> 144 | O29: =(N29)*16 -> 2304 | P29: =(N29)*1.4 -> 201.6
E30: BUDYNEK GOSPODARCZY | F30: W02 | G30: 40 | H30: =(G30)*16 -> 640 | I30: =(G30)*1.4 -> 56 | J30: II | L30: =(K30)*16 -> 0 | M30: =(K30)*1.4 -> 0 | N30: =SUM(G30,K30) -> 40 | O30: =(N30)*16 -> 640 | P30: =(N30)*1.4 -> 56
B31: 8 | C31: 55/1 | E31: BUDYNEK MIESZKALNY | F31: W02 | G31: 144 | H31: =(G31)*16 -> 2304 | I31: =(G31)*1.4 -> 201.6 | J31: II | L31: =(K31)*16 -> 0 | M31: =(K31)*1.4 -> 0 | N31: =SUM(G31,K31) -> 144 | O31: =(N31)*16 -> 2304 | P31: =(N31)*1.4 -> 201.6
E33: BUDYNEK GOSPODARCZY | F33: W01 | G33: 112 | H33: =(G33)*16 -> 1792 | I33: =(G33)*1.4 -> 156.8 | J33: II | L33: =(K33)*16 -> 0 | M33: =(K33)*1.4 -> 0 | N33: =SUM(G33,K33) -> 112 | O33: =(N33)*16 -> 1792 | P33: =(N33)*1.4 -> 156.8
B34: 9 | C34: 70/1 | E34: BUDYNEK GOSPODARCZY | F34: W02 | G34: 144 | H34: =(G34)*16 -> 2304 | I34: =(G34)*1.4 -> 201.6 | J34: II | L34: =(K34)*16 -> 0 | M34: =(K34)*1.4 -> 0 | N34: =SUM(G34,K34) -> 144 | O34: =(N34)*16 -> 2304 | P34: =(N34)*1.4 -> 201.6
B36: 16 | C36: 39/3 | E36: BUDYNEK GOSPODARCZY | F36: W02 | G36: 280 | H36: =(G36)*16 -> 4480 | I36: =(G36)*1.4 -> 392 | J36: II | L36: =(K36)*16 -> 0 | M36: =(K36)*1.4 -> 0 | N36: =SUM(G36,K36) -> 280 | O36: =(N36)*16 -> 4480 | P36: =(N36)*1.4 -> 392
E37: BUDYNEK GOSPODARCZY | F37: W01 | G37: 128 | H37: =(G37)*16 -> 2048 | I37: =(G37)*1.4 -> 179.2 | J37: II | L37: =(K37)*16 -> 0 | M37: =(K37)*1.4 -> 0 | N37: =SUM(G37,K37) -> 128 | O37: =(N37)*16 -> 2048 | P37: =(N37)*1.4 -> 179.2
B38: 19 | C38: 16/3 | E38: BUDYNEK GOSPODARCZY | F38: W02 | G38: 132 | H38: =(G38)*16 -> 2112 | I38: =(G38)*1.4 -> 184.8 | J38: II | L38: =(K38)*16 -> 0 | M38: =(K38)*1.4 -> 0 | N38: =SUM(G38,K38) -> 132 | O38: =(N38)*16 -> 2112 | P38: =(N38)*1.4 -> 184.8
B39: 15 | C39: 38/2 | E39: BUDYNEK MIESZKALNY | F39: W02 | G39: 100 | H39: =(G39)*16 -> 1600 | I39: =(G39)*1.4 -> 140 | J39: III | L39: =(K39)*16 -> 0 | M39: =(K39)*1.4 -> 0 | N39: =SUM(G39,K39) -> 100 | O39: =(N39)*16 -> 1600 | P39: =(N39)*1.4 -> 140
E40: BUDYNEK GOSPODARCZY | F40: W02 | G40: 100 | H40: =(G40)*16 -> 1600 | I40: =(G40)*1.4 -> 140 | J40: II | L40: =(K40)*16 -> 0 | M40: =(K40)*1.4 -> 0 | N40: =SUM(G40,K40) -> 100 | O40: =(N40)*16 -> 1600 | P40: =(N40)*1.4 -> 140
E41: BUDYNEK GOSPODARCZY | F41: W02 | G41: 236 | H41: =(G41)*16 -> 3776 | I41: =(G41)*1.4 -> 330.4 | J41: II | L41: =(K41)*16 -> 0 | M41: =(K41)*1.4 -> 0 | N41: =SUM(G41,K41) -> 236 | O41: =(N41)*16 -> 3776 | P41: =(N41)*1.4 -> 330.4
B42: 14 | C42: 45/2 | E42: BUDYNEK GOSPODARCZY | F42: W02 | G42: 80 | H42: =(G42)*16 -> 1280 | I42: =(G42)*1.4 -> 112 | J42: II | L42: =(K42)*16 -> 0 | M42: =(K42)*1.4 -> 0 | N42: =SUM(G42,K42) -> 80 | O42: =(N42)*16 -> 1280 | P42: =(N42)*1.4 -> 112
B43: 3 | C43: 60/2 | E43: BUDYNEK MIESZKALNY | F43: W02 | G43: 130 | H43: =(G43)*16 -> 2080 | I43: =(G43)*1.4 -> 182 | J43: II | L43: 0 | M43: 0 | N43: =SUM(G43,K43) -> 130 | O43: =(N43)*16 -> 2080 | P43: =(N43)*1.4 -> 182
B44: 11 | C44: 124 | E44: BUDYNEK MIESZKALNY | F44: W02 | G44: 93 | H44: =(G44)*16 -> 1488 | I44: =(G44)*1.4 -> 130.2 | J44: II | L44: 0 | M44: 0 | N44: =SUM(G44,K44) -> 93 | O44: =(N44)*16 -> 1488 | P44: =(N44)*1.4 -> 130.2
B45: 11 | C45: 124 | E45: BUDYNEK GOSPODARCZY | F45: W02 | G45: 200 | H45: =(G45)*16 -> 3200 | I45: =(G45)*1.4 -> 280 | J45: II | L45: 0 | M45: 0 | N45: =SUM(G45,K45) -> 200 | O45: =(N45)*16 -> 3200 | P45: =(N45)*1.4 -> 280
A46: SUMA | G46: =SUM(G2:G45) -> 6079 | H46: =SUM(H2:H45) -> 97264 | I46: =SUM(I2:I45) -> 8510.6 | K46: =SUM(K2:K43) -> 0 | L46: =SUM(L2:L43) -> 0 | M46: =SUM(M2:M43) -> 0 | N46: =SUM(N2:N45) -> 6079 | O46: =SUM(O2:O45) -> 97264 | P46: =SUM(P2:P45) -> 8510.6

Sheet Kościelna Wieś
A1: MIEJSCOWOŚĆ | B1: ADRES (NR. POSESJI) | C1: NR. DZIAŁKI EWIDENCYJNEJ | D1: NR. OBRĘBU EWIDENCYJNEGO | E1: RODZAJ ZABUDOWY | F1: NAZWA/RODZAJ WYROBU | G1: ILOŚĆ POSIADANYCH WYROBÓW BĘDĄCYCH W UŻYCIU (W SZT.) | H1: WAGA POSIADANYCH WYROBÓW BĘDĄCYCH W UŻYCIU (W KG.) | I1: POWIERZCHNIA POSIADANYCH WYROBÓW BĘDĄCYCH W UŻYCIU (W M2) | J1: STOPIEŃ PILNOŚCI (I-III) | K1: ILOŚĆ POSIADANYCH WYROBÓW ZŁOŻONYCH NA POSESJI (W SZT.) | L1: WAGA POSIADANYCH WYROBÓW ZŁOŻONYCH NA POSESJI (W KG.) | M1: POWIERZCHNIA POSIADANYCH WYROBÓW ZŁOŻONYCH NA POSESJI (W M2) | N1: ILOŚĆ POSIADANYCH WYROBÓW BĘDĄCYCH W UŻYCIU I ZŁOŻONYCH NA POSESJI W SUMIE (W SZT.) | O1: WAGA POSIADANYCH WYROBÓW BĘDĄCYCH W UŻYCIU I ZŁOŻONYCH NA POSESJI W SUMIE (W KG.) | P1: POWIERZCHNIA POSIADANYCH WYROBÓW BĘDĄCYCH W UŻYCIU I ZŁOŻONYCH NA POSESJI W SUMIE (W M2)
A2: Kościelna Wieś | B2: 57 | C2: 113/1 | D2: 0001 | E2: BUDYNEK MIESZKALNY | F2: W01 | G2: 96 | H2: =(G2)*16 -> 1536 | I2: =(G2)*1.4 -> 134.4 | J2: II | L2: =(K2)*16 -> 0 | M2: =(K2)*1.4 -> 0 | N2: =SUM(G2,K2) -> 96 | O2: =(N2)*16 -> 1536 | P2: =(N2)*1.4 -> 134.4
B3: 55 | C3: 124 | E3: BUDYNEK MIESZKALNY | F3: W02 | G3: 100 | H3: =(G3)*16 -> 1600 | I3: =(G3)*1.4 -> 140 | J3: II | L3: =(K3)*16 -> 0 | M3: =(K3)*1.4 -> 0 | N3: =SUM(G3,K3) -> 100 | O3: =(N3)*16 -> 1600 | P3: =(N3)*1.4 -> 140
B4: 50 | C4: 119/3 | E4: BUDYNEK MIESZKALNY | F4: W02 | G4: 126 | H4: =(G4)*16 -> 2016 | I4: =(G4)*1.4 -> 176.4 | J4: II | L4: =(K4)*16 -> 0 | M4: =(K4)*1.4 -> 0 | N4: =SUM(G4,K4) -> 126 | O4: =(N4)*16 -> 2016 | P4: =(N4)*1.4 -> 176.4
E5: BUDYNEK GOSPODARCZY | F5: W02 | G5: 40 | H5: =(G5)*16 -> 640 | I5: =(G5)*1.4 -> 56 | J5: II | L5: =(K5)*16 -> 0 | M5: =(K5)*1.4 -> 0 | N5: =SUM(G5,K5) -> 40 | O5: =(N5)*16 -> 640 | P5: =(N5)*1.4 -> 56
B6: 61 | C6: 117/1 | E6: BUDYNEK GOSPODARCZY | F6: W02 | G6: 60 | H6: =(G6)*16 -> 960 | I6: =(G6)*1.4 -> 84 | J6: II | L6: =(K6)*16 -> 0 | M6: =(K6)*1.4 -> 0 | N6: =SUM(G6,K6) -> 60 | O6: =(N6)*16 -> 960 | P6: =(N6)*1.4 -> 84
E7: BUDYNEK GOSPODARCZY | F7: W01 | G7: 80 | H7: =(G7)*16 -> 1280 | I7: =(G7)*1.4 -> 112 | J7: II | L7: =(K7)*16 -> 0 | M7: =(K7)*1.4 -> 0 | N7: =SUM(G7,K7) -> 80 | O7: =(N7)*16 -> 1280 | P7: =(N7)*1.4 -> 112
B8: 60 | C8: 109/4 | E8: BUDYNEK MIESZKALNY | F8: W02 | G8: 112 | H8: =(G8)*16 -> 1792 | I8: =(G8)*1.4 -> 156.8 | J8: II | L8: =(K8)*16 -> 0 | M8: =(K8)*1.4 -> 0 | N8: =SUM(G8,K8) -> 112 | O8: =(N8)*16 -> 1792 | P8: =(N8)*1.4 -> 156.8
E9: BUDYNEK GOSPODARCZY | F9: W02 | G9: 36 | H9: =(G9)*16 -> 576 | I9: =(G9)*1.4 -> 50.4 | J9: II | L9: =(K9)*16 -> 0 | M9: =(K9)*1.4 -> 0 | N9: =SUM(G9,K9) -> 36 | O9: =(N9)*16 -> 576 | P9: =(N9)*1.4 -> 50.4
B10: 48 | C10: 127/1 | E10: BUDYNEK GOSPODARCZY | F10: W02 | G10: 180 | H10: =(G10)*16 -> 2880 | I10: =(G10)*1.4 -> 252 | J10: II | L10: =(K10)*16 -> 0 | M10: =(K10)*1.4 -> 0 | N10: =SUM(G10,K10) -> 180 | O10: =(N10)*16 -> 2880 | P10: =(N10)*1.4 -> 252
B11: 56 | C11: 114/4 | E11: BUDYNEK MIESZKALNY | F11: W02 | G11: 224 | H11: =(G11)*16 -> 3584 | I11: =(G11)*1.4 -> 313.6 | J11: II | L11: =(K11)*16 -> 0 | M11: =(K11)*1.4 -> 0 | N11: =SUM(G11,K11) -> 224 | O11: =(N11)*16 -> 3584 | P11: =(N11)*1.4 -> 313.6
B12: 57 | C12: 113/1 | E12: BUDYNEK GOSPODARCZY | F12: W02 | G12: 121 | H12: =(G12)*16 -> 1936 | I12: =(G12)*1.4 -> 169.4 | J12: II | L12: =(K12)*16 -> 0 | M12: =(K12)*1.4 -> 0 | N12: =SUM(G12,K12) -> 121 | O12: =(N12)*16 -> 1936 | P12: =(N12)*1.4 -> 169.4
B13: 28 | C13: 173 | E13: BUDYNEK MIESZKALNY | F13: W02 | G13: 96 | H13: =(G13)*16 -> 1536 | I13: =(G13)*1.4 -> 134.4 | J13: II | L13: =(K13)*16 -> 0 | M13: =(K13)*1.4 -> 0 | N13: =SUM(G13,K13) -> 96 | O13: =(N13)*16 -> 1536 | P13: =(N13)*1.4 -> 134.4
E14: BUDYNEK GOSPODARCZY | F14: W02 | G14: 88 | H14: =(G14)*16 -> 1408 | I14: =(G14)*1.4 -> 123.2 | J14: II | L14: =(K14)*16 -> 0 | M14: =(K14)*1.4 -> 0 | N14: =SUM(G14,K14) -> 88 | O14: =(N14)*16 -> 1408 | P14: =(N14)*1.4 -> 123.2
E15: BUDYNEK GOSPODARCZY | F15: W02 | G15: 50 | H15: =(G15)*16 -> 800 | I15: =(G15)*1.4 -> 70 | J15: II | L15: =(K15)*16 -> 0 | M15: =(K15)*1.4 -> 0 | N15: =SUM(G15,K15) -> 50 | O15: =(N15)*16 -> 800 | P15: =(N15)*1.4 -> 70
E16: BUDYNEK GOSPODARCZY | F16: W02 | G16: 20 | H16: =(G16)*16 -> 320 | I16: =(G16)*1.4 -> 28 | J16: II | L16: =(K16)*16 -> 0 | M16: =(K16)*1.4 -> 0 | N16: =SUM(G16,K16) -> 20 | O16: =(N16)*16 -> 320 | P16: =(N16)*1.4 -> 28
B17: 29 | C17: 172/1 | E17: BUDYNEK MIESZKALNY | F17: W01 | G17: 0 | H17: 0 | I17: =(G17)*1.4 -> 0 | J17: II | K17: 129 | L17: 3612 | M17: 180.6 | N17: =SUM(G17,K17) -> 129 | O17: =(N17)*16 -> 2064 | P17: =(N17)*1.4 -> 180.6
B18: 29 | C18: 172/1 | E18: BUDYNEK GOSPODARCZY | F18: W02 | G18: 135 | H18: =(G18)*16 -> 2160 | I18: =(G18)*1.4 -> 189 | J18: II | L18: =(K18)*16 -> 0 | M18: =(K18)*1.4 -> 0 | N18: =SUM(G18,K18) -> 135 | O18: =(N18)*16 -> 2160 | P18: =(N18)*1.4 -> 189
B19: 30 | C19: 156/4 | E19: BUDYNEK MIESZKALNY | F19: W02 | G19: 96 | H19: =(G19)*16 -> 1536 | I19: =(G19)*1.4 -> 134.4 | J19: II | L19: =(K19)*16 -> 0 | M19: =(K19)*1.4 -> 0 | N19: =SUM(G19,K19) -> 96 | O19: =(N19)*16 -> 1536 | P19: =(N19)*1.4 -> 134.4
E20: BUDYNEK GOSPODARCZY | F20: W02 | G20: 200 | H20: =(G20)*16 -> 3200 | I20: =(G20)*1.4 -> 280 | J20: II | L20: =(K20)*16 -> 0 | M20: =(K20)*1.4 -> 0 | N20: =SUM(G20,K20) -> 200 | O20: =(N20)*16 -> 3200 | P20: =(N20)*1.4 -> 280
E21: BUDYNEK GOSPODARCZY | F21: W02 | G21: 200 | H21: =(G21)*16 -> 3200 | I21: =(G21)*1.4 -> 280 | J21: II | L21: =(K21)*16 -> 0 | M21: =(K21)*1.4 -> 0 | N21: =SUM(G21,K21) -> 200 | O21: =(N21)*16 -> 3200 | P21: =(N21)*1.4 -> 280
E22: BUDYNEK GOSPODARCZY | F22: W02 | G22: 18 | H22: =(G22)*16 -> 288 | I22: =(G22)*1.4 -> 25.2 | J22: II | L22: =(K22)*16 -> 0 | M22: =(K22)*1.4 -> 0 | N22: =SUM(G22,K22) -> 18 | O22: =(N22)*16 -> 288 | P22: =(N22)*1.4 -> 25.2
B23: 31 | C23: 171 | E23: BUDYNEK MIESZKALNY | F23: W01 | G23: 144 | H23: =(G23)*16 -> 2304 | I23: =(G23)*1.4 -> 201.6 | J23: II | L23: =(K23)*16 -> 0 | M23: =(K23)*1.4 -> 0 | N23: =SUM(G23,K23) -> 144 | O23: =(N23)*16 -> 2304 | P23: =(N23)*1.4 -> 201.6
E24: BUDYNEK GOSPODARCZY | F24: W02 | G24: 220 | H24: =(G24)*16 -> 3520 | I24: =(G24)*1.4 -> 308 | J24: II | L24: =(K24)*16 -> 0 | M24: =(K24)*1.4 -> 0 | N24: =SUM(G24,K24) -> 220 | O24: =(N24)*16 -> 3520 | P24: =(N24)*1.4 -> 308
E25: BUDYNEK GOSPODARCZY | F25: W01 | G25: 112 | H25: =(G25)*16 -> 1792 | I25: =(G25)*1.4 -> 156.8 | J25: I | L25: =(K25)*16 -> 0 | M25: =(K25)*1.4 -> 0 | N25: =SUM(G25,K25) -> 112 | O25: =(N25)*16 -> 1792 | P25: =(N25)*1.4 -> 156.8
B26: 32 | C26: 170 | E26: BUDYNEK MIESZKALNY | F26: W01 | G26: 140 | H26: =(G26)*16 -> 2240 | I26: =(G26)*1.4 -> 196 | J26: II | L26: =(K26)*16 -> 0 | M26: =(K26)*1.4 -> 0 | N26: =SUM(G26,K26) -> 140 | O26: =(N26)*16 -> 2240 | P26: =(N26)*1.4 -> 196
E27: BUDYNEK GOSPODARCZY | F27: W01 | G27: 160 | H27: =(G27)*16 -> 2560 | I27: =(G27)*1.4 -> 224 | J27: I | L27: =(K27)*16 -> 0 | M27: =(K27)*1.4 -> 0 | N27: =SUM(G27,K27) -> 160 | O27: =(N27)*16 -> 2560 | P27: =(N27)*1.4 -> 224
E28: BUDYNEK GOSPODARCZY | F28: W02 | G28: 50 | H28: =(G28)*16 -> 800 | I28: =(G28)*1.4 -> 70 | J28: II | L28: =(K28)*16 -> 0 | M28: =(K28)*1.4 -> 0 | N28: =SUM(G28,K28) -> 50 | O28: =(N28)*16 -> 800 | P28: =(N28)*1.4 -> 70
E29: BUDYNEK GOSPODARCZY | F29: W02 | G29: 80 | H29: =(G29)*16 -> 1280 | I29: =(G29)*1.4 -> 112 | J29: II | L29: =(K29)*16 -> 0 | M29: =(K29)*1.4 -> 0 | N29: =SUM(G29,K29) -> 80 | O29: =(N29)*16 -> 1280 | P29: =(N29)*1.4 -> 112
E30: BUDYNEK GOSPODARCZY | F30: W02 | G30: 50 | H30: =(G30)*16 -> 800 | I30: =(G30)*1.4 -> 70 | J30: II | L30: =(K30)*16 -> 0 | M30: =(K30)*1.4 -> 0 | N30: =SUM(G30,K30) -> 50 | O30: =(N30)*16 -> 800 | P30: =(N30)*1.4 -> 70
B31: 34 | C31: 169/1 | E31: BUDYNEK GOSPODARCZY | F31: W02 | G31: 158 | H31: =(G31)*16 -> 2528 | I31: =(G31)*1.4 -> 221.2 | J31: II | L31: =(K31)*16 -> 0 | M31: =(K31)*1.4 -> 0 | N31: =SUM(G31,K31) -> 158 | O31: =(N31)*16 -> 2528 | P31: =(N31)*1.4 -> 221.2
B32: 31 | C32: 206/1 | E32: BUDYNEK GOSPODARCZY | F32: W02 | G32: 140 | H32: =(G32)*16 -> 2240 | I32: =(G32)*1.4 -> 196 | J32: II | L32: =(K32)*16 -> 0 | M32: =(K32)*1.4 -> 0 | N32: =SUM(G32,K32) -> 140 | O32: =(N32)*16 -> 2240 | P32: =(N32)*1.4 -> 196
E33: BUDYNEK GOSPODARCZY | F33: W02 | G33: 15 | H33: =(G33)*16 -> 240 | I33: =(G33)*1.4 -> 21 | J33: I | L33: =(K33)*16 -> 0 | M33: =(K33)*1.4 -> 0 | N33: =SUM(G33,K33) -> 15 | O33: =(N33)*16 -> 240 | P33: =(N33)*1.4 -> 21
B34: 37 | C34: 175/49 | E34: BUDYNEK GOSPODARCZY | F34: W02 | G34: 10 | H34: =(G34)*16 -> 160 | I34: =(G34)*1.4 -> 14 | J34: II | L34: =(K34)*16 -> 0 | M34: =(K34)*1.4 -> 0 | N34: =SUM(G34,K34) -> 10 | O34: =(N34)*16 -> 160 | P34: =(N34)*1.4 -> 14
B35: 38 | C35: 175/50 | E35: BUDYNEK MIESZKALNY | F35: W02 | G35: 200 | H35: =(G35)*16 -> 3200 | I35: =(G35)*1.4 -> 280 | J35: II | L35: =(K35)*16 -> 0 | M35: =(K35)*1.4 -> 0 | N35: =SUM(G35,K35) -> 200 | O35: =(N35)*16 -> 3200 | P35: =(N35)*1.4 -> 280
E36: BUDYNEK GOSPODARCZY | F36: W02 | G36: 160 | H36: =(G36)*16 -> 2560 | I36: =(G36)*1.4 -> 224 | J36: II | L36: =(K36)*16 -> 0 | M36: =(K36)*1.4 -> 0 | N36: =SUM(G36,K36) -> 160 | O36: =(N36)*16 -> 2560 | P36: =(N36)*1.4 -> 224
B37: 40 | C37: 161/1 | E37: BUDYNEK MIESZKALNY | F37: W02 | G37: 160 | H37: =(G37)*16 -> 2560 | I37: =(G37)*1.4 -> 224 | J37: II | L37: =(K37)*16 -> 0 | M37: =(K37)*1.4 -> 0 | N37: =SUM(G37,K37) -> 160 | O37: =(N37)*16 -> 2560 | P37: =(N37)*1.4 -> 224
E38: BUDYNEK GOSPODARCZY | F38: W02 | G38: 160 | H38: =(G38)*16 -> 2560 | I38: =(G38)*1.4 -> 224 | J38: II | L38: =(K38)*16 -> 0 | M38: =(K38)*1.4 -> 0 | N38: =SUM(G38,K38) -> 160 | O38: =(N38)*16 -> 2560 | P38: =(N38)*1.4 -> 224
B39: WODTECH | C39: 175/32 | E39: BUDYNEK GOSPODARCZY | F39: W02 | G39: 336 | H39: =(G39)*16 -> 5376 | I39: =(G39)*1.4 -> 470.4 | J39: II | L39: =(K39)*16 -> 0 | M39: =(K39)*1.4 -> 0 | N39: =SUM(G39,K39) -> 336 | O39: =(N39)*16 -> 5376 | P39: =(N39)*1.4 -> 470.4
B40: 40A | C40: 159/1 | E40: BUDYNEK MIESZKALNY | F40: W02 | G40: 198 | H40: =(G40)*16 -> 3168 | I40: =(G40)*1.4 -> 277.2 | J40: II | L40: =(K40)*16 -> 0 | M40: =(K40)*1.4 -> 0 | N40: =SUM(G40,K40) -> 198 | O40: =(N40)*16 -> 3168 | P40: =(N40)*1.4 -> 277.2
B41: 46 | C41: 143/2 | E41: BUDYNEK MIESZKALNY | F41: W02 | G41: 216 | H41: =(G41)*16 -> 3456 | I41: =(G41)*1.4 -> 302.4 | J41: II | L41: =(K41)*16 -> 0 | M41: =(K41)*1.4 -> 0 | N41: =SUM(G41,K41) -> 216 | O41: =(N41)*16 -> 3456 | P41: =(N41)*1.4 -> 302.4
E42: BUDYNEK GOSPODARCZY | F42: W02 | G42: 96 | H42: =(G42)*16 -> 1536 | I42: =(G42)*1.4 -> 134.4 | J42: II | L42: =(K42)*16 -> 0 | M42: =(K42)*1.4 -> 0 | N42: =SUM(G42,K42) -> 96 | O42: =(N42)*16 -> 1536 | P42: =(N42)*1.4 -> 134.4
B43: 47 | C43: 183/4 | E43: BUDYNEK MIESZKALNY | F43: W02 | G43: 108 | H43: =(G43)*16 -> 1728 | I43: =(G43)*1.4 -> 151.2 | J43: III | L43: =(K43)*16 -> 0 | M43: =(K43)*1.4 -> 0 | N43: =SUM(G43,K43) -> 108 | O43: =(N43)*16 -> 1728 | P43: =(N43)*1.4 -> 151.2
B44: 6 | C44: 81/1 | E44: BUDYNEK GOSPODARCZY | F44: W02 | G44: 32 | H44: =(G44)*16 -> 512 | I44: =(G44)*1.4 -> 44.8 | J44: II | L44: =(K44)*16 -> 0 | M44: =(K44)*1.4 -> 0 | N44: =SUM(G44,K44) -> 32 | O44: =(N44)*16 -> 512 | P44: =(N44)*1.4 -> 44.8
B45: 8 | C45: 186/3 | E45: BUDYNEK MIESZKALNY | F45: W01 | G45: 140 | H45: =(G45)*16 -> 2240 | I45: =(G45)*1.4 -> 196 | J45: II | L45: =(K45)*16 -> 0 | M45: =(K45)*1.4 -> 0 | N45: =SUM(G45,K45) -> 140 | O45: =(N45)*16 -> 2240 | P45: =(N45)*1.4 -> 196
E46: BUDYNEK GOSPODARCZY | F46: W01 | G46: 60 | H46: =(G46)*16 -> 960 | I46: =(G46)*1.4 -> 84 | J46: II | L46: =(K46)*16 -> 0 | M46: =(K46)*1.4 -> 0 | N46: =SUM(G46,K46) -> 60 | O46: =(N46)*16 -> 960 | P46: =(N46)*1.4 -> 84
B47: 9 | C47: 186/2 | E47: BUDYNEK GOSPODARCZY | F47: W01 | G47: 24 | H47: =(G47)*16 -> 384 | I47: =(G47)*1.4 -> 33.6 | J47: II | L47: =(K47)*16 -> 0 | M47: =(K47)*1.4 -> 0 | N47: =SUM(G47,K47) -> 24 | O47: =(N47)*16 -> 384 | P47: =(N47)*1.4 -> 33.6
B48: 12 | C48: 175/13 | E48: BUDYNEK MIESZKALNY | F48: W02 | G48: 192 | H48: =(G48)*16 -> 3072 | I48: =(G48)*1.4 -> 268.8 | J48: III | L48: =(K48)*16 -> 0 | M48: =(K48)*1.4 -> 0 | N48: =SUM(G48,K48) -> 192 | O48: =(N48)*16 -> 3072 | P48: =(N48)*1.4 -> 268.8
B49: 14 | C49: 175/11 | E49: BUDYNEK MIESZKALNY | F49: W02 | G49: 132 | H49: =(G49)*16 -> 2112 | I49: =(G49)*1.4 -> 184.8 | J49: II | L49: =(K49)*16 -> 0 | M49: =(K49)*1.4 -> 0 | N49: =SUM(G49,K49) -> 132 | O49: =(N49)*16 -> 2112 | P49: =(N49)*1.4 -> 184.8
E50: BUDYNEK GOSPODARCZY | F50: W02 | G50: 30 | H50: =(G50)*16 -> 480 | I50: =(G50)*1.4 -> 42 | J50: II | L50: =(K50)*16 -> 0 | M50: =(K50)*1.4 -> 0 | N50: =SUM(G50,K50) -> 30 | O50: =(N50)*16 -> 480 | P50: =(N50)*1.4 -> 42
B51: 18 | C51: 175/10 | E51: BUDYNEK MIESZKALNY | F51: W02 | G51: 208 | H51: =(G51)*16 -> 3328 | I51: =(G51)*1.4 -> 291.2 | J51: II | L51: =(K51)*16 -> 0 | M51: =(K51)*1.4 -> 0 | N51: =SUM(G51,K51) -> 208 | O51: =(N51)*16 -> 3328 | P51: =(N51)*1.4 -> 291.2
B52: 16 | C52: 175/47 | E52: BUDYNEK MIESZKALNY | F52: W02 | G52: 168 | H52: =(G52)*16 -> 2688 | I52: =(G52)*1.4 -> 235.2 | J52: II | L52: =(K52)*16 -> 0 | M52: =(K52)*1.4 -> 0 | N52: =SUM(G52,K52) -> 168 | O52: =(N52)*16 -> 2688 | P52: =(N52)*1.4 -> 235.2
B53: 19 | C53: 175/9 | E53: BUDYNEK GOSPODARCZY | F53: W02 | G53: 24 | H53: =(G53)*16 -> 384 | I53: =(G53)*1.4 -> 33.6 | J53: II | L53: =(K53)*16 -> 0 | M53: =(K53)*1.4 -> 0 | N53: =SUM(G53,K53) -> 24 | O53: =(N53)*16 -> 384 | P53: =(N53)*1.4 -> 33.6
B54: 21 | C54: 80/10 | E54: BUDYNEK MIESZKALNY | F54: W01 | G54: 200 | H54: =(G54)*16 -> 3200 | I54: =(G54)*1.4 -> 280 | J54: II | L54: =(K54)*16 -> 0 | M54: =(K54)*1.4 -> 0 | N54: =SUM(G54,K54) -> 200 | O54: =(N54)*16 -> 3200 | P54: =(N54)*1.4 -> 280
E55: BUDYNEK GOSPODARCZY | F55: W02 | G55: 176 | H55: =(G55)*16 -> 2816 | I55: =(G55)*1.4 -> 246.4 | J55: II | L55: =(K55)*16 -> 0 | M55: =(K55)*1.4 -> 0 | N55: =SUM(G55,K55) -> 176 | O55: =(N55)*16 -> 2816 | P55: =(N55)*1.4 -> 246.4
B56: 23 | C56: 191/9 | E56: BUDYNEK GOSPODARCZY | F56: W02 | G56: 112 | H56: =(G56)*16 -> 1792 | I56: =(G56)*1.4 -> 156.8 | J56: II | L56: =(K56)*16 -> 0 | M56: =(K56)*1.4 -> 0 | N56: =SUM(G56,K56) -> 112 | O56: =(N56)*16 -> 1792 | P56: =(N56)*1.4 -> 156.8
B57: 22 | C57: 61/1 | E57: BUDYNEK MIESZKALNY | F57: W02 | G57: 132 | H57: =(G57)*16 -> 2112 | I57: =(G57)*1.4 -> 184.8 | J57: II | L57: =(K57)*16 -> 0 | M57: =(K57)*1.4 -> 0 | N57: =SUM(G57,K57) -> 132 | O57: =(N57)*16 -> 2112 | P57: =(N57)*1.4 -> 184.8
E58: BUDYNEK GOSPODARCZY | F58: W02 | G58: 36 | H58: =(G58)*16 -> 576 | I58: =(G58)*1.4 -> 50.4 | J58: II | L58: 0 | M58: 0 | N58: =SUM(G58,K58) -> 36 | O58: =(N58)*16 -> 576 | P58: =(N58)*1.4 -> 50.4
E59: BUDYNEK GOSPODARCZY | F59: W02 | G59: 177 | H59: =(G59)*16 -> 2832 | I59: =(G59)*1.4 -> 247.8 | J59: II | L59: =(K59)*16 -> 0 | M59: =(K59)*1.4 -> 0 | N59: =SUM(G59,K59) -> 177 | O59: =(N59)*16 -> 2832 | P59: =(N59)*1.4 -> 247.8
B60: 23A | C60: 177/9 | E60: BUDYNEK MIESZKALNY | F60: W02 | G60: 192 | H60: =(G60)*16 -> 3072 | I60: =(G60)*1.4 -> 268.8 | J60: II | L60: =(K60)*16 -> 0 | M60: =(K60)*1.4 -> 0 | N60: =SUM(G60,K60) -> 192 | O60: =(N60)*16 -> 3072 | P60: =(N60)*1.4 -> 268.8
B61: 24 | C61: 28 | E61: BUDYNEK MIESZKALNY | F61: W02 | G61: 200 | H61: =(G61)*16 -> 3200 | I61: =(G61)*1.4 -> 280 | J61: II | L61: =(K61)*16 -> 0 | M61: =(K61)*1.4 -> 0 | N61: =SUM(G61,K61) -> 200 | O61: =(N61)*16 -> 3200 | P61: =(N61)*1.4 -> 280
E62: BUDYNEK GOSPODARCZY | F62: W02 | G62: 64 | H62: =(G62)*16 -> 1024 | I62: =(G62)*1.4 -> 89.6 | J62: II | L62: =(K62)*16 -> 0 | M62: =(K62)*1.4 -> 0 | N62: =SUM(G62,K62) -> 64 | O62: =(N62)*16 -> 1024 | P62: =(N62)*1.4 -> 89.6
E63: BUDYNEK GOSPODARCZY | F63: W02 | G63: 120 | H63: =(G63)*16 -> 1920 | I63: =(G63)*1.4 -> 168 | J63: II | L63: =(K63)*16 -> 0 | M63: =(K63)*1.4 -> 0 | N63: =SUM(G63,K63) -> 120 | O63: =(N63)*16 -> 1920 | P63: =(N63)*1.4 -> 168
B64: 26 | C64: 11/1 | E64: BUDYNEK MIESZKALNY | F64: W01 | G64: 120 | H64: =(G64)*16 -> 1920 | I64: =(G64)*1.4 -> 168 | J64: II | L64: =(K64)*16 -> 0 | M64: =(K64)*1.4 -> 0 | N64: =SUM(G64,K64) -> 120 | O64: =(N64)*16 -> 1920 | P64: =(N64)*1.4 -> 168
E65: BUDYNEK GOSPODARCZY | F65: W02 | G65: 240 | H65: =(G65)*16 -> 3840 | I65: =(G65)*1.4 -> 336 | J65: II | L65: =(K65)*16 -> 0 | M65: =(K65)*1.4 -> 0 | N65: =SUM(G65,K65) -> 240 | O65: =(N65)*16 -> 3840 | P65: =(N65)*1.4 -> 336
E66: BUDYNEK GOSPODARCZY | F66: W02 | G66: 180 | H66: =(G66)*16 -> 2880 | I66: =(G66)*1.4 -> 252 | J66: II | L66: =(K66)*16 -> 0 | M66: =(K66)*1.4 -> 0 | N66: =SUM(G66,K66) -> 180 | O66: =(N66)*16 -> 2880 | P66: =(N66)*1.4 -> 252
B67: 27 | C67: 182/2 | E67: BUDYNEK MIESZKALNY | F67: W02 | G67: 168 | H67: =(G67)*16 -> 2688 | I67: =(G67)*1.4 -> 235.2 | J67: II | L67: =(K67)*16 -> 0 | M67: =(K67)*1.4 -> 0 | N67: =SUM(G67,K67) -> 168 | O67: =(N67)*16 -> 2688 | P67: =(N67)*1.4 -> 235.2
B68: 27 | C68: 182/2 | E68: BUDYNEK GOSPODARCZY | F68: W02 | G68: 72 | H68: =(G68)*16 -> 1152 | I68: =(G68)*1.4 -> 100.8 | J68: II | L68: =(K68)*16 -> 0 | M68: =(K68)*1.4 -> 0 | N68: =SUM(G68,K68) -> 72 | O68: =(N68)*16 -> 1152 | P68: =(N68)*1.4 -> 100.8
B69: 42 | C69: 149/8 | E69: BUDYNEK MIESZKALNY | F69: W02 | G69: 125 | H69: =(G69)*16 -> 2000 | I69: =(G69)*1.4 -> 175 | J69: II | L69: 0 | M69: 0 | N69: =SUM(G69,K69) -> 125 | O69: =(N69)*16 -> 2000 | P69: =(N69)*1.4 -> 175
B70: 42 | C70: 149/8 | E70: BUDYNEK GOSPODARCZY BUDYNEK GOSPODARCZY | F70: W02 | G70: 200 | H70: =(G70)*16 -> 3200 | I70: =(G70)*1.4 -> 280 | J70: II | L70: 0 | M70: 0 | N70: =SUM(G70,K70) -> 200 | O70: =(N70)*16 -> 3200 | P70: =(N70)*1.4 -> 280
A71: SUMA | G71: =SUM(G2:G70) -> 8515 | H71: =SUM(H2:H70) -> 136240 | I71: =SUM(I2:I70) -> 11921 | K71: =SUM(K2:K69) -> 129 | L71: =SUM(L2:L69) -> 3612 | M71: =SUM(M2:M69) -> 180.6 | N71: =SUM(N2:N70) -> 8644 | O71: =SUM(O2:O70) -> 138304 | P71: =SUM(P2:P70) -> 12101.6

Sheet Krotoszyn
A1: MIEJSCOWOŚĆ | B1: ADRES (NR. POSESJI) | C1: NR. DZIAŁKI EWIDENCYJNEJ | D1: NR. OBRĘBU EWIDENCYJNEGO | E1: RODZAJ ZABUDOWY | F1: NAZWA/RODZAJ WYROBU | G1: ILOŚĆ POSIADANYCH WYROBÓW BĘDĄCYCH W UŻYCIU (W SZT.) | H1: WAGA POSIADANYCH WYROBÓW BĘDĄCYCH W UŻYCIU (W KG.) | I1: POWIERZCHNIA POSIADANYCH WYROBÓW BĘDĄCYCH W UŻYCIU (W M2) | J1: STOPIEŃ PILNOŚCI (I-III) | K1: ILOŚĆ POSIADANYCH WYROBÓW ZŁOŻONYCH NA POSESJI (W SZT.) | L1: WAGA POSIADANYCH WYROBÓW ZŁOŻONYCH NA POSESJI (W KG.) | M1: POWIERZCHNIA POSIADANYCH WYROBÓW ZŁOŻONYCH NA POSESJI (W M2) | N1: ILOŚĆ POSIADANYCH WYROBÓW BĘDĄCYCH W UŻYCIU I ZŁOŻONYCH NA POSESJI W SUMIE (W SZT.) | O1: WAGA POSIADANYCH WYROBÓW BĘDĄCYCH W UŻYCIU I ZŁOŻONYCH NA POSESJI W SUMIE (W KG.) | P1: POWIERZCHNIA POSIADANYCH WYROBÓW BĘDĄCYCH W UŻYCIU I ZŁOŻONYCH NA POSESJI W SUMIE (W M2)
A2: Krotoszyn | B2: 57 | C2: 32/1 | D2: 0001 | E2: BUDYNEK MIESZKALNY | F2: W02 | G2: 108 | H2: =(G2)*16 -> 1728 | I2: =(G2)*1.4 -> 151.2 | J2: II | L2: =(K2)*16 -> 0 | M2: =(K2)*1.4 -> 0 | N2: =SUM(G2,K2) -> 108 | O2: =(N2)*16 -> 1728 | P2: =(N2)*1.4 -> 151.2
B3: 57 | E3: BUDYNEK GOSPODARCZY | F3: W02 | G3: 180 | H3: =(G3)*16 -> 2880 | I3: =(G3)*1.4 -> 252 | J3: II | L3: =(K3)*16 -> 0 | M3: =(K3)*1.4 -> 0 | N3: =SUM(G3,K3) -> 180 | O3: =(N3)*16 -> 2880 | P3: =(N3)*1.4 -> 252
B4: 57 | E4: BUDYNEK GOSPODARCZY | F4: W02 | G4: 160 | H4: =(G4)*16 -> 2560 | I4: =(G4)*1.4 -> 224 | J4: II | L4: =(K4)*16 -> 0 | M4: =(K4)*1.4 -> 0 | N4: =SUM(G4,K4) -> 160 | O4: =(N4)*16 -> 2560 | P4: =(N4)*1.4 -> 224
B5: 46 | C5: 73 | E5: BUDYNEK MIESZKALNY | F5: W02 | G5: 100 | H5: =(G5)*16 -> 1600 | I5: =(G5)*1.4 -> 140 | J5: II | L5: =(K5)*16 -> 0 | M5: =(K5)*1.4 -> 0 | N5: =SUM(G5,K5) -> 100 | O5: =(N5)*16 -> 1600 | P5: =(N5)*1.4 -> 140
B6: 46 | E6: BUDYNEK GOSPODARCZY | F6: W01 | G6: 120 | H6: =(G6)*16 -> 1920 | I6: =(G6)*1.4 -> 168 | J6: II | L6: =(K6)*16 -> 0 | M6: =(K6)*1.4 -> 0 | N6: =SUM(G6,K6) -> 120 | O6: =(N6)*16 -> 1920 | P6: =(N6)*1.4 -> 168
B7: 27 | E7: BUDYNEK GOSPODARCZY | F7: W02 | G7: 40 | H7: =(G7)*16 -> 640 | I7: =(G7)*1.4 -> 56 | N7: =SUM(G7,K7) -> 40 | O7: =(N7)*16 -> 640 | P7: =(N7)*1.4 -> 56
B8: 48A | C8: 69 | E8: BUDYNEK MIESZKALNO-GOSPODARCZY | F8: W02 | G8: 128 | H8: =(G8)*16 -> 2048 | I8: =(G8)*1.4 -> 179.2 | J8: II | L8: =(K8)*16 -> 0 | M8: =(K8)*1.4 -> 0 | N8: =SUM(G8,K8) -> 128 | O8: =(N8)*16 -> 2048 | P8: =(N8)*1.4 -> 179.2
B9: 48A | E9: BUDYNEK GOSPODARCZY | F9: W02 | G9: 160 | H9: =(G9)*16 -> 2560 | I9: =(G9)*1.4 -> 224 | J9: II | L9: =(K9)*16 -> 0 | M9: =(K9)*1.4 -> 0 | N9: =SUM(G9,K9) -> 160 | O9: =(N9)*16 -> 2560 | P9: =(N9)*1.4 -> 224
B10: 49 | C10: 60/1 | E10: BUDYNEK GOSPODARCZY | F10: W01 | G10: 280 | H10: =(G10)*16 -> 4480 | I10: =(G10)*1.4 -> 392 | J10: II | L10: =(K10)*16 -> 0 | M10: =(K10)*1.4 -> 0 | N10: =SUM(G10,K10) -> 280 | O10: =(N10)*16 -> 4480 | P10: =(N10)*1.4 -> 392
B11: 50 | C11: 59 | E11: BUDYNEK MIESZKALNY | F11: W02 | G11: 176 | H11: =(G11)*16 -> 2816 | I11: =(G11)*1.4 -> 246.4 | J11: II | L11: =(K11)*16 -> 0 | M11: =(K11)*1.4 -> 0 | N11: =SUM(G11,K11) -> 176 | O11: =(N11)*16 -> 2816 | P11: =(N11)*1.4 -> 246.4
B12: 51 | C12: 55 | E12: BUDYNEK GOSPODARCZY | F12: W02 | G12: 25 | H12: =(G12)*16 -> 400 | I12: =(G12)*1.4 -> 35 | J12: II | L12: =(K12)*16 -> 0 | M12: =(K12)*1.4 -> 0 | N12: =SUM(G12,K12) -> 25 | O12: =(N12)*16 -> 400 | P12: =(N12)*1.4 -> 35
B13: 52 | C13: 53 | E13: BUDYNEK MIESZKALNY | F13: W02 | G13: 240 | H13: =(G13)*16 -> 3840 | I13: =(G13)*1.4 -> 336 | J13: II | L13: =(K13)*16 -> 0 | M13: =(K13)*1.4 -> 0 | N13: =SUM(G13,K13) -> 240 | O13: =(N13)*16 -> 3840 | P13: =(N13)*1.4 -> 336
B14: 52 | E14: BUDYNEK GOSPODARCZY | F14: W02 | G14: 392 | H14: =(G14)*16 -> 6272 | I14: =(G14)*1.4 -> 548.8 | J14: II | L14: =(K14)*16 -> 0 | M14: =(K14)*1.4 -> 0 | N14: =SUM(G14,K14) -> 392 | O14: =(N14)*16 -> 6272 | P14: =(N14)*1.4 -> 548.8
B15: 52 | E15: BUDYNEK GOSPODARCZY | F15: W02 | G15: 16 | H15: =(G15)*16 -> 256 | I15: =(G15)*1.4 -> 22.4 | J15: II | L15: =(K15)*16 -> 0 | M15: =(K15)*1.4 -> 0 | N15: =SUM(G15,K15) -> 16 | O15: =(N15)*16 -> 256 | P15: =(N15)*1.4 -> 22.4
B16: 52 | E16: BUDYNEK GOSPODARCZY | F16: W02 | G16: 80 | H16: =(G16)*16 -> 1280 | I16: =(G16)*1.4 -> 112 | J16: II | L16: =(K16)*16 -> 0 | M16: =(K16)*1.4 -> 0 | N16: =SUM(G16,K16) -> 80 | O16: =(N16)*16 -> 1280 | P16: =(N16)*1.4 -> 112
B17: 51 | C17: 55 | E17: BUDYNEK MIESZKALNY | F17: W02 | G17: 0 | H17: =(G17)*16 -> 0 | I17: =(G17)*1.4 -> 0 | J17: ii | L17: 86 | M17: 1926.4 | N17: 120.4 | O17: =(N17)*16 -> 1926.4 | P17: =(N17)*1.4 -> 168.56
B18: 53 | C18: 49/2 | E18: BUDYNEK MIESZKALNY | F18: W01 | G18: 120 | H18: =(G18)*16 -> 1920 | I18: =(G18)*1.4 -> 168 | J18: II | L18: =(K18)*16 -> 0 | M18: =(K18)*1.4 -> 0 | N18: 0 | O18: =(N18)*16 -> 0 | P18: =(N18)*1.4 -> 0
B19: 53 | E19: BUDYNEK GOSPODARCZY | F19: W02 | G19: 32 | H19: =(G19)*16 -> 512 | I19: =(G19)*1.4 -> 44.8 | J19: II | L19: =(K19)*16 -> 0 | M19: =(K19)*1.4 -> 0 | N19: =SUM(G19,K19) -> 32 | O19: =(N19)*16 -> 512 | P19: =(N19)*1.4 -> 44.8
B20: 53 | E20: BUDYNEK GOSPODARCZY | F20: W01 | G20: 96 | H20: =(G20)*16 -> 1536 | I20: =(G20)*1.4 -> 134.4 | J20: II | L20: =(K20)*16 -> 0 | M20: =(K20)*1.4 -> 0 | N20: =SUM(G20,K20) -> 96 | O20: =(N20)*16 -> 1536 | P20: =(N20)*1.4 -> 134.4
B21: 54 | C21: 46/1 | E21: BUDYNEK MIESZKALNY | F21: W01 | G21: 48 | H21: =(G21)*16 -> 768 | I21: =(G21)*1.4 -> 67.2 | J21: I | L21: =(K21)*16 -> 0 | M21: =(K21)*1.4 -> 0 | N21: =SUM(G21,K21) -> 48 | O21: =(N21)*16 -> 768 | P21: =(N21)*1.4 -> 67.2
B22: 55 | C22: 43/4 | E22: BUDYNEK MIESZKALNY | F22: W02 | G22: 135 | H22: =(G22)*16 -> 2160 | I22: =(G22)*1.4 -> 189 | J22: II | L22: =(K22)*16 -> 0 | M22: =(K22)*1.4 -> 0 | N22: =SUM(G22,K22) -> 135 | O22: =(N22)*16 -> 2160 | P22: =(N22)*1.4 -> 189
B23: 55 | E23: BUDYNEK GOSPODARCZY | F23: W02 | G23: 190 | H23: =(G23)*16 -> 3040 | I23: =(G23)*1.4 -> 266 | J23: II | L23: =(K23)*16 -> 0 | M23: =(K23)*1.4 -> 0 | N23: =SUM(G23,K23) -> 190 | O23: =(N23)*16 -> 3040 | P23: =(N23)*1.4 -> 266
B24: 61 | C24: 27/1 | E24: BUDYNEK MIESZKALNY | F24: W02 | G24: 132 | H24: =(G24)*16 -> 2112 | I24: =(G24)*1.4 -> 184.8 | J24: II | L24: =(K24)*16 -> 0 | M24: =(K24)*1.4 -> 0 | N24: =SUM(G24,K24) -> 132 | O24: =(N24)*16 -> 2112 | P24: =(N24)*1.4 -> 184.8
B25: 61 | E25: BUDYNEK GOSPODARCZY | F25: W02 | G25: 144 | H25: =(G25)*16 -> 2304 | I25: =(G25)*1.4 -> 201.6 | J25: II | L25: =(K25)*16 -> 0 | M25: =(K25)*1.4 -> 0 | N25: =SUM(G25,K25) -> 144 | O25: =(N25)*16 -> 2304 | P25: =(N25)*1.4 -> 201.6
B26: 59 | C26: 24/1 | E26: BUDYNEK GOSPODARCZY | F26: W02 | G26: 80 | H26: =(G26)*16 -> 1280 | I26: =(G26)*1.4 -> 112 | J26: II | L26: =(K26)*16 -> 0 | M26: =(K26)*1.4 -> 0 | N26: =SUM(G26,K26) -> 80 | O26: =(N26)*16 -> 1280 | P26: =(N26)*1.4 -> 112
B27: 59 | E27: BUDYNEK GOSPODARCZY | F27: W02 | G27: 100 | H27: =(G27)*16 -> 1600 | I27: =(G27)*1.4 -> 140 | J27: II | L27: =(K27)*16 -> 0 | M27: =(K27)*1.4 -> 0 | N27: =SUM(G27,K27) -> 100 | O27: =(N27)*16 -> 1600 | P27: =(N27)*1.4 -> 140
B28: 60 | C28: 20/1 | E28: BUDYNEK GOSPODARCZY | F28: W01 | G28: 216 | H28: =(G28)*16 -> 3456 | I28: =(G28)*1.4 -> 302.4 | J28: II | L28: =(K28)*16 -> 0 | M28: =(K28)*1.4 -> 0 | N28: =SUM(G28,K28) -> 216 | O28: =(N28)*16 -> 3456 | P28: =(N28)*1.4 -> 302.4
B29: 14 | C29: 182/1 | E29: BUDYNEK MIESZKALNY | F29: W02 | G29: 98 | H29: =(G29)*16 -> 1568 | I29: =(G29)*1.4 -> 137.2 | J29: II | L29: =(K29)*16 -> 0 | M29: =(K29)*1.4 -> 0 | N29: =SUM(G29,K29) -> 98 | O29: =(N29)*16 -> 1568 | P29: =(N29)*1.4 -> 137.2
B30: 15 | C30: 181/5 | E30: BUDYNEK MIESZKALNY | F30: W02 | G30: 180 | H30: =(G30)*16 -> 2880 | I30: =(G30)*1.4 -> 252 | J30: II | L30: =(K30)*16 -> 0 | M30: =(K30)*1.4 -> 0 | N30: =SUM(G30,K30) -> 180 | O30: =(N30)*16 -> 2880 | P30: =(N30)*1.4 -> 252
B31: 16 | C31: 189/3 | E31: BUDYNEK GOSPODARCZY | F31: W02 | G31: 60 | H31: =(G31)*16 -> 960 | I31: =(G31)*1.4 -> 84 | J31: II | L31: =(K31)*16 -> 0 | M31: =(K31)*1.4 -> 0 | N31: =SUM(G31,K31) -> 60 | O31: =(N31)*16 -> 960 | P31: =(N31)*1.4 -> 84
B32: 17 | C32: 180 | E32: BUDYNEK GOSPODARCZY | F32: W02 | G32: 288 | H32: =(G32)*16 -> 4608 | I32: =(G32)*1.4 -> 403.2 | J32: II | L32: =(K32)*16 -> 0 | M32: =(K32)*1.4 -> 0 | N32: =SUM(G32,K32) -> 288 | O32: =(N32)*16 -> 4608 | P32: =(N32)*1.4 -> 403.2
B33: 17 | E33: BUDYNEK GOSPODARCZY | F33: W02 | G33: 242 | H33: =(G33)*16 -> 3872 | I33: =(G33)*1.4 -> 338.8 | J33: II | L33: =(K33)*16 -> 0 | M33: =(K33)*1.4 -> 0 | N33: =SUM(G33,K33) -> 242 | O33: =(N33)*16 -> 3872 | P33: =(N33)*1.4 -> 338.8
B34: 18 | C34: 179 | E34: BUDYNEK GOSPODARCZY | F34: W01 | G34: 128 | H34: =(G34)*16 -> 2048 | I34: =(G34)*1.4 -> 179.2 | J34: I | L34: =(K34)*16 -> 0 | M34: =(K34)*1.4 -> 0 | N34: =SUM(G34,K34) -> 128 | O34: =(N34)*16 -> 2048 | P34: =(N34)*1.4 -> 179.2
B35: 18 | E35: BUDYNEK GOSPODARCZY | F35: W01 | G35: 160 | H35: =(G35)*16 -> 2560 | I35: =(G35)*1.4 -> 224 | J35: I | L35: =(K35)*16 -> 0 | M35: =(K35)*1.4 -> 0 | N35: =SUM(G35,K35) -> 160 | O35: =(N35)*16 -> 2560 | P35: =(N35)*1.4 -> 224
B36: 63 | C36: 10/1 | E36: BUDYNEK GOSPODARCZY | F36: W02 | G36: 220 | H36: =(G36)*16 -> 3520 | I36: =(G36)*1.4 -> 308 | J36: II | L36: =(K36)*16 -> 0 | M36: =(K36)*1.4 -> 0 | N36: =SUM(G36,K36) -> 220 | O36: =(N36)*16 -> 3520 | P36: =(N36)*1.4 -> 308
B37: 58 | C37: 17/1 | E37: BUDYNEK MIESZKALNY | F37: W02 | G37: 176 | H37: =(G37)*16 -> 2816 | I37: =(G37)*1.4 -> 246.4 | J37: II | L37: =(K37)*16 -> 0 | M37: =(K37)*1.4 -> 0 | N37: =SUM(G37,K37) -> 176 | O37: =(N37)*16 -> 2816 | P37: =(N37)*1.4 -> 246.4
B38: 58 | E38: BUDYNEK GOSPODARCZY | F38: W02 | G38: 274 | H38: =(G38)*16 -> 4384 | I38: =(G38)*1.4 -> 383.6 | J38: II | L38: =(K38)*16 -> 0 | M38: =(K38)*1.4 -> 0 | N38: =SUM(G38,K38) -> 274 | O38: =(N38)*16 -> 4384 | P38: =(N38)*1.4 -> 383.6
B39: 64 | C39: 2/4 | E39: BUDYNEK GOSPODARCZY | F39: W02 | G39: 288 | H39: =(G39)*16 -> 4608 | I39: =(G39)*1.4 -> 403.2 | J39: II | L39: =(K39)*16 -> 0 | M39: =(K39)*1.4 -> 0 | N39: =SUM(G39,K39) -> 288 | O39: =(N39)*16 -> 4608 | P39: =(N39)*1.4 -> 403.2
B40: 64 | E40: BUDYNEK GOSPODARCZY | F40: W02 | G40: 10 | H40: =(G40)*16 -> 160 | I40: =(G40)*1.4 -> 14 | J40: II | L40: =(K40)*16 -> 0 | M40: =(K40)*1.4 -> 0 | N40: =SUM(G40,K40) -> 10 | O40: =(N40)*16 -> 160 | P40: =(N40)*1.4 -> 14
B41: 20 | C41: 178/1 | E41: BUDYNEK MIESZKALNY | F41: W02 | G41: 176 | H41: =(G41)*16 -> 2816 | I41: =(G41)*1.4 -> 246.4 | J41: II | L41: =(K41)*16 -> 0 | M41: =(K41)*1.4 -> 0 | N41: =SUM(G41,K41) -> 176 | O41: =(N41)*16 -> 2816 | P41: =(N41)*1.4 -> 246.4
B42: 20 | E42: BUDYNEK GOSPODARCZY | F42: W02 | G42: 80 | H42: =(G42)*16 -> 1280 | I42: =(G42)*1.4 -> 112 | J42: II | L42: =(K42)*16 -> 0 | M42: =(K42)*1.4 -> 0 | N42: =SUM(G42,K42) -> 80 | O42: =(N42)*16 -> 1280 | P42: =(N42)*1.4 -> 112
B43: 20 | E43: BUDYNEK GOSPODARCZY | F43: W02 | G43: 220 | H43: =(G43)*16 -> 3520 | I43: =(G43)*1.4 -> 308 | J43: II | L43: =(K43)*16 -> 0 | M43: =(K43)*1.4 -> 0 | N43: =SUM(G43,K43) -> 220 | O43: =(N43)*16 -> 3520 | P43: =(N43)*1.4 -> 308
B44: 23 | C44: 54/1 | E44: BUDYNEK GOSPODARCZY | F44: W02 | G44: 160 | H44: =(G44)*16 -> 2560 | I44: =(G44)*1.4 -> 224 | J44: II | L44: =(K44)*16 -> 0 | M44: =(K44)*1.4 -> 0 | N44: =SUM(G44,K44) -> 160 | O44: =(N44)*16 -> 2560 | P44: =(N44)*1.4 -> 224
B45: 39 | C45: 53/1 | E45: BUDYNEK MIESZKALNY | F45: W02 | G45: 160 | H45: =(G45)*16 -> 2560 | I45: =(G45)*1.4 -> 224 | J45: II | L45: =(K45)*16 -> 0 | M45: =(K45)*1.4 -> 0 | N45: =SUM(G45,K45) -> 160 | O45: =(N45)*16 -> 2560 | P45: =(N45)*1.4 -> 224
B46: 39 | E46: BUDYNEK GOSPODARCZY | F46: W02 | G46: 140 | H46: =(G46)*16 -> 2240 | I46: =(G46)*1.4 -> 196 | J46: II | L46: =(K46)*16 -> 0 | M46: =(K46)*1.4 -> 0 | N46: =SUM(G46,K46) -> 140 | O46: =(N46)*16 -> 2240 | P46: =(N46)*1.4 -> 196
B47: 39 | E47: BUDYNEK GOSPODARCZY | F47: W02 | G47: 40 | H47: =(G47)*16 -> 640 | I47: =(G47)*1.4 -> 56 | J47: II | L47: =(K47)*16 -> 0 | M47: =(K47)*1.4 -> 0 | N47: =SUM(G47,K47) -> 40 | O47: =(N47)*16 -> 640 | P47: =(N47)*1.4 -> 56
B48: 34 | C48: 29/3 | E48: BUDYNEK GOSPODARCZY | F48: W02 | G48: 264 | H48: =(G48)*16 -> 4224 | I48: =(G48)*1.4 -> 369.6 | J48: II | L48: =(K48)*16 -> 0 | M48: =(K48)*1.4 -> 0 | N48: =SUM(G48,K48) -> 264 | O48: =(N48)*16 -> 4224 | P48: =(N48)*1.4 -> 369.6
B49: MIĘDZY 40 A 42 | C49: 49/2 | E49: BUDYNEK GOSPODARCZY | F49: W02 | G49: 110 | H49: =(G49)*16 -> 1760 | I49: =(G49)*1.4 -> 154 | J49: I | L49: =(K49)*16 -> 0 | M49: =(K49)*1.4 -> 0 | N49: =SUM(G49,K49) -> 110 | O49: =(N49)*16 -> 1760 | P49: =(N49)*1.4 -> 154
B50: 28 | C50: 61/4 | E50: BUDYNEK MIESZKALNY | F50: W02 | G50: 156 | H50: =(G50)*16 -> 2496 | I50: =(G50)*1.4 -> 218.4 | J50: II | L50: =(K50)*16 -> 0 | M50: =(K50)*1.4 -> 0 | N50: =SUM(G50,K50) -> 156 | O50: =(N50)*16 -> 2496 | P50: =(N50)*1.4 -> 218.4
B51: 28 | E51: BUDYNEK GOSPODARCZY | F51: W02 | G51: 286 | H51: =(G51)*16 -> 4576 | I51: =(G51)*1.4 -> 400.4 | J51: II | L51: =(K51)*16 -> 0 | M51: =(K51)*1.4 -> 0 | N51: =SUM(G51,K51) -> 286 | O51: =(N51)*16 -> 4576 | P51: =(N51)*1.4 -> 400.4
B52: 42 | C52: 47/2 | E52: BUDYNEK MIESZKALNY | F52: W01 | G52: 125 | H52: =(G52)*16 -> 2000 | I52: =(G52)*1.4 -> 175 | J52: II | L52: =(K52)*16 -> 0 | M52: =(K52)*1.4 -> 0 | N52: =SUM(G52,K52) -> 125 | O52: =(N52)*16 -> 2000 | P52: =(N52)*1.4 -> 175
B53: 42 | E53: BUDYNEK GOSPODARCZY | F53: W02 | G53: 36 | H53: =(G53)*16 -> 576 | I53: =(G53)*1.4 -> 50.4 | N53: =SUM(G53,K53) -> 36 | O53: =(N53)*16 -> 576 | P53: =(N53)*1.4 -> 50.4
B54: 42 | E54: BUDYNEK GOSPODARCZY | F54: W02 | G54: 198 | H54: =(G54)*16 -> 3168 | I54: =(G54)*1.4 -> 277.2 | J54: II | L54: =(K54)*16 -> 0 | M54: =(K54)*1.4 -> 0 | N54: =SUM(G54,K54) -> 198 | O54: =(N54)*16 -> 3168 | P54: =(N54)*1.4 -> 277.2
B55: 42 | E55: BUDYNEK GOSPODARCZY | F55: W02 | G55: 152 | H55: =(G55)*16 -> 2432 | I55: =(G55)*1.4 -> 212.8 | J55: II | L55: =(K55)*16 -> 0 | M55: =(K55)*1.4 -> 0 | N55: =SUM(G55,K55) -> 152 | O55: =(N55)*16 -> 2432 | P55: =(N55)*1.4 -> 212.8
B56: 19 | C56: 191 | E56: BUDYNEK GOSPODARCZY | F56: W02 | G56: 140 | H56: =(G56)*16 -> 2240 | I56: =(G56)*1.4 -> 196 | J56: II | L56: =(K56)*16 -> 0 | M56: =(K56)*1.4 -> 0 | N56: =SUM(G56,K56) -> 140 | O56: =(N56)*16 -> 2240 | P56: =(N56)*1.4 -> 196
B57: 19 | E57: BUDYNEK GOSPODARCZY | F57: W02 | G57: 212 | H57: =(G57)*16 -> 3392 | I57: =(G57)*1.4 -> 296.8 | J57: II | L57: =(K57)*16 -> 0 | M57: =(K57)*1.4 -> 0 | N57: =SUM(G57,K57) -> 212 | O57: =(N57)*16 -> 3392 | P57: =(N57)*1.4 -> 296.8
B58: 21 | C58: 175/1 | E58: BUDYNEK MIESZKALNY | F58: W02 | G58: 860 | H58: =(G58)*16 -> 13760 | I58: =(G58)*1.4 -> 1204 | N58: =SUM(G58,K58) -> 860 | O58: =(N58)*16 -> 13760 | P58: =(N58)*1.4 -> 1204
B59: 21 | C59: 175/1 | E59: BUDYNEK GOSPODARCZY | F59: W02 | G59: 160 | H59: =(G59)*16 -> 2560 | I59: =(G59)*1.4 -> 224 | J59: II | L59: =(K59)*16 -> 0 | M59: =(K59)*1.4 -> 0 | N59: =SUM(G59,K59) -> 160 | O59: =(N59)*16 -> 2560 | P59: =(N59)*1.4 -> 224
B60: 21 | E60: BUDYNEK GOSPODARCZY | F60: W02 | G60: 120 | H60: =(G60)*16 -> 1920 | I60: =(G60)*1.4 -> 168 | J60: II | L60: =(K60)*16 -> 0 | M60: =(K60)*1.4 -> 0 | N60: =SUM(G60,K60) -> 120 | O60: =(N60)*16 -> 1920 | P60: =(N60)*1.4 -> 168
B61: 21 | E61: BUDYNEK GOSPODARCZY | F61: W01 | G61: 100 | H61: =(G61)*16 -> 1600 | I61: =(G61)*1.4 -> 140 | J61: II | L61: =(K61)*16 -> 0 | M61: =(K61)*1.4 -> 0 | N61: =SUM(G61,K61) -> 100 | O61: =(N61)*16 -> 1600 | P61: =(N61)*1.4 -> 140
B62: 38 | C62: 171/9 | E62: BUDYNEK MIESZKALNY | F62: W02 | G62: 72 | H62: =(G62)*16 -> 1152 | I62: =(G62)*1.4 -> 100.8 | J62: III | L62: =(K62)*16 -> 0 | M62: =(K62)*1.4 -> 0 | N62: =SUM(G62,K62) -> 72 | O62: =(N62)*16 -> 1152 | P62: =(N62)*1.4 -> 100.8
B63: 38 | E63: BUDYNEK GOSPODARCZY | F63: W02 | G63: 12 | H63: =(G63)*16 -> 192 | I63: =(G63)*1.4 -> 16.8 | J63: II | L63: =(K63)*16 -> 0 | M63: =(K63)*1.4 -> 0 | N63: =SUM(G63,K63) -> 12 | O63: =(N63)*16 -> 192 | P63: =(N63)*1.4 -> 16.8
B64: 38A | C64: 169 | E64: BUDYNEK MIESZKALNY | F64: W02 | G64: 180 | H64: =(G64)*16 -> 2880 | I64: =(G64)*1.4 -> 252 | J64: II | L64: =(K64)*16 -> 0 | M64: =(K64)*1.4 -> 0 | N64: =SUM(G64,K64) -> 180 | O64: =(N64)*16 -> 2880 | P64: =(N64)*1.4 -> 252
B65: 38A | E65: BUDYNEK GOSPODARCZY | F65: W02 | G65: 35 | H65: =(G65)*16 -> 560 | I65: =(G65)*1.4 -> 49 | J65: II | L65: =(K65)*16 -> 0 | M65: =(K65)*1.4 -> 0 | N65: =SUM(G65,K65) -> 35 | O65: =(N65)*16 -> 560 | P65: =(N65)*1.4 -> 49
B66: 32 | C66: 32/4 | E66: BUDYNEK GOSPODARCZY | F66: W02 | G66: 160 | H66: =(G66)*16 -> 2560 | I66: =(G66)*1.4 -> 224 | J66: II | L66: =(K66)*16 -> 0 | M66: =(K66)*1.4 -> 0 | N66: =SUM(G66,K66) -> 160 | O66: =(N66)*16 -> 2560 | P66: =(N66)*1.4 -> 224
B67: 40 | C67: 50/2 | E67: BUDYNEK GOSPODARCZY | F67: W01 | G67: 160 | H67: =(G67)*16 -> 2560 | I67: =(G67)*1.4 -> 224 | J67: II | L67: =(K67)*16 -> 0 | M67: =(K67)*1.4 -> 0 | N67: =SUM(G67,K67) -> 160 | O67: =(N67)*16 -> 2560 | P67: =(N67)*1.4 -> 224
B68: 40 | E68: BUDYNEK GOSPODARCZY | F68: W02 | G68: 160 | H68: =(G68)*16 -> 2560 | I68: =(G68)*1.4 -> 224 | J68: II | L68: =(K68)*16 -> 0 | M68: =(K68)*1.4 -> 0 | N68: =SUM(G68,K68) -> 160 | O68: =(N68)*16 -> 2560 | P68: =(N68)*1.4 -> 224
B69: 24 | C69: 80/1 | E69: BUDYNEK GOSPODARCZY | F69: W02 | G69: 0 | H69: =(G69)*16 -> 0 | I69: =(G69)*1.4 -> 0 | J69: II | K69: 105 | L69: 1680 | M69: 147 | N69: 105 | O69: =(N69)*16 -> 1680 | P69: =(N69)*1.4 -> 147
B70: 24 | C70: 80/1 | E70: BUDYNEK GOSPODARCZY | F70: W02 | G70: 180 | H70: =(G70)*16 -> 2880 | I70: =(G70)*1.4 -> 252 | J70: II | L70: =(K70)*16 -> 0 | M70: =(K70)*1.4 -> 0 | N70: =SUM(G70,K70) -> 180 | O70: =(N70)*16 -> 2880 | P70: =(N70)*1.4 -> 252
B71: 35 | C71: 166/4 | E71: BUDYNEK MIESZKALNY | F71: W02 | G71: 80 | H71: =(G71)*16 -> 1280 | I71: =(G71)*1.4 -> 112 | J71: II | L71: =(K71)*16 -> 0 | M71: =(K71)*1.4 -> 0 | N71: =SUM(G71,K71) -> 80 | O71: =(N71)*16 -> 1280 | P71: =(N71)*1.4 -> 112
B72: 33 | C72: 30/3 | E72: BUDYNEK MIESZKALNY | F72: W02 | G72: 132 | H72: =(G72)*16 -> 2112 | I72: =(G72)*1.4 -> 184.8 | J72: II | L72: =(K72)*16 -> 0 | M72: =(K72)*1.4 -> 0 | N72: =SUM(G72,K72) -> 132 | O72: =(N72)*16 -> 2112 | P72: =(N72)*1.4 -> 184.8
B73: 33 | E73: BUDYNEK GOSPODARCZY | F73: W02 | G73: 300 | H73: =(G73)*16 -> 4800 | I73: =(G73)*1.4 -> 420 | J73: II | L73: =(K73)*16 -> 0 | M73: =(K73)*1.4 -> 0 | N73: =SUM(G73,K73) -> 300 | O73: =(N73)*16 -> 4800 | P73: =(N73)*1.4 -> 420
B74: 29 | C74: 71/2 | E74: BUDYNEK MIESZKALNY | F74: W02 | G74: 96 | H74: =(G74)*16 -> 1536 | I74: =(G74)*1.4 -> 134.4 | J74: II | L74: =(K74)*16 -> 0 | M74: =(K74)*1.4 -> 0 | N74: =SUM(G74,K74) -> 96 | O74: =(N74)*16 -> 1536 | P74: =(N74)*1.4 -> 134.4
B75: 29 | E75: BUDYNEK GOSPODARCZY | F75: W02 | G75: 192 | H75: =(G75)*16 -> 3072 | I75: =(G75)*1.4 -> 268.8 | J75: II | L75: =(K75)*16 -> 0 | M75: =(K75)*1.4 -> 0 | N75: =SUM(G75,K75) -> 192 | O75: =(N75)*16 -> 3072 | P75: =(N75)*1.4 -> 268.8
B76: 29 | E76: BUDYNEK GOSPODARCZY | F76: W02 | G76: 220 | H76: =(G76)*16 -> 3520 | I76: =(G76)*1.4 -> 308 | J76: I | L76: =(K76)*16 -> 0 | M76: =(K76)*1.4 -> 0 | N76: =SUM(G76,K76) -> 220 | O76: =(N76)*16 -> 3520 | P76: =(N76)*1.4 -> 308
B77: 26 | C77: 78 | E77: BUDYNEK GOSPODARCZY | F77: W02 | G77: 360 | H77: =(G77)*16 -> 5760 | I77: =(G77)*1.4 -> 504 | J77: II | L77: =(K77)*16 -> 0 | M77: =(K77)*1.4 -> 0 | N77: =SUM(G77,K77) -> 360 | O77: =(N77)*16 -> 5760 | P77: =(N77)*1.4 -> 504
B78: 28 | E78: BUDYNEK GOSPODARCZY | F78: W02 | G78: 160 | H78: =(G78)*16 -> 2560 | I78: =(G78)*1.4 -> 224 | J78: II | L78: =(K78)*16 -> 0 | M78: =(K78)*1.4 -> 0 | N78: =SUM(G78,K78) -> 160 | O78: =(N78)*16 -> 2560 | P78: =(N78)*1.4 -> 224
B79: 28 | E79: BUDYNEK GOSPODARCZY | F79: W02 | G79: 32 | H79: =(G79)*16 -> 512 | I79: =(G79)*1.4 -> 44.8 | J79: II | L79: =(K79)*16 -> 0 | M79: =(K79)*1.4 -> 0 | N79: =SUM(G79,K79) -> 32 | O79: =(N79)*16 -> 512 | P79: =(N79)*1.4 -> 44.8
B80: 28 | E80: BUDYNEK GOSPODARCZY | F80: W02 | G80: 128 | H80: =(G80)*16 -> 2048 | I80: =(G80)*1.4 -> 179.2 | J80: II | L80: =(K80)*16 -> 0 | M80: =(K80)*1.4 -> 0 | N80: =SUM(G80,K80) -> 128 | O80: =(N80)*16 -> 2048 | P80: =(N80)*1.4 -> 179.2
B81: 30 | C81: 41 | E81: BUDYNEK GOSPODARCZY | F81: W02 | G81: 56 | H81: =(G81)*16 -> 896 | I81: =(G81)*1.4 -> 78.4 | J81: II | L81: =(K81)*16 -> 0 | M81: =(K81)*1.4 -> 0 | N81: =SUM(G81,K81) -> 56 | O81: =(N81)*16 -> 896 | P81: =(N81)*1.4 -> 78.4
B82: 2 | C82: 92 | E82: BUDYNEK MIESZKALNY | F82: W02 | G82: 112 | H82: =(G82)*16 -> 1792 | I82: =(G82)*1.4 -> 156.8 | J82: II | L82: =(K82)*16 -> 0 | M82: =(K82)*1.4 -> 0 | N82: =SUM(G82,K82) -> 112 | O82: =(N82)*16 -> 1792 | P82: =(N82)*1.4 -> 156.8
B83: 2 | E83: BUDYNEK GOSPODARCZY | F83: W02 | G83: 288 | H83: =(G83)*16 -> 4608 | I83: =(G83)*1.4 -> 403.2 | J83: II | L83: =(K83)*16 -> 0 | M83: =(K83)*1.4 -> 0 | N83: =SUM(G83,K83) -> 288 | O83: =(N83)*16 -> 4608 | P83: =(N83)*1.4 -> 403.2
B84: 10 | C84: 197 | E84: BUDYNEK MIESZKALNY | F84: W02 | G84: 144 | H84: =(G84)*16 -> 2304 | I84: =(G84)*1.4 -> 201.6 | J84: II | L84: =(K84)*16 -> 0 | M84: =(K84)*1.4 -> 0 | N84: =SUM(G84,K84) -> 144 | O84: =(N84)*16 -> 2304 | P84: =(N84)*1.4 -> 201.6
B85: 12 | C85: 200/3 | E85: BUDYNEK MIESZKALNY | F85: W02 | G85: 150 | H85: =(G85)*16 -> 2400 | I85: =(G85)*1.4 -> 210 | J85: I | L85: =(K85)*16 -> 0 | M85: =(K85)*1.4 -> 0 | N85: =SUM(G85,K85) -> 150 | O85: =(N85)*16 -> 2400 | P85: =(N85)*1.4 -> 210
B86: 12 | E86: BUDYNEK GOSPODARCZY | F86: W02 | G86: 112 | H86: =(G86)*16 -> 1792 | I86: =(G86)*1.4 -> 156.8 | J86: II | L86: =(K86)*16 -> 0 | M86: =(K86)*1.4 -> 0 | N86: =SUM(G86,K86) -> 112 | O86: =(N86)*16 -> 1792 | P86: =(N86)*1.4 -> 156.8
B87: 12 | E87: BUDYNEK GOSPODARCZY | F87: W02 | G87: 24 | H87: =(G87)*16 -> 384 | I87: =(G87)*1.4 -> 33.6 | J87: II | L87: =(K87)*16 -> 0 | M87: =(K87)*1.4 -> 0 | N87: =SUM(G87,K87) -> 24 | O87: =(N87)*16 -> 384 | P87: =(N87)*1.4 -> 33.6
B88: 3 | C88: 83 | E88: BUDYNEK MIESZKALNY | F88: W02 | G88: 216 | H88: =(G88)*16 -> 3456 | I88: =(G88)*1.4 -> 302.4 | J88: II | L88: =(K88)*16 -> 0 | M88: =(K88)*1.4 -> 0 | N88: =SUM(G88,K88) -> 216 | O88: =(N88)*16 -> 3456 | P88: =(N88)*1.4 -> 302.4
B89: 3 | E89: BUDYNEK MIESZKALNO-GOSPODARCZY | F89: W02 | G89: 240 | H89: =(G89)*16 -> 3840 | I89: =(G89)*1.4 -> 336 | J89: II | L89: =(K89)*16 -> 0 | M89: =(K89)*1.4 -> 0 | N89: =SUM(G89,K89) -> 240 | O89: =(N89)*16 -> 3840 | P89: =(N89)*1.4 -> 336
B90: 3 | E90: BUDYNEK GOSPODARCZY | F90: W02 | G90: 224 | H90: =(G90)*16 -> 3584 | I90: =(G90)*1.4 -> 313.6 | J90: II | L90: =(K90)*16 -> 0 | M90: =(K90)*1.4 -> 0 | N90: =SUM(G90,K90) -> 224 | O90: =(N90)*16 -> 3584 | P90: =(N90)*1.4 -> 313.6
B91: 6 | C91: 203 | E91: BUDYNEK MIESZKALNY | F91: W01 | G91: 80 | H91: =(G91)*16 -> 1280 | I91: =(G91)*1.4 -> 112 | J91: II | L91: =(K91)*16 -> 0 | M91: =(K91)*1.4 -> 0 | N91: =SUM(G91,K91) -> 80 | O91: =(N91)*16 -> 1280 | P91: =(N91)*1.4 -> 112
B92: 6 | E92: BUDYNEK GOSPODARCZY | F92: W01 | G92: 96 | H92: =(G92)*16 -> 1536 | I92: =(G92)*1.4 -> 134.4 | J92: II | L92: =(K92)*16 -> 0 | M92: =(K92)*1.4 -> 0 | N92: =SUM(G92,K92) -> 96 | O92: =(N92)*16 -> 1536 | P92: =(N92)*1.4 -> 134.4
B93: 6 | E93: BUDYNEK GOSPODARCZY | F93: W02 | G93: 96 | H93: =(G93)*16 -> 1536 | I93: =(G93)*1.4 -> 134.4 | J93: II | L93: =(K93)*16 -> 0 | M93: =(K93)*1.4 -> 0 | N93: =SUM(G93,K93) -> 96 | O93: =(N93)*16 -> 1536 | P93: =(N93)*1.4 -> 134.4
B94: 5 | C94: 193/4 | E94: BUDYNEK MIESZKALNY | F94: W02 | G94: 100 | H94: =(G94)*16 -> 1600 | I94: =(G94)*1.4 -> 140 | J94: II | L94: =(K94)*16 -> 0 | M94: =(K94)*1.4 -> 0 | N94: =SUM(G94,K94) -> 100 | O94: =(N94)*16 -> 1600 | P94: =(N94)*1.4 -> 140
B95: 5 | E95: BUDYNEK GOSPODARCZY | F95: W02 | G95: 200 | H95: =(G95)*16 -> 3200 | I95: =(G95)*1.4 -> 280 | J95: II | L95: =(K95)*16 -> 0 | M95: =(K95)*1.4 -> 0 | N95: =SUM(G95,K95) -> 200 | O95: =(N95)*16 -> 3200 | P95: =(N95)*1.4 -> 280
B96: 7 | C96: 194 | E96: BUDYNEK GOSPODARCZY | F96: W02 | G96: 560 | H96: =(G96)*16 -> 8960 | I96: =(G96)*1.4 -> 784 | J96: II | L96: =(K96)*16 -> 0 | M96: =(K96)*1.4 -> 0 | N96: =SUM(G96,K96) -> 560 | O96: =(N96)*16 -> 8960 | P96: =(N96)*1.4 -> 784
B97: 7 | E97: BUDYNEK MIESZKALNY | F97: W02 | G97: 160 | H97: =(G97)*16 -> 2560 | I97: =(G97)*1.4 -> 224 | J97: II | L97: =(K97)*16 -> 0 | M97: =(K97)*1.4 -> 0 | N97: =SUM(G97,K97) -> 160 | O97: =(N97)*16 -> 2560 | P97: =(N97)*1.4 -> 224
B98: 7 | E98: BUDYNEK GOSPODARCZY | F98: W02 | G98: 24 | H98: =(G98)*16 -> 384 | I98: =(G98)*1.4 -> 33.6 | J98: II | L98: =(K98)*16 -> 0 | M98: =(K98)*1.4 -> 0 | N98: =SUM(G98,K98) -> 24 | O98: =(N98)*16 -> 384 | P98: =(N98)*1.4 -> 33.6
B99: 7 | E99: BUDYNEK GOSPODARCZY | F99: W02 | G99: 235 | H99: =(G99)*16 -> 3760 | I99: =(G99)*1.4 -> 329 | J99: II | L99: =(K99)*16 -> 0 | M99: =(K99)*1.4 -> 0 | N99: =SUM(G99,K99) -> 235 | O99: =(N99)*16 -> 3760 | P99: =(N99)*1.4 -> 329
B100: 8 | C100: 202/1 | E100: BUDYNEK MIESZKALNO-GOSPODARCZY | F100: W02 | G100: 181 | H100: =(G100)*16 -> 2896 | I100: =(G100)*1.4 -> 253.4 | J100: II | L100: =(K100)*16 -> 0 | M100: =(K100)*1.4 -> 0 | N100: =SUM(G100,K100) -> 181 | O100: =(N100)*16 -> 2896 | P100: =(N100)*1.4 -> 253.4
...

Sheet Latkowo
A1: MIEJSCOWOŚĆ | B1: ADRES (NR. POSESJI) | C1: NR. DZIAŁKI EWIDENCYJNEJ | D1: NR. OBRĘBU EWIDENCYJNEGO | E1: RODZAJ ZABUDOWY | F1: NAZWA/RODZAJ WYROBU | G1: ILOŚĆ POSIADANYCH WYROBÓW BĘDĄCYCH W UŻYCIU (W SZT.) | H1: WAGA POSIADANYCH WYROBÓW BĘDĄCYCH W UŻYCIU (W KG.) | I1: POWIERZCHNIA POSIADANYCH WYROBÓW BĘDĄCYCH W UŻYCIU (W M2) | J1: STOPIEŃ PILNOŚCI (I-III) | K1: ILOŚĆ POSIADANYCH WYROBÓW ZŁOŻONYCH NA POSESJI (W SZT.) | L1: WAGA POSIADANYCH WYROBÓW ZŁOŻONYCH NA POSESJI (W KG.) | M1: POWIERZCHNIA POSIADANYCH WYROBÓW ZŁOŻONYCH NA POSESJI (W M2) | N1: ILOŚĆ POSIADANYCH WYROBÓW BĘDĄCYCH W UŻYCIU I ZŁOŻONYCH NA POSESJI W SUMIE (W SZT.) | O1: WAGA POSIADANYCH WYROBÓW BĘDĄCYCH W UŻYCIU I ZŁOŻONYCH NA POSESJI W SUMIE (W KG.) | P1: POWIERZCHNIA POSIADANYCH WYROBÓW BĘDĄCYCH W UŻYCIU I ZŁOŻONYCH NA POSESJI W SUMIE (W M2)
A2: Latkowo | B2: 14 | C2: 1/1 | D2: 0001 | E2: BUDYNEK MIESZKALNY | F2: W01 | G2: 168 | H2: =(G2)*16 -> 2688 | I2: =(G2)*1.4 -> 235.2 | J2: II | L2: =(K2)*16 -> 0 | M2: =(K2)*1.4 -> 0 | N2: =SUM(G2,K2) -> 168 | O2: =(N2)*16 -> 2688 | P2: =(N2)*1.4 -> 235.2
E3: BUDYNEK GOSPODARCZY | F3: W02 | G3: 220 | H3: =(G3)*16 -> 3520 | I3: =(G3)*1.4 -> 308 | J3: II | L3: =(K3)*16 -> 0 | M3: =(K3)*1.4 -> 0 | N3: =SUM(G3,K3) -> 220 | O3: =(N3)*16 -> 3520 | P3: =(N3)*1.4 -> 308
B4: 9 | C4: 36/1 | E4: BUDYNEK GOSPODARCZY | F4: W02 | G4: 264 | H4: =(G4)*16 -> 4224 | I4: =(G4)*1.4 -> 369.6 | J4: II | L4: =(K4)*16 -> 0 | M4: =(K4)*1.4 -> 0 | N4: =SUM(G4,K4) -> 264 | O4: =(N4)*16 -> 4224 | P4: =(N4)*1.4 -> 369.6
E5: BUDYNEK GOSPODARCZY | F5: W02 | G5: 162 | H5: =(G5)*16 -> 2592 | I5: =(G5)*1.4 -> 226.8 | J5: II | L5: =(K5)*16 -> 0 | M5: =(K5)*1.4 -> 0 | N5: =SUM(G5,K5) -> 162 | O5: =(N5)*16 -> 2592 | P5: =(N5)*1.4 -> 226.8
B6: 6A | C6: 39/1 | E6: BUDYNEK MIESZKALNY | F6: W02 | G6: 185.5 | H6: =(G6)*16 -> 2968 | I6: =(G6)*1.4 -> 259.7 | J6: II | L6: =(K6)*16 -> 0 | M6: =(K6)*1.4 -> 0 | N6: =SUM(G6,K6) -> 185.5 | O6: =(N6)*16 -> 2968 | P6: =(N6)*1.4 -> 259.7
E7: BUDYNEK GOSPODARCZY | F7: W02 | G7: 408 | H7: =(G7)*16 -> 6528 | I7: =(G7)*1.4 -> 571.2 | J7: II | L7: =(K7)*16 -> 0 | M7: =(K7)*1.4 -> 0 | N7: =SUM(G7,K7) -> 408 | O7: =(N7)*16 -> 6528 | P7: =(N7)*1.4 -> 571.2
B8: 15 | C8: 30/2 | E8: BUDYNEK GOSPODARCZY | F8: W01 | G8: 160 | H8: =(G8)*16 -> 2560 | I8: =(G8)*1.4 -> 224 | J8: I | L8: =(K8)*16 -> 0 | M8: =(K8)*1.4 -> 0 | N8: =SUM(G8,K8) -> 160 | O8: =(N8)*16 -> 2560 | P8: =(N8)*1.4 -> 224
B9: 11 | C9: 9/2 | E9: BUDYNEK MIESZKALNY | F9: W01 | G9: 112 | H9: =(G9)*16 -> 1792 | I9: =(G9)*1.4 -> 156.8 | J9: I | L9: =(K9)*16 -> 0 | M9: =(K9)*1.4 -> 0 | N9: =SUM(G9,K9) -> 112 | O9: =(N9)*16 -> 1792 | P9: =(N9)*1.4 -> 156.8
E10: BUDYNEK GOSPODARCZY | F10: W01 | G10: 112 | H10: =(G10)*16 -> 1792 | I10: =(G10)*1.4 -> 156.8 | J10: I | L10: =(K10)*16 -> 0 | M10: =(K10)*1.4 -> 0 | N10: =SUM(G10,K10) -> 112 | O10: =(N10)*16 -> 1792 | P10: =(N10)*1.4 -> 156.8
E11: BUDYNEK GOSPODARCZY | F11: W01 | G11: 240 | H11: =(G11)*16 -> 3840 | I11: =(G11)*1.4 -> 336 | J11: I | L11: =(K11)*16 -> 0 | M11: =(K11)*1.4 -> 0 | N11: =SUM(G11,K11) -> 240 | O11: =(N11)*16 -> 3840 | P11: =(N11)*1.4 -> 336
B12: 10 | C12: 34/1 | E12: BUDYNEK GOSPODARCZY | F12: W02 | G12: 200 | H12: =(G12)*16 -> 3200 | I12: =(G12)*1.4 -> 280 | J12: II | L12: =(K12)*16 -> 0 | M12: =(K12)*1.4 -> 0 | N12: =SUM(G12,K12) -> 200 | O12: =(N12)*16 -> 3200 | P12: =(N12)*1.4 -> 280
B13: 5 | C13: 41/1 | E13: BUDYNEK MIESZKALNY | F13: W02 | G13: 120 | H13: =(G13)*16 -> 1920 | I13: =(G13)*1.4 -> 168 | J13: II | L13: =(K13)*16 -> 0 | M13: =(K13)*1.4 -> 0 | N13: =SUM(G13,K13) -> 120 | O13: =(N13)*16 -> 1920 | P13: =(N13)*1.4 -> 168
B14: 2 | C14: 2 | E14: BUDYNEK MIESZKALNY | F14: W02 | G14: 180 | H14: =(G14)*16 -> 2880 | I14: =(G14)*1.4 -> 252 | J14: II | L14: =(K14)*16 -> 0 | M14: =(K14)*1.4 -> 0 | N14: =SUM(G14,K14) -> 180 | O14: =(N14)*16 -> 2880 | P14: =(N14)*1.4 -> 252
E15: BUDYNEK GOSPODARCZY | F15: W02 | G15: 310 | H15: =(G15)*16 -> 4960 | I15: =(G15)*1.4 -> 434 | J15: II | L15: =(K15)*16 -> 0 | M15: =(K15)*1.4 -> 0 | N15: =SUM(G15,K15) -> 310 | O15: =(N15)*16 -> 4960 | P15: =(N15)*1.4 -> 434
B16: 7 | C16: 26/2 | E16: BUDYNEK GOSPODARCZY | F16: W02 | G16: 240 | H16: =(G16)*16 -> 3840 | I16: =(G16)*1.4 -> 336 | J16: II | L16: =(K16)*16 -> 0 | M16: =(K16)*1.4 -> 0 | N16: =SUM(G16,K16) -> 240 | O16: =(N16)*16 -> 3840 | P16: =(N16)*1.4 -> 336
B17: KOŁO 7 | C17: 19/1 | E17: BUDYNEK GOSPODARCZY | F17: W02 | G17: 120 | H17: =(G17)*16 -> 1920 | I17: =(G17)*1.4 -> 168 | J17: II | L17: =(K17)*16 -> 0 | M17: =(K17)*1.4 -> 0 | N17: =SUM(G17,K17) -> 120 | O17: =(N17)*16 -> 1920 | P17: =(N17)*1.4 -> 168
B18: 4 | C18: 43/2 | E18: BUDYNEK MIESZKALNY | F18: W01 | G18: 96 | H18: =(G18)*16 -> 1536 | I18: =(G18)*1.4 -> 134.4 | J18: II | L18: =(K18)*16 -> 0 | M18: =(K18)*1.4 -> 0 | N18: =SUM(G18,K18) -> 96 | O18: =(N18)*16 -> 1536 | P18: =(N18)*1.4 -> 134.4
E19: BUDYNEK GOSPODARCZY | F19: W01 | G19: 96 | H19: =(G19)*16 -> 1536 | I19: =(G19)*1.4 -> 134.4 | J19: II | L19: =(K19)*16 -> 0 | M19: =(K19)*1.4 -> 0 | N19: =SUM(G19,K19) -> 96 | O19: =(N19)*16 -> 1536 | P19: =(N19)*1.4 -> 134.4
B20: 3 | C20: 45/4 | E20: BUDYNEK MIESZKALNY | F20: W02 | G20: 96 | H20: =(G20)*16 -> 1536 | I20: =(G20)*1.4 -> 134.4 | J20: II | L20: =(K20)*16 -> 0 | M20: =(K20)*1.4 -> 0 | N20: =SUM(G20,K20) -> 96 | O20: =(N20)*16 -> 1536 | P20: =(N20)*1.4 -> 134.4
E21: BUDYNEK GOSPODARCZY | F21: W02 | G21: 48 | H21: =(G21)*16 -> 768 | I21: =(G21)*1.4 -> 67.2 | J21: II | L21: =(K21)*16 -> 0 | M21: =(K21)*1.4 -> 0 | N21: =SUM(G21,K21) -> 48 | O21: =(N21)*16 -> 768 | P21: =(N21)*1.4 -> 67.2
E22: BUDYNEK GOSPODARCZY | F22: W02 | G22: 30 | H22: =(G22)*16 -> 480 | I22: =(G22)*1.4 -> 42 | J22: II | L22: =(K22)*16 -> 0 | M22: =(K22)*1.4 -> 0 | N22: =SUM(G22,K22) -> 30 | O22: =(N22)*16 -> 480 | P22: =(N22)*1.4 -> 42
B23: PGR | C23: 54/4 | E23: BUDYNEK GOSPODARCZY | F23: W02 | G23: 128 | H23: =(G23)*16 -> 2048 | I23: =(G23)*1.4 -> 179.2 | J23: II | L23: =(K23)*16 -> 0 | M23: =(K23)*1.4 -> 0 | N23: =SUM(G23,K23) -> 128 | O23: =(N23)*16 -> 2048 | P23: =(N23)*1.4 -> 179.2
E24: BUDYNEK GOSPODARCZY | F24: W02 | G24: 480 | H24: =(G24)*16 -> 7680 | I24: =(G24)*1.4 -> 672 | J24: II | L24: =(K24)*16 -> 0 | M24: =(K24)*1.4 -> 0 | N24: =SUM(G24,K24) -> 480 | O24: =(N24)*16 -> 7680 | P24: =(N24)*1.4 -> 672
E25: BUDYNEK GOSPODARCZY | F25: W02 | G25: 440 | H25: =(G25)*16 -> 7040 | I25: =(G25)*1.4 -> 616 | J25: II | L25: =(K25)*16 -> 0 | M25: =(K25)*1.4 -> 0 | N25: =SUM(G25,K25) -> 440 | O25: =(N25)*16 -> 7040 | P25: =(N25)*1.4 -> 616
B26: NAPRZECIWKO PGR | C26: 60/2 | E26: BUDYNEK GOSPODARCZY | F26: W02 | G26: 480 | H26: =(G26)*16 -> 7680 | I26: =(G26)*1.4 -> 672 | J26: I | L26: =(K26)*16 -> 0 | M26: =(K26)*1.4 -> 0 | N26: =SUM(G26,K26) -> 480 | O26: =(N26)*16 -> 7680 | P26: =(N26)*1.4 -> 672
B27: 27 | C27: 71/19 | E27: BUDYNEK GOSPODARCZY | F27: W02 | G27: 72 | H27: =(G27)*16 -> 1152 | I27: =(G27)*1.4 -> 100.8 | J27: II | L27: =(K27)*16 -> 0 | M27: =(K27)*1.4 -> 0 | N27: =SUM(G27,K27) -> 72 | O27: =(N27)*16 -> 1152 | P27: =(N27)*1.4 -> 100.8
B28: 26 | C28: 71/19 | E28: BUDYNEK GOSPODARCZY | F28: W02 | G28: 72 | H28: =(G28)*16 -> 1152 | I28: =(G28)*1.4 -> 100.8 | J28: II | L28: =(K28)*16 -> 0 | M28: =(K28)*1.4 -> 0 | N28: =SUM(G28,K28) -> 72 | O28: =(N28)*16 -> 1152 | P28: =(N28)*1.4 -> 100.8
B29: 22 | C29: 71/12 | E29: BUDYNEK MIESZKALNY | F29: W02 | G29: 240 | H29: =(G29)*16 -> 3840 | I29: =(G29)*1.4 -> 336 | J29: I | L29: =(K29)*16 -> 0 | M29: =(K29)*1.4 -> 0 | N29: =SUM(G29,K29) -> 240 | O29: =(N29)*16 -> 3840 | P29: =(N29)*1.4 -> 336
B30: 21 | C30: 71/10 | E30: BUDYNEK MIESZKALNY | F30: W02 | G30: 144 | H30: =(G30)*16 -> 2304 | I30: =(G30)*1.4 -> 201.6 | J30: II | L30: =(K30)*16 -> 0 | M30: =(K30)*1.4 -> 0 | N30: =SUM(G30,K30) -> 144 | O30: =(N30)*16 -> 2304 | P30: =(N30)*1.4 -> 201.6
B31: 20 | C31: 71/8 | E31: BUDYNEK MIESZKALNY | F31: W02 | G31: 240 | H31: =(G31)*16 -> 3840 | I31: =(G31)*1.4 -> 336 | J31: II | L31: =(K31)*16 -> 0 | M31: =(K31)*1.4 -> 0 | N31: =SUM(G31,K31) -> 240 | O31: =(N31)*16 -> 3840 | P31: =(N31)*1.4 -> 336
B32: 17 | C32: 68/1 | E32: BUDYNEK MIESZKALNY | F32: W02 | G32: 140 | H32: =(G32)*16 -> 2240 | I32: =(G32)*1.4 -> 196 | J32: II | L32: =(K32)*16 -> 0 | M32: =(K32)*1.4 -> 0 | N32: =SUM(G32,K32) -> 140 | O32: =(N32)*16 -> 2240 | P32: =(N32)*1.4 -> 196
B33: 20/5 | C33: 71/9 | E33: BUDYNEK MIESZKALNY | F33: W02 | G33: 0 | H33: =(G33)*16 -> 0 | I33: =(G33)*1.4 -> 0 | J33: II | K33: 50 | L33: 800 | M33: 70 | N33: =SUM(G33,K33) -> 50 | O33: =(N33)*16 -> 800 | P33: =(N33)*1.4 -> 70
B34: 18 | C34: 68/3 | E34: BUDYNEK MIESZKALNY | F34: W02 | G34: 192 | H34: =(G34)*16 -> 3072 | I34: =(G34)*1.4 -> 268.8 | J34: II | L34: =(K34)*16 -> 0 | M34: =(K34)*1.4 -> 0 | N34: =SUM(G34,K34) -> 192 | O34: =(N34)*16 -> 3072 | P34: =(N34)*1.4 -> 268.8
E35: BUDYNEK GOSPODARCZY | F35: W02 | G35: 30 | H35: =(G35)*16 -> 480 | I35: =(G35)*1.4 -> 42 | J35: II | L35: =(K35)*16 -> 0 | M35: =(K35)*1.4 -> 0 | N35: =SUM(G35,K35) -> 30 | O35: =(N35)*16 -> 480 | P35: =(N35)*1.4 -> 42
B36: 19 | C36: 68/5 | E36: BUDYNEK MIESZKALNY | F36: W02 | G36: 320 | H36: =(G36)*16 -> 5120 | I36: =(G36)*1.4 -> 448 | J36: II | L36: =(K36)*16 -> 0 | M36: =(K36)*1.4 -> 0 | N36: =SUM(G36,K36) -> 320 | O36: =(N36)*16 -> 5120 | P36: =(N36)*1.4 -> 448
E37: BUDYNEK GOSPODARCZY | F37: W02 | G37: 192 | H37: =(G37)*16 -> 3072 | I37: =(G37)*1.4 -> 268.8 | J37: II | L37: =(K37)*16 -> 0 | M37: =(K37)*1.4 -> 0 | N37: =SUM(G37,K37) -> 192 | O37: =(N37)*16 -> 3072 | P37: =(N37)*1.4 -> 268.8
A39: SUMA | G39: =SUM(G2:G38) -> 6737.5 | H39: =SUM(H2:H38) -> 107800 | I39: =SUM(I2:I38) -> 9432.5 | K39: =SUM(K2:K38) -> 50 | L39: =SUM(L2:L38) -> 800 | M39: =SUM(M2:M38) -> 70 | N39: =SUM(N2:N38) -> 6787.5 | O39: =SUM(O2:O38) -> 108600 | P39: =SUM(P2:P38) -> 9502.5

Sheet Lekarzewice
A1: MIEJSCOWOŚĆ | B1: ADRES (NR. POSESJI) | C1: NR. DZIAŁKI EWIDENCYJNEJ | D1: NR. OBRĘBU EWIDENCYJNEGO | E1: RODZAJ ZABUDOWY | F1: NAZWA/RODZAJ WYROBU | G1: ILOŚĆ POSIADANYCH WYROBÓW BĘDĄCYCH W UŻYCIU (W SZT.) | H1: WAGA POSIADANYCH WYROBÓW BĘDĄCYCH W UŻYCIU (W KG.) | I1: POWIERZCHNIA POSIADANYCH WYROBÓW BĘDĄCYCH W UŻYCIU (W M2) | J1: STOPIEŃ PILNOŚCI (I-III) | K1: ILOŚĆ POSIADANYCH WYROBÓW ZŁOŻONYCH NA POSESJI (W SZT.) | L1: WAGA POSIADANYCH WYROBÓW ZŁOŻONYCH NA POSESJI (W KG.) | M1: POWIERZCHNIA POSIADANYCH WYROBÓW ZŁOŻONYCH NA POSESJI (W M2) | N1: ILOŚĆ POSIADANYCH WYROBÓW BĘDĄCYCH W UŻYCIU I ZŁOŻONYCH NA POSESJI W SUMIE (W SZT.) | O1: WAGA POSIADANYCH WYROBÓW BĘDĄCYCH W UŻYCIU I ZŁOŻONYCH NA POSESJI W SUMIE (W KG.) | P1: POWIERZCHNIA POSIADANYCH WYROBÓW BĘDĄCYCH W UŻYCIU I ZŁOŻONYCH NA POSESJI W SUMIE (W M2)
A2: Lekarzewice | B2: 20 | C2: 83 | D2: 0001 | E2: BUDYNEK GOSPODARCZY | F2: W02 | G2: 0 | H2: =(G2)*16 -> 0 | I2: =(G2)*1.4 -> 0 | J2: II | K2: 280 | L2: =(K2)*16 -> 4480 | M2: =(K2)*1.4 -> 392 | N2: =SUM(G2,K2) -> 280 | O2: =(N2)*16 -> 4480 | P2: =(N2)*1.4 -> 392
B3: 9 | C3: 4 | E3: BUDYNEK MIESZKALNY | F3: W02 | G3: 156 | H3: =(G3)*16 -> 2496 | I3: =(G3)*1.4 -> 218.4 | J3: II | L3: =(K3)*16 -> 0 | M3: =(K3)*1.4 -> 0 | N3: =SUM(G3,K3) -> 156 | O3: =(N3)*16 -> 2496 | P3: =(N3)*1.4 -> 218.4
E4: BUDYNEK GOSPODARCZY | F4: W01 | G4: 348 | H4: =(G4)*16 -> 5568 | I4: =(G4)*1.4 -> 487.2 | J4: II | L4: =(K4)*16 -> 0 | M4: =(K4)*1.4 -> 0 | N4: =SUM(G4,K4) -> 348 | O4: =(N4)*16 -> 5568 | P4: =(N4)*1.4 -> 487.2
B5: 28 | C5: 26 | E5: BUDYNEK GOSPODARCZY | F5: W02 | G5: 494 | H5: =(G5)*16 -> 7904 | I5: =(G5)*1.4 -> 691.6 | J5: II | L5: =(K5)*16 -> 0 | M5: =(K5)*1.4 -> 0 | N5: =SUM(G5,K5) -> 494 | O5: =(N5)*16 -> 7904 | P5: =(N5)*1.4 -> 691.6
E6: BUDYNEK GOSPODARCZY | F6: W02 | G6: 84 | H6: =(G6)*16 -> 1344 | I6: =(G6)*1.4 -> 117.6 | J6: II | L6: =(K6)*16 -> 0 | M6: =(K6)*1.4 -> 0 | N6: =SUM(G6,K6) -> 84 | O6: =(N6)*16 -> 1344 | P6: =(N6)*1.4 -> 117.6
E7: BUDYNEK GOSPODARCZY | F7: W01 | G7: 200 | H7: =(G7)*16 -> 3200 | I7: =(G7)*1.4 -> 280 | J7: II | L7: =(K7)*16 -> 0 | M7: =(K7)*1.4 -> 0 | N7: =SUM(G7,K7) -> 200 | O7: =(N7)*16 -> 3200 | P7: =(N7)*1.4 -> 280
B8: 26 | C8: 69 | E8: BUDYNEK MIESZKALNY | F8: W02 | G8: 192 | H8: =(G8)*16 -> 3072 | I8: =(G8)*1.4 -> 268.8 | J8: II | L8: =(K8)*16 -> 0 | M8: =(K8)*1.4 -> 0 | N8: =SUM(G8,K8) -> 192 | O8: =(N8)*16 -> 3072 | P8: =(N8)*1.4 -> 268.8
E9: BUDYNEK GOSPODARCZY | F9: W02 | G9: 540 | H9: =(G9)*16 -> 8640 | I9: =(G9)*1.4 -> 756 | J9: II | L9: =(K9)*16 -> 0 | M9: =(K9)*1.4 -> 0 | N9: =SUM(G9,K9) -> 540 | O9: =(N9)*16 -> 8640 | P9: =(N9)*1.4 -> 756
E10: BUDYNEK GOSPODARCZY | F10: W02 | G10: 36 | H10: =(G10)*16 -> 576 | I10: =(G10)*1.4 -> 50.4 | J10: II | L10: =(K10)*16 -> 0 | M10: =(K10)*1.4 -> 0 | N10: =SUM(G10,K10) -> 36 | O10: =(N10)*16 -> 576 | P10: =(N10)*1.4 -> 50.4
E11: BUDYNEK GOSPODARCZY | F11: W02 | G11: 36 | H11: =(G11)*16 -> 576 | I11: =(G11)*1.4 -> 50.4 | J11: II | L11: =(K11)*16 -> 0 | M11: =(K11)*1.4 -> 0 | N11: =SUM(G11,K11) -> 36 | O11: =(N11)*16 -> 576 | P11: =(N11)*1.4 -> 50.4
E12: BUDYNEK GOSPODARCZY | F12: W02 | G12: 200 | H12: =(G12)*16 -> 3200 | I12: =(G12)*1.4 -> 280 | J12: II | L12: =(K12)*16 -> 0 | M12: =(K12)*1.4 -> 0 | N12: =SUM(G12,K12) -> 200 | O12: =(N12)*16 -> 3200 | P12: =(N12)*1.4 -> 280
B13: BYŁA REMIZA | C13: 21 | E13: BUDYNEK GOSPODARCZY | F13: W02 | G13: 196 | H13: =(G13)*16 -> 3136 | I13: =(G13)*1.4 -> 274.4 | J13: II | L13: =(K13)*16 -> 0 | M13: =(K13)*1.4 -> 0 | N13: =SUM(G13,K13) -> 196 | O13: =(N13)*16 -> 3136 | P13: =(N13)*1.4 -> 274.4
E14: BUDYNEK GOSPODARCZY | F14: W02 | G14: 192 | H14: =(G14)*16 -> 3072 | I14: =(G14)*1.4 -> 268.8 | J14: II | L14: =(K14)*16 -> 0 | M14: =(K14)*1.4 -> 0 | N14: =SUM(G14,K14) -> 192 | O14: =(N14)*16 -> 3072 | P14: =(N14)*1.4 -> 268.8
E15: BUDYNEK GOSPODARCZY | F15: W02 | G15: 60 | H15: =(G15)*16 -> 960 | I15: =(G15)*1.4 -> 84 | J15: II | L15: =(K15)*16 -> 0 | M15: =(K15)*1.4 -> 0 | N15: =SUM(G15,K15) -> 60 | O15: =(N15)*16 -> 960 | P15: =(N15)*1.4 -> 84
B16: 24 | C16: 73 | E16: BUDYNEK GOSPODARCZY | F16: W02 | G16: 540 | H16: =(G16)*16 -> 8640 | I16: =(G16)*1.4 -> 756 | J16: II | L16: =(K16)*16 -> 0 | M16: =(K16)*1.4 -> 0 | N16: =SUM(G16,K16) -> 540 | O16: =(N16)*16 -> 8640 | P16: =(N16)*1.4 -> 756
B17: 19 | C17: 85 | E17: BUDYNEK MIESZKALNY | F17: W02 | G17: 192 | H17: =(G17)*16 -> 3072 | I17: =(G17)*1.4 -> 268.8 | J17: II | L17: =(K17)*16 -> 0 | M17: =(K17)*1.4 -> 0 | N17: =SUM(G17,K17) -> 192 | O17: =(N17)*16 -> 3072 | P17: =(N17)*1.4 -> 268.8
E18: BUDYNEK GOSPODARCZY | F18: W02 | G18: 16 | H18: =(G18)*16 -> 256 | I18: =(G18)*1.4 -> 22.4 | J18: II | L18: =(K18)*16 -> 0 | M18: =(K18)*1.4 -> 0 | N18: =SUM(G18,K18) -> 16 | O18: =(N18)*16 -> 256 | P18: =(N18)*1.4 -> 22.4
E19: BUDYNEK GOSPODARCZY | F19: W02 | G19: 192 | H19: =(G19)*16 -> 3072 | I19: =(G19)*1.4 -> 268.8 | J19: II | L19: =(K19)*16 -> 0 | M19: =(K19)*1.4 -> 0 | N19: =SUM(G19,K19) -> 192 | O19: =(N19)*16 -> 3072 | P19: =(N19)*1.4 -> 268.8
B20: PRZYSTANEK AUTOBUSOWY NA KRZYŻÓWCE | C20: 24 | E20: BUDYNEK GOSPODARCZY | F20: W02 | G20: 10 | H20: =(G20)*16 -> 160 | I20: =(G20)*1.4 -> 14 | J20: II | L20: =(K20)*16 -> 0 | M20: =(K20)*1.4 -> 0 | N20: =SUM(G20,K20) -> 10 | O20: =(N20)*16 -> 160 | P20: =(N20)*1.4 -> 14
B21: 12 | C21: 27/4 | E21: BUDYNEK GOSPODARCZY | F21: W02 | G21: 200 | H21: =(G21)*16 -> 3200 | I21: =(G21)*1.4 -> 280 | J21: II | L21: =(K21)*16 -> 0 | M21: =(K21)*1.4 -> 0 | N21: =SUM(G21,K21) -> 200 | O21: =(N21)*16 -> 3200 | P21: =(N21)*1.4 -> 280
E22: BUDYNEK GOSPODARCZY | F22: W02 | G22: 84 | H22: =(G22)*16 -> 1344 | I22: =(G22)*1.4 -> 117.6 | J22: II | L22: =(K22)*16 -> 0 | M22: =(K22)*1.4 -> 0 | N22: =SUM(G22,K22) -> 84 | O22: =(N22)*16 -> 1344 | P22: =(N22)*1.4 -> 117.6
B23: 11 | C23: 28 | E23: BUDYNEK MIESZKALNY | F23: W01 | G23: 96 | H23: =(G23)*16 -> 1536 | I23: =(G23)*1.4 -> 134.4 | J23: II | L23: =(K23)*16 -> 0 | M23: =(K23)*1.4 -> 0 | N23: =SUM(G23,K23) -> 96 | O23: =(N23)*16 -> 1536 | P23: =(N23)*1.4 -> 134.4
E24: BUDYNEK GOSPODARCZY | F24: W02 | G24: 180 | H24: =(G24)*16 -> 2880 | I24: =(G24)*1.4 -> 252 | J24: II | L24: =(K24)*16 -> 0 | M24: =(K24)*1.4 -> 0 | N24: =SUM(G24,K24) -> 180 | O24: =(N24)*16 -> 2880 | P24: =(N24)*1.4 -> 252
E25: BUDYNEK GOSPODARCZY | F25: W02 | G25: 12 | H25: =(G25)*16 -> 192 | I25: =(G25)*1.4 -> 16.8 | J25: II | L25: =(K25)*16 -> 0 | M25: =(K25)*1.4 -> 0 | N25: =SUM(G25,K25) -> 12 | O25: =(N25)*16 -> 192 | P25: =(N25)*1.4 -> 16.8
B26: 10 | C26: 0 | E26: BUDYNEK MIESZKALNY | F26: W02 | G26: 168 | H26: =(G26)*16 -> 2688 | I26: =(G26)*1.4 -> 235.2 | J26: II | L26: =(K26)*16 -> 0 | M26: =(K26)*1.4 -> 0 | N26: =SUM(G26,K26) -> 168 | O26: =(N26)*16 -> 2688 | P26: =(N26)*1.4 -> 235.2
E27: BUDYNEK GOSPODARCZY | F27: W02 | G27: 110 | H27: =(G27)*16 -> 1760 | I27: =(G27)*1.4 -> 154 | J27: II | L27: =(K27)*16 -> 0 | M27: =(K27)*1.4 -> 0 | N27: =SUM(G27,K27) -> 110 | O27: =(N27)*16 -> 1760 | P27: =(N27)*1.4 -> 154
B28: 3 | C28: 3 | E28: BUDYNEK MIESZKALNY | F28: W01 | G28: 140 | H28: =(G28)*16 -> 2240 | I28: =(G28)*1.4 -> 196 | J28: II | L28: =(K28)*16 -> 0 | M28: =(K28)*1.4 -> 0 | N28: =SUM(G28,K28) -> 140 | O28: =(N28)*16 -> 2240 | P28: =(N28)*1.4 -> 196
E29: BUDYNEK GOSPODARCZY | F29: W02 | G29: 16 | H29: =(G29)*16 -> 256 | I29: =(G29)*1.4 -> 22.4 | J29: II | L29: =(K29)*16 -> 0 | M29: =(K29)*1.4 -> 0 | N29: =SUM(G29,K29) -> 16 | O29: =(N29)*16 -> 256 | P29: =(N29)*1.4 -> 22.4
E30: BUDYNEK GOSPODARCZY | F30: W02 | G30: 140 | H30: =(G30)*16 -> 2240 | I30: =(G30)*1.4 -> 196 | J30: II | L30: =(K30)*16 -> 0 | M30: =(K30)*1.4 -> 0 | N30: =SUM(G30,K30) -> 140 | O30: =(N30)*16 -> 2240 | P30: =(N30)*1.4 -> 196
B31: 29 | C31: 76/3 | E31: BUDYNEK MIESZKALNY | F31: W02 | G31: 375 | H31: =(G31)*16 -> 6000 | I31: =(G31)*1.4 -> 525 | J31: II | L31: =(K31)*16 -> 0 | M31: =(K31)*1.4 -> 0 | N31: =SUM(G31,K31) -> 375 | O31: =(N31)*16 -> 6000 | P31: =(N31)*1.4 -> 525
B32: 14 | C32: 32 | E32: BUDYNEK GOSPODARCZY | F32: W02 | G32: 200 | H32: =(G32)*16 -> 3200 | I32: =(G32)*1.4 -> 280 | J32: II | L32: =(K32)*16 -> 0 | M32: =(K32)*1.4 -> 0 | N32: =SUM(G32,K32) -> 200 | O32: =(N32)*16 -> 3200 | P32: =(N32)*1.4 -> 280
B33: 16 | C33: 36 | E33: BUDYNEK MIESZKALNY | F33: W02 | G33: 154 | H33: =(G33)*16 -> 2464 | I33: =(G33)*1.4 -> 215.6 | J33: II | L33: =(K33)*16 -> 0 | M33: =(K33)*1.4 -> 0 | N33: =SUM(G33,K33) -> 154 | O33: =(N33)*16 -> 2464 | P33: =(N33)*1.4 -> 215.6
E34: BUDYNEK GOSPODARCZY | F34: W02 | G34: 128 | H34: =(G34)*16 -> 2048 | I34: =(G34)*1.4 -> 179.2 | J34: II | L34: =(K34)*16 -> 0 | M34: =(K34)*1.4 -> 0 | N34: =SUM(G34,K34) -> 128 | O34: =(N34)*16 -> 2048 | P34: =(N34)*1.4 -> 179.2
B35: 2 | C35: 6 | E35: BUDYNEK GOSPODARCZY | F35: W02 | G35: 84 | H35: =(G35)*16 -> 1344 | I35: =(G35)*1.4 -> 117.6 | J35: II | K35: 10 | L35: =(K35)*16 -> 160 | M35: =(K35)*1.4 -> 14 | N35: =SUM(G35,K35) -> 94 | O35: =(N35)*16 -> 1504 | P35: =(N35)*1.4 -> 131.6
E36: BUDYNEK GOSPODARCZY | F36: W02 | G36: 15 | H36: =(G36)*16 -> 240 | I36: =(G36)*1.4 -> 21 | J36: II | L36: =(K36)*16 -> 0 | M36: =(K36)*1.4 -> 0 | N36: =SUM(G36,K36) -> 15 | O36: =(N36)*16 -> 240 | P36: =(N36)*1.4 -> 21
