Workbook

Sheet Bełszewo Kolonia
A1: MIEJSCOWOŚĆ | B1: ADRES (NR. POSESJI) | C1: NR. DZIAŁKI EWIDENCYJNEJ | D1: NR. OBRĘBU EWIDENCYJNEGO | E1: RODZAJ ZABUDOWY | F1: NAZWA/RODZAJ WYROBU | G1: ILOŚĆ POSIADANYCH WYROBÓW BĘDĄCYCH W UŻYCIU (W SZT.) | H1: WAGA POSIADANYCH WYROBÓW BĘDĄCYCH W UŻYCIU (W KG.) | I1: POWIERZCHNIA POSIADANYCH WYROBÓW BĘDĄCYCH W UŻYCIU (W M2) | J1: STOPIEŃ PILNOŚCI (I-III) | K1: ILOŚĆ POSIADANYCH WYROBÓW ZŁOŻONYCH NA POSESJI (W SZT.) | L1: WAGA POSIADANYCH WYROBÓW ZŁOŻONYCH NA POSESJI (W KG.) | M1: POWIERZCHNIA POSIADANYCH WYROBÓW ZŁOŻONYCH NA POSESJI (W M2) | N1: ILOŚĆ POSIADANYCH WYROBÓW BĘDĄCYCH W UŻYCIU I ZŁOŻONYCH NA POSESJI W SUMIE (W SZT.) | O1: WAGA POSIADANYCH WYROBÓW BĘDĄCYCH W UŻYCIU I ZŁOŻONYCH NA POSESJI W SUMIE (W KG.) | P1: POWIERZCHNIA POSIADANYCH WYROBÓW BĘDĄCYCH W UŻYCIU I ZŁOŻONYCH NA POSESJI W SUMIE (W M2)
A2: Bełszewo-Kolonia | B2: 16 | C2: 9/1 | D2: 0001 | E2: BUDYNEK MIESZKALNY | F2: W02 | G2: 180 | H2: =(G2)*16 -> 2880 | I2: =(G2)*1.4 -> 252 | J2: II | L2: =(K2)*16 -> 0 | M2: =(K2)*1.4 -> 0 | N2: =SUM(G2,K2) -> 180 | O2: =(N2)*16 -> 2880 | P2: =(N2)*1.4 -> 252
E3: BUDYNEK GOSPODARCZY | F3: W02 | G3: 220 | H3: =(G3)*16 -> 3520 | I3: =(G3)*1.4 -> 308 | J3: II | L3: =(K3)*16 -> 0 | M3: =(K3)*1.4 -> 0 | N3: =SUM(G3,K3) -> 220 | O3: =(N3)*16 -> 3520 | P3: =(N3)*1.4 -> 308
B4: 16A | C4: 9/1 | E4: BUDYNEK GOSPODARCZY | F4: W02 | G4: 225 | H4: =(G4)*16 -> 3600 | I4: =(G4)*1.4 -> 315 | J4: II | L4: =(K4)*16 -> 0 | M4: =(K4)*1.4 -> 0 | N4: =SUM(G4,K4) -> 225 | O4: =(N4)*16 -> 3600 | P4: =(N4)*1.4 -> 315
B5: 14 | C5: 15/1 | E5: BUDYNEK GOSPODARCZY | F5: W02 | G5: 250 | H5: =(G5)*16 -> 4000 | I5: =(G5)*1.4 -> 350 | J5: II | L5: =(K5)*16 -> 0 | M5: =(K5)*1.4 -> 0 | N5: =SUM(G5,K5) -> 250 | O5: =(N5)*16 -> 4000 | P5: =(N5)*1.4 -> 350
E6: BUDYNEK GOSPODARCZY | F6: W02 | G6: 180 | H6: =(G6)*16 -> 2880 | I6: =(G6)*1.4 -> 252 | J6: II | L6: =(K6)*16 -> 0 | M6: =(K6)*1.4 -> 0 | N6: =SUM(G6,K6) -> 180 | O6: =(N6)*16 -> 2880 | P6: =(N6)*1.4 -> 252
B7: 22 | C7: 69/2 | E7: BUDYNEK GOSPODARCZY | F7: W02 | G7: 160 | H7: =(G7)*16 -> 2560 | I7: =(G7)*1.4 -> 224 | J7: II | L7: =(K7)*16 -> 0 | M7: =(K7)*1.4 -> 0 | N7: =SUM(G7,K7) -> 160 | O7: =(N7)*16 -> 2560 | P7: =(N7)*1.4 -> 224
E8: BUDYNEK GOSPODARCZY | F8: W02 | G8: 180 | H8: =(G8)*16 -> 2880 | I8: =(G8)*1.4 -> 252 | J8: II | L8: =(K8)*16 -> 0 | M8: =(K8)*1.4 -> 0 | N8: =SUM(G8,K8) -> 180 | O8: =(N8)*16 -> 2880 | P8: =(N8)*1.4 -> 252
B9: PRZYSTANEK AUTOBUSOWY | C9: 0 | E9: BUDYNEK GOSPODARCZY | F9: W02 | G9: 24 | H9: =(G9)*16 -> 384 | I9: =(G9)*1.4 -> 33.6 | J9: II | L9: =(K9)*16 -> 0 | M9: =(K9)*1.4 -> 0 | N9: =SUM(G9,K9) -> 24 | O9: =(N9)*16 -> 384 | P9: =(N9)*1.4 -> 33.6
B10: 7 | C10: 20 | E10: BUDYNEK GOSPODARCZY | F10: W02 | G10: 275 | H10: =(G10)*16 -> 4400 | I10: =(G10)*1.4 -> 385 | J10: II | L10: =(K10)*16 -> 0 | M10: =(K10)*1.4 -> 0 | N10: =SUM(G10,K10) -> 275 | O10: =(N10)*16 -> 4400 | P10: =(N10)*1.4 -> 385
B11: 6 | C11: 22/1 | E11: BUDYNEK MIESZKALNY | F11: W02 | G11: 140 | H11: =(G11)*16 -> 2240 | I11: =(G11)*1.4 -> 196 | J11: II | L11: =(K11)*16 -> 0 | M11: =(K11)*1.4 -> 0 | N11: =SUM(G11,K11) -> 140 | O11: =(N11)*16 -> 2240 | P11: =(N11)*1.4 -> 196
E12: BUDYNEK GOSPODARCZY | F12: W02 | G12: 20 | H12: =(G12)*16 -> 320 | I12: =(G12)*1.4 -> 28 | J12: II | L12: =(K12)*16 -> 0 | M12: =(K12)*1.4 -> 0 | N12: =SUM(G12,K12) -> 20 | O12: =(N12)*16 -> 320 | P12: =(N12)*1.4 -> 28
E13: BUDYNEK GOSPODARCZY | F13: W02 | G13: 324 | H13: =(G13)*16 -> 5184 | I13: =(G13)*1.4 -> 453.6 | J13: II | L13: =(K13)*16 -> 0 | M13: =(K13)*1.4 -> 0 | N13: =SUM(G13,K13) -> 324 | O13: =(N13)*16 -> 5184 | P13: =(N13)*1.4 -> 453.6
E14: BUDYNEK GOSPODARCZY | F14: W02 | G14: 200 | H14: =(G14)*16 -> 3200 | I14: =(G14)*1.4 -> 280 | J14: II | L14: =(K14)*16 -> 0 | M14: =(K14)*1.4 -> 0 | N14: =SUM(G14,K14) -> 200 | O14: =(N14)*16 -> 3200 | P14: =(N14)*1.4 -> 280
E15: BUDYNEK GOSPODARCZY | F15: W02 | G15: 200 | H15: =(G15)*16 -> 3200 | I15: =(G15)*1.4 -> 280 | J15: II | L15: =(K15)*16 -> 0 | M15: =(K15)*1.4 -> 0 | N15: =SUM(G15,K15) -> 200 | O15: =(N15)*16 -> 3200 | P15: =(N15)*1.4 -> 280
B16: 4 | C16: 326/1 | E16: BUDYNEK GOSPODARCZY | F16: W02 | G16: 230 | H16: =(G16)*16 -> 3680 | I16: =(G16)*1.4 -> 322 | J16: II | L16: =(K16)*16 -> 0 | M16: =(K16)*1.4 -> 0 | N16: =SUM(G16,K16) -> 230 | O16: =(N16)*16 -> 3680 | P16: =(N16)*1.4 -> 322
B17: 4A | C17: 326/1 | E17: BUDYNEK GOSPODARCZY | F17: W02 | G17: 198 | H17: =(G17)*16 -> 3168 | I17: =(G17)*1.4 -> 277.2 | J17: II | L17: =(K17)*16 -> 0 | M17: =(K17)*1.4 -> 0 | N17: =SUM(G17,K17) -> 198 | O17: =(N17)*16 -> 3168 | P17: =(N17)*1.4 -> 277.2
A19: SUMA | G19: =SUM(G2:G18) -> 3006 | H19: =SUM(H2:H18) -> 48096 | I19: =SUM(I2:I18) -> 4208.4 | K19: =SUM(K2:K18) -> 0 | L19: =SUM(L2:L18) -> 0 | M19: =SUM(M2:M18) -> 0 | N19: =SUM(N2:N18) -> 3006 | O19: =SUM(O2:O18) -> 48096 | P19: =SUM(P2:P18) -> 4208.4

Sheet Bełszewo
A1: MIEJSCOWOŚĆ | B1: ADRES (NR. POSESJI) | C1: NR. DZIAŁKI EWIDENCYJNEJ | D1: NR. OBRĘBU EWIDENCYJNEGO | E1: RODZAJ ZABUDOWY | F1: NAZWA/RODZAJ WYROBU | G1: ILOŚĆ POSIADANYCH WYROBÓW BĘDĄCYCH W UŻYCIU (W SZT.) | H1: WAGA POSIADANYCH WYROBÓW BĘDĄCYCH W UŻYCIU (W KG.) | I1: POWIERZCHNIA POSIADANYCH WYROBÓW BĘDĄCYCH W UŻYCIU (W M2) | J1: STOPIEŃ PILNOŚCI (I-III) | K1: ILOŚĆ POSIADANYCH WYROBÓW ZŁOŻONYCH NA POSESJI (W SZT.) | L1: WAGA POSIADANYCH WYROBÓW ZŁOŻONYCH NA POSESJI (W KG.) | M1: POWIERZCHNIA POSIADANYCH WYROBÓW ZŁOŻONYCH NA POSESJI (W M2) | N1: ILOŚĆ POSIADANYCH WYROBÓW BĘDĄCYCH W UŻYCIU I ZŁOŻONYCH NA POSESJI W SUMIE (W SZT.) | O1: WAGA POSIADANYCH WYROBÓW BĘDĄCYCH W UŻYCIU I ZŁOŻONYCH NA POSESJI W SUMIE (W KG.) | P1: POWIERZCHNIA POSIADANYCH WYROBÓW BĘDĄCYCH W UŻYCIU I ZŁOŻONYCH NA POSESJI W SUMIE (W M2)
A2: Bełszewo | B2: 36 | C2: 333/1 | D2: 0001 | E2: BUDYNEK MIESZKALNY | F2: W02 | G2: 112 | H2: =(G2)*16 -> 1792 | I2: =(G2)*1.4 -> 156.8 | J2: II | L2: =(K2)*16 -> 0 | M2: =(K2)*1.4 -> 0 | N2: =SUM(G2,K2) -> 112 | O2: =(N2)*16 -> 1792 | P2: =(N2)*1.4 -> 156.8
B3: 35 | C3: 170/1 | E3: BUDYNEK MIESZKALNY | F3: W02 | G3: 168 | H3: =(G3)*16 -> 2688 | I3: =(G3)*1.4 -> 235.2 | J3: II | L3: =(K3)*16 -> 0 | M3: =(K3)*1.4 -> 0 | N3: =SUM(G3,K3) -> 168 | O3: =(N3)*16 -> 2688 | P3: =(N3)*1.4 -> 235.2
E4: BUDYNEK GOSPODARCZY | F4: W02 | G4: 200 | H4: =(G4)*16 -> 3200 | I4: =(G4)*1.4 -> 280 | J4: II | L4: =(K4)*16 -> 0 | M4: =(K4)*1.4 -> 0 | N4: =SUM(G4,K4) -> 200 | O4: =(N4)*16 -> 3200 | P4: =(N4)*1.4 -> 280
B5: 34 | C5: 171/1 | E5: BUDYNEK GOSPODARCZY | F5: W02 | G5: 272 | H5: =(G5)*16 -> 4352 | I5: =(G5)*1.4 -> 380.8 | J5: II | L5: =(K5)*16 -> 0 | M5: =(K5)*1.4 -> 0 | N5: =SUM(G5,K5) -> 272 | O5: =(N5)*16 -> 4352 | P5: =(N5)*1.4 -> 380.8
B6: 18 | C6: 106/2 | E6: BUDYNEK MIESZKALNY | F6: W01 | G6: 160 | H6: =(G6)*16 -> 2560 | I6: =(G6)*1.4 -> 224 | J6: II | L6: =(K6)*16 -> 0 | M6: =(K6)*1.4 -> 0 | N6: =SUM(G6,K6) -> 160 | O6: =(N6)*16 -> 2560 | P6: =(N6)*1.4 -> 224
E7: BUDYNEK GOSPODARCZY | F7: W01 | G7: 176 | H7: =(G7)*16 -> 2816 | I7: =(G7)*1.4 -> 246.4 | J7: II | L7: =(K7)*16 -> 0 | M7: =(K7)*1.4 -> 0 | N7: =SUM(G7,K7) -> 176 | O7: =(N7)*16 -> 2816 | P7: =(N7)*1.4 -> 246.4
B8: 37 | C8: 338/1 | E8: BUDYNEK GOSPODARCZY | F8: W02 | G8: 720 | H8: =(G8)*16 -> 11520 | I8: =(G8)*1.4 -> 1008 | J8: II | L8: =(K8)*16 -> 0 | M8: =(K8)*1.4 -> 0 | N8: =SUM(G8,K8) -> 720 | O8: =(N8)*16 -> 11520 | P8: =(N8)*1.4 -> 1008
B9: 33 | C9: 154/1 | E9: BUDYNEK MIESZKALNY | F9: W02 | G9: 140 | H9: =(G9)*16 -> 2240 | I9: =(G9)*1.4 -> 196 | J9: I | L9: =(K9)*16 -> 0 | M9: =(K9)*1.4 -> 0 | N9: =SUM(G9,K9) -> 140 | O9: =(N9)*16 -> 2240 | P9: =(N9)*1.4 -> 196
B10: 30 | C10: 176/1 | E10: BUDYNEK GOSPODARCZY | F10: W02 | G10: 240 | H10: =(G10)*16 -> 3840 | I10: =(G10)*1.4 -> 336 | J10: II | L10: =(K10)*16 -> 0 | M10: =(K10)*1.4 -> 0 | N10: =SUM(G10,K10) -> 240 | O10: =(N10)*16 -> 3840 | P10: =(N10)*1.4 -> 336
B11: 26 | C11: 251 | E11: BUDYNEK MIESZKALNY | F11: W02 | G11: 168 | H11: =(G11)*16 -> 2688 | I11: =(G11)*1.4 -> 235.2 | J11: II | L11: =(K11)*16 -> 0 | M11: =(K11)*1.4 -> 0 | N11: =SUM(G11,K11) -> 168 | O11: =(N11)*16 -> 2688 | P11: =(N11)*1.4 -> 235.2
E12: BUDYNEK GOSPODARCZY | F12: W02 | G12: 120 | H12: =(G12)*16 -> 1920 | I12: =(G12)*1.4 -> 168 | J12: II | L12: =(K12)*16 -> 0 | M12: =(K12)*1.4 -> 0 | N12: =SUM(G12,K12) -> 120 | O12: =(N12)*16 -> 1920 | P12: =(N12)*1.4 -> 168
E13: BUDYNEK GOSPODARCZY | F13: W02 | G13: 288 | H13: =(G13)*16 -> 4608 | I13: =(G13)*1.4 -> 403.2 | J13: II | L13: =(K13)*16 -> 0 | M13: =(K13)*1.4 -> 0 | N13: =SUM(G13,K13) -> 288 | O13: =(N13)*16 -> 4608 | P13: =(N13)*1.4 -> 403.2
E14: BUDYNEK GOSPODARCZY | F14: W02 | G14: 32 | H14: =(G14)*16 -> 512 | I14: =(G14)*1.4 -> 44.8 | J14: II | L14: =(K14)*16 -> 0 | M14: =(K14)*1.4 -> 0 | N14: =SUM(G14,K14) -> 32 | O14: =(N14)*16 -> 512 | P14: =(N14)*1.4 -> 44.8
B15: 29 | C15: 179/1 | E15: BUDYNEK GOSPODARCZY | F15: W02 | G15: 264 | H15: =(G15)*16 -> 4224 | I15: =(G15)*1.4 -> 369.6 | J15: II | L15: =(K15)*16 -> 0 | M15: =(K15)*1.4 -> 0 | N15: =SUM(G15,K15) -> 264 | O15: =(N15)*16 -> 4224 | P15: =(N15)*1.4 -> 369.6
B16: 38 | C16: 166/1 | E16: BUDYNEK MIESZKALNY | F16: W02 | G16: 144 | H16: =(G16)*16 -> 2304 | I16: =(G16)*1.4 -> 201.6 | J16: II | L16: =(K16)*16 -> 0 | M16: =(K16)*1.4 -> 0 | N16: =SUM(G16,K16) -> 144 | O16: =(N16)*16 -> 2304 | P16: =(N16)*1.4 -> 201.6
E17: BUDYNEK GOSPODARCZY | F17: W02 | G17: 20 | H17: =(G17)*16 -> 320 | I17: =(G17)*1.4 -> 28 | J17: II | L17: =(K17)*16 -> 0 | M17: =(K17)*1.4 -> 0 | N17: =SUM(G17,K17) -> 20 | O17: =(N17)*16 -> 320 | P17: =(N17)*1.4 -> 28
E18: BUDYNEK GOSPODARCZY | F18: W01 | G18: 180 | H18: =(G18)*16 -> 2880 | I18: =(G18)*1.4 -> 252 | J18: II | L18: =(K18)*16 -> 0 | M18: =(K18)*1.4 -> 0 | N18: =SUM(G18,K18) -> 180 | O18: =(N18)*16 -> 2880 | P18: =(N18)*1.4 -> 252
B19: 19 | C19: 107 | E19: BUDYNEK GOSPODARCZY | F19: W02 | G19: 140 | H19: =(G19)*16 -> 2240 | I19: =(G19)*1.4 -> 196 | J19: II | L19: =(K19)*16 -> 0 | M19: =(K19)*1.4 -> 0 | N19: =SUM(G19,K19) -> 140 | O19: =(N19)*16 -> 2240 | P19: =(N19)*1.4 -> 196
E20: BUDYNEK GOSPODARCZY | F20: W02 | G20: 40 | H20: =(G20)*16 -> 640 | I20: =(G20)*1.4 -> 56 | J20: II | L20: =(K20)*16 -> 0 | M20: =(K20)*1.4 -> 0 | N20: =SUM(G20,K20) -> 40 | O20: =(N20)*16 -> 640 | P20: =(N20)*1.4 -> 56
B21: 16 | C21: 105 | E21: BUDYNEK GOSPODARCZY | F21: W02 | G21: 152 | H21: =(G21)*16 -> 2432 | I21: =(G21)*1.4 -> 212.8 | J21: II | L21: =(K21)*16 -> 0 | M21: =(K21)*1.4 -> 0 | N21: =SUM(G21,K21) -> 152 | O21: =(N21)*16 -> 2432 | P21: =(N21)*1.4 -> 212.8
E22: BUDYNEK GOSPODARCZY | F22: W02 | G22: 12 | H22: =(G22)*16 -> 192 | I22: =(G22)*1.4 -> 16.8 | J22: II | L22: =(K22)*16 -> 0 | M22: =(K22)*1.4 -> 0 | N22: =SUM(G22,K22) -> 12 | O22: =(N22)*16 -> 192 | P22: =(N22)*1.4 -> 16.8
B23: 14 | C23: 0 | E23: BUDYNEK GOSPODARCZY | F23: W02 | G23: 48 | H23: =(G23)*16 -> 768 | I23: =(G23)*1.4 -> 67.2 | J23: II | L23: =(K23)*16 -> 0 | M23: =(K23)*1.4 -> 0 | N23: =SUM(G23,K23) -> 48 | O23: =(N23)*16 -> 768 | P23: =(N23)*1.4 -> 67.2
B24: 6A | C24: 101/1 | E24: BUDYNEK GOSPODARCZY | F24: W02 | G24: 130 | H24: =(G24)*16 -> 2080 | I24: =(G24)*1.4 -> 182 | J24: II | L24: =(K24)*16 -> 0 | M24: =(K24)*1.4 -> 0 | N24: =SUM(G24,K24) -> 130 | O24: =(N24)*16 -> 2080 | P24: =(N24)*1.4 -> 182
B25: 5 | C25: 99 | E25: BUDYNEK GOSPODARCZY | F25: W02 | G25: 129 | H25: =(G25)*16 -> 2064 | I25: =(G25)*1.4 -> 180.6 | J25: II | L25: =(K25)*16 -> 0 | M25: =(K25)*1.4 -> 0 | N25: =SUM(G25,K25) -> 129 | O25: =(N25)*16 -> 2064 | P25: =(N25)*1.4 -> 180.6
E26: BUDYNEK GOSPODARCZY | F26: W02 | G26: 84 | H26: =(G26)*16 -> 1344 | I26: =(G26)*1.4 -> 117.6 | J26: II | L26: =(K26)*16 -> 0 | M26: =(K26)*1.4 -> 0 | N26: =SUM(G26,K26) -> 84 | O26: =(N26)*16 -> 1344 | P26: =(N26)*1.4 -> 117.6
B27: 4 | C27: 98/1 | E27: BUDYNEK GOSPODARCZY | F27: W02 | G27: 20 | H27: =(G27)*16 -> 320 | I27: =(G27)*1.4 -> 28 | N27: =SUM(G27,K27) -> 20 | O27: =(N27)*16 -> 320 | P27: =(N27)*1.4 -> 28
B28: 4 | C28: 98/1 | E28: BUDYNEK GOSPODARCZY | F28: W02 | G28: 103 | H28: =(G28)*16 -> 1648 | I28: =(G28)*1.4 -> 144.2 | N28: =SUM(G28,K28) -> 103 | O28: =(N28)*16 -> 1648 | P28: =(N28)*1.4 -> 144.2
B29: 4 | C29: 98/1 | E29: BUDYNEK GOSPODARCZY | F29: W02 | G29: 102 | H29: =(G29)*16 -> 1632 | I29: =(G29)*1.4 -> 142.8 | J29: II | L29: =(K29)*16 -> 0 | M29: =(K29)*1.4 -> 0 | N29: =SUM(G29,K29) -> 102 | O29: =(N29)*16 -> 1632 | P29: =(N29)*1.4 -> 142.8
E30: BUDYNEK GOSPODARCZY | F30: W02 | G30: 240 | H30: =(G30)*16 -> 3840 | I30: =(G30)*1.4 -> 336 | J30: II | L30: =(K30)*16 -> 0 | M30: =(K30)*1.4 -> 0 | N30: =SUM(G30,K30) -> 240 | O30: =(N30)*16 -> 3840 | P30: =(N30)*1.4 -> 336
B31: 39 | C31: 46 | E31: BUDYNEK GOSPODARCZY | F31: W02 | G31: 260 | H31: =(G31)*16 -> 4160 | I31: =(G31)*1.4 -> 364 | J31: II | L31: =(K31)*16 -> 0 | M31: =(K31)*1.4 -> 0 | N31: =SUM(G31,K31) -> 260 | O31: =(N31)*16 -> 4160 | P31: =(N31)*1.4 -> 364
E32: BUDYNEK GOSPODARCZY | F32: W02 | G32: 1120 | H32: =(G32)*16 -> 17920 | I32: =(G32)*1.4 -> 1568 | J32: II | L32: =(K32)*16 -> 0 | M32: =(K32)*1.4 -> 0 | N32: =SUM(G32,K32) -> 1120 | O32: =(N32)*16 -> 17920 | P32: =(N32)*1.4 -> 1568
B33: 40 | C33: 44/2 | E33: BUDYNEK MIESZKALNY | F33: W01 | G33: 120 | H33: =(G33)*16 -> 1920 | I33: =(G33)*1.4 -> 168 | J33: II | L33: =(K33)*16 -> 0 | M33: =(K33)*1.4 -> 0 | N33: =SUM(G33,K33) -> 120 | O33: =(N33)*16 -> 1920 | P33: =(N33)*1.4 -> 168
E34: BUDYNEK GOSPODARCZY | F34: W01 | G34: 360 | H34: =(G34)*16 -> 5760 | I34: =(G34)*1.4 -> 504 | J34: II | L34: =(K34)*16 -> 0 | M34: =(K34)*1.4 -> 0 | N34: =SUM(G34,K34) -> 360 | O34: =(N34)*16 -> 5760 | P34: =(N34)*1.4 -> 504
E35: BUDYNEK GOSPODARCZY | F35: W01 | G35: 128 | H35: =(G35)*16 -> 2048 | I35: =(G35)*1.4 -> 179.2 | J35: II | L35: =(K35)*16 -> 0 | M35: =(K35)*1.4 -> 0 | N35: =SUM(G35,K35) -> 128 | O35: =(N35)*16 -> 2048 | P35: =(N35)*1.4 -> 179.2
B36: 41 | C36: 43 | E36: BUDYNEK MIESZKALNY | F36: W02 | G36: 216 | H36: =(G36)*16 -> 3456 | I36: =(G36)*1.4 -> 302.4 | J36: II | L36: =(K36)*16 -> 0 | M36: =(K36)*1.4 -> 0 | N36: =SUM(G36,K36) -> 216 | O36: =(N36)*16 -> 3456 | P36: =(N36)*1.4 -> 302.4
E37: BUDYNEK GOSPODARCZY | F37: W02 | G37: 220 | H37: =(G37)*16 -> 3520 | I37: =(G37)*1.4 -> 308 | J37: II | L37: =(K37)*16 -> 0 | M37: =(K37)*1.4 -> 0 | N37: =SUM(G37,K37) -> 220 | O37: =(N37)*16 -> 3520 | P37: =(N37)*1.4 -> 308
B38: 42 | C38: 41 | E38: BUDYNEK GOSPODARCZY | F38: W02 | G38: 25 | H38: =(G38)*16 -> 400 | I38: =(G38)*1.4 -> 35 | J38: I | L38: =(K38)*16 -> 0 | M38: =(K38)*1.4 -> 0 | N38: =SUM(G38,K38) -> 25 | O38: =(N38)*16 -> 400 | P38: =(N38)*1.4 -> 35
E39: BUDYNEK GOSPODARCZY | F39: W02 | G39: 40 | H39: =(G39)*16 -> 640 | I39: =(G39)*1.4 -> 56 | J39: I | L39: =(K39)*16 -> 0 | M39: =(K39)*1.4 -> 0 | N39: =SUM(G39,K39) -> 40 | O39: =(N39)*16 -> 640 | P39: =(N39)*1.4 -> 56
E40: BUDYNEK GOSPODARCZY | F40: W02 | G40: 0 | H40: 0 | I40: 0 | J40: II | K40: 72 | L40: =(K40)*16 -> 1152 | M40: =(K40)*1.4 -> 100.8 | N40: =SUM(G40,K40) -> 72 | O40: =(N40)*16 -> 1152 | P40: =(N40)*1.4 -> 100.8
...

Sheet Bartłomiejowice
A1: MIEJSCOWOŚĆ | B1: ADRES (NR. POSESJI) | C1: NR. DZIAŁKI EWIDENCYJNEJ | D1: NR. OBRĘBU EWIDENCYJNEGO | E1: RODZAJ ZABUDOWY | F1: NAZWA/RODZAJ WYROBU | G1: ILOŚĆ POSIADANYCH WYROBÓW BĘDĄCYCH W UŻYCIU (W SZT.) | H1: WAGA POSIADANYCH WYROBÓW BĘDĄCYCH W UŻYCIU (W KG.) | I1: POWIERZCHNIA POSIADANYCH WYROBÓW BĘDĄCYCH W UŻYCIU (W M2) | J1: STOPIEŃ PILNOŚCI (I-III) | K1: ILOŚĆ POSIADANYCH WYROBÓW ZŁOŻONYCH NA POSESJI (W SZT.) | L1: WAGA POSIADANYCH WYROBÓW ZŁOŻONYCH NA POSESJI (W KG.) | M1: POWIERZCHNIA POSIADANYCH WYROBÓW ZŁOŻONYCH NA POSESJI (W M2) | N1: ILOŚĆ POSIADANYCH WYROBÓW BĘDĄCYCH W UŻYCIU I ZŁOŻONYCH NA POSESJI W SUMIE (W SZT.) | O1: WAGA POSIADANYCH WYROBÓW BĘDĄCYCH W UŻYCIU I ZŁOŻONYCH NA POSESJI W SUMIE (W KG.) | P1: POWIERZCHNIA POSIADANYCH WYROBÓW BĘDĄCYCH W UŻYCIU I ZŁOŻONYCH NA POSESJI W SUMIE (W M2)
A2: Bartłomiejowice | B2: 12 | C2: 92/1 | D2: 0001 | E2: BUDYNEK MIESZKALNY | F2: W02 | G2: 144 | H2: =(G2)*16 -> 2304 | I2: =(G2)*1.4 -> 201.6 | J2: II | L2: =(K2)*16 -> 0 | M2: =(K2)*1.4 -> 0 | N2: =SUM(G2,K2) -> 144 | O2: =(N2)*16 -> 2304 | P2: =(N2)*1.4 -> 201.6
E3: BUDYNEK GOSPODARCZY | F3: W02 | G3: 12 | H3: =(G3)*16 -> 192 | I3: =(G3)*1.4 -> 16.8 | J3: II | L3: =(K3)*16 -> 0 | M3: =(K3)*1.4 -> 0 | N3: =SUM(G3,K3) -> 12 | O3: =(N3)*16 -> 192 | P3: =(N3)*1.4 -> 16.8
B4: 6 | C4: 109/2 | E4: BUDYNEK MIESZKALNY | F4: W02 | G4: 120 | H4: =(G4)*16 -> 1920 | I4: =(G4)*1.4 -> 168 | J4: II | L4: =(K4)*16 -> 0 | M4: =(K4)*1.4 -> 0 | N4: =SUM(G4,K4) -> 120 | O4: =(N4)*16 -> 1920 | P4: =(N4)*1.4 -> 168
E5: BUDYNEK GOSPODARCZY | F5: W02 | G5: 312 | H5: =(G5)*16 -> 4992 | I5: =(G5)*1.4 -> 436.8 | J5: II | L5: =(K5)*16 -> 0 | M5: =(K5)*1.4 -> 0 | N5: =SUM(G5,K5) -> 312 | O5: =(N5)*16 -> 4992 | P5: =(N5)*1.4 -> 436.8
E6: BUDYNEK GOSPODARCZY | F6: W02 | G6: 192 | H6: =(G6)*16 -> 3072 | I6: =(G6)*1.4 -> 268.8 | J6: II | L6: =(K6)*16 -> 0 | M6: =(K6)*1.4 -> 0 | N6: =SUM(G6,K6) -> 192 | O6: =(N6)*16 -> 3072 | P6: =(N6)*1.4 -> 268.8
E7: BUDYNEK GOSPODARCZY | F7: W02 | G7: 364 | H7: =(G7)*16 -> 5824 | I7: =(G7)*1.4 -> 509.6 | J7: II | L7: =(K7)*16 -> 0 | M7: =(K7)*1.4 -> 0 | N7: =SUM(G7,K7) -> 364 | O7: =(N7)*16 -> 5824 | P7: =(N7)*1.4 -> 509.6
B8: 8 | C8: 90/1 | E8: BUDYNEK GOSPODARCZY | F8: W02 | G8: 296 | H8: =(G8)*16 -> 4736 | I8: =(G8)*1.4 -> 414.4 | J8: II | L8: =(K8)*16 -> 0 | M8: =(K8)*1.4 -> 0 | N8: =SUM(G8,K8) -> 296 | O8: =(N8)*16 -> 4736 | P8: =(N8)*1.4 -> 414.4
B9: 28 | C9: 28 | E9: BUDYNEK GOSPODARCZY | F9: W02 | G9: 2 | H9: =(G9)*16 -> 32 | I9: =(G9)*1.4 -> 2.8 | J9: II | L9: =(K9)*16 -> 0 | M9: =(K9)*1.4 -> 0 | N9: =SUM(G9,K9) -> 2 | O9: =(N9)*16 -> 32 | P9: =(N9)*1.4 -> 2.8
B10: 25 | C10: 22/1 | E10: BUDYNEK MIESZKALNY | F10: W02 | G10: 160 | H10: =(G10)*16 -> 2560 | I10: =(G10)*1.4 -> 224 | J10: II | L10: =(K10)*16 -> 0 | M10: =(K10)*1.4 -> 0 | N10: =SUM(G10,K10) -> 160 | O10: =(N10)*16 -> 2560 | P10: =(N10)*1.4 -> 224
E11: BUDYNEK GOSPODARCZY | F11: W02 | G11: 288 | H11: =(G11)*16 -> 4608 | I11: =(G11)*1.4 -> 403.2 | J11: II | L11: =(K11)*16 -> 0 | M11: =(K11)*1.4 -> 0 | N11: =SUM(G11,K11) -> 288 | O11: =(N11)*16 -> 4608 | P11: =(N11)*1.4 -> 403.2
B12: 24 | C12: 21/1 | E12: BUDYNEK MIESZKALNY | F12: W02 | G12: 192 | H12: =(G12)*16 -> 3072 | I12: =(G12)*1.4 -> 268.8 | J12: II | L12: =(K12)*16 -> 0 | M12: =(K12)*1.4 -> 0 | N12: =SUM(G12,K12) -> 192 | O12: =(N12)*16 -> 3072 | P12: =(N12)*1.4 -> 268.8
B13: 3 | C13: 101/2 | E13: BUDYNEK MIESZKALNY | F13: W02 | G13: 110 | H13: =(G13)*16 -> 1760 | I13: =(G13)*1.4 -> 154 | J13: II | L13: =(K13)*16 -> 0 | M13: =(K13)*1.4 -> 0 | N13: =SUM(G13,K13) -> 110 | O13: =(N13)*16 -> 1760 | P13: =(N13)*1.4 -> 154
B14: 4 | C14: 102/2 | E14: BUDYNEK MIESZKALNY | F14: W02 | G14: 130 | H14: =(G14)*16 -> 2080 | I14: =(G14)*1.4 -> 182 | J14: II | L14: =(K14)*16 -> 0 | M14: =(K14)*1.4 -> 0 | N14: =SUM(G14,K14) -> 130 | O14: =(N14)*16 -> 2080 | P14: =(N14)*1.4 -> 182
E15: BUDYNEK GOSPODARCZY | F15: w01 | G15: 160 | H15: =(G15)*16 -> 2560 | I15: =(G15)*1.4 -> 224 | J15: II | L15: =(K15)*16 -> 0 | M15: =(K15)*1.4 -> 0 | N15: =SUM(G15,K15) -> 160 | O15: =(N15)*16 -> 2560 | P15: =(N15)*1.4 -> 224
B16: 9 | C16: 105/1 | E16: BUDYNEK MIESZKALNY | F16: w01 | G16: 144 | H16: =(G16)*16 -> 2304 | I16: =(G16)*1.4 -> 201.6 | J16: II | L16: =(K16)*16 -> 0 | M16: =(K16)*1.4 -> 0 | N16: =SUM(G16,K16) -> 144 | O16: =(N16)*16 -> 2304 | P16: =(N16)*1.4 -> 201.6
E17: BUDYNEK GOSPODARCZY | F17: w01 | G17: 160 | H17: =(G17)*16 -> 2560 | I17: =(G17)*1.4 -> 224 | J17: II | L17: =(K17)*16 -> 0 | M17: =(K17)*1.4 -> 0 | N17: =SUM(G17,K17) -> 160 | O17: =(N17)*16 -> 2560 | P17: =(N17)*1.4 -> 224
E18: BUDYNEK GOSPODARCZY | F18: W02 | G18: 90 | H18: =(G18)*16 -> 1440 | I18: =(G18)*1.4 -> 126 | J18: II | L18: =(K18)*16 -> 0 | M18: =(K18)*1.4 -> 0 | N18: =SUM(G18,K18) -> 90 | O18: =(N18)*16 -> 1440 | P18: =(N18)*1.4 -> 126
B19: 30 | C19: 86/2 | E19: BUDYNEK MIESZKALNY | F19: W02 | G19: 192 | H19: =(G19)*16 -> 3072 | I19: =(G19)*1.4 -> 268.8 | J19: II | L19: =(K19)*16 -> 0 | M19: =(K19)*1.4 -> 0 | N19: =SUM(G19,K19) -> 192 | O19: =(N19)*16 -> 3072 | P19: =(N19)*1.4 -> 268.8
E20: BUDYNEK GOSPODARCZY | F20: W02 | G20: 140 | H20: =(G20)*16 -> 2240 | I20: =(G20)*1.4 -> 196 | J20: II | L20: =(K20)*16 -> 0 | M20: =(K20)*1.4 -> 0 | N20: =SUM(G20,K20) -> 140 | O20: =(N20)*16 -> 2240 | P20: =(N20)*1.4 -> 196
E21: BUDYNEK GOSPODARCZY | F21: W02 | G21: 50 | H21: =(G21)*16 -> 800 | I21: =(G21)*1.4 -> 70 | J21: II | L21: =(K21)*16 -> 0 | M21: =(K21)*1.4 -> 0 | N21: =SUM(G21,K21) -> 50 | O21: =(N21)*16 -> 800 | P21: =(N21)*1.4 -> 70
B22: 29 | C22: 29 | E22: BUDYNEK MIESZKALNY | F22: W02 | G22: 186 | H22: =(G22)*16 -> 2976 | I22: =(G22)*1.4 -> 260.4 | J22: II | L22: =(K22)*16 -> 0 | M22: =(K22)*1.4 -> 0 | N22: =SUM(G22,K22) -> 186 | O22: =(N22)*16 -> 2976 | P22: =(N22)*1.4 -> 260.4
E23: BUDYNEK GOSPODARCZY | F23: W02 | G23: 308 | H23: =(G23)*16 -> 4928 | I23: =(G23)*1.4 -> 431.2 | J23: II | L23: =(K23)*16 -> 0 | M23: =(K23)*1.4 -> 0 | N23: =SUM(G23,K23) -> 308 | O23: =(N23)*16 -> 4928 | P23: =(N23)*1.4 -> 431.2
E24: BUDYNEK GOSPODARCZY | F24: W02 | G24: 60 | H24: =(G24)*16 -> 960 | I24: =(G24)*1.4 -> 84 | J24: II | L24: =(K24)*16 -> 0 | M24: =(K24)*1.4 -> 0 | N24: =SUM(G24,K24) -> 60 | O24: =(N24)*16 -> 960 | P24: =(N24)*1.4 -> 84
E25: BUDYNEK GOSPODARCZY | F25: W02 | G25: 27 | H25: =(G25)*16 -> 432 | I25: =(G25)*1.4 -> 37.8 | J25: II | L25: =(K25)*16 -> 0 | M25: =(K25)*1.4 -> 0 | N25: =SUM(G25,K25) -> 27 | O25: =(N25)*16 -> 432 | P25: =(N25)*1.4 -> 37.8
B26: 11 | C26: 65/1 | E26: BUDYNEK MIESZKALNY | F26: W02 | G26: 180 | H26: =(G26)*16 -> 2880 | I26: =(G26)*1.4 -> 252 | J26: II | L26: =(K26)*16 -> 0 | M26: =(K26)*1.4 -> 0 | N26: =SUM(G26,K26) -> 180 | O26: =(N26)*16 -> 2880 | P26: =(N26)*1.4 -> 252
B27: 13 | C27: 63/1 | E27: BUDYNEK MIESZKALNY | F27: W02 | G27: 140 | H27: =(G27)*16 -> 2240 | I27: =(G27)*1.4 -> 196 | J27: III | L27: =(K27)*16 -> 0 | M27: =(K27)*1.4 -> 0 | N27: =SUM(G27,K27) -> 140 | O27: =(N27)*16 -> 2240 | P27: =(N27)*1.4 -> 196
E28: BUDYNEK GOSPODARCZY | F28: W02 | G28: 288 | H28: =(G28)*16 -> 4608 | I28: =(G28)*1.4 -> 403.2 | J28: II | L28: =(K28)*16 -> 0 | M28: =(K28)*1.4 -> 0 | N28: =SUM(G28,K28) -> 288 | O28: =(N28)*16 -> 4608 | P28: =(N28)*1.4 -> 403.2
B29: 5 | C29: 103/1 | E29: BUDYNEK MIESZKALNY | F29: W01 | G29: 140 | H29: =(G29)*16 -> 2240 | I29: =(G29)*1.4 -> 196 | J29: II | L29: =(K29)*16 -> 0 | M29: =(K29)*1.4 -> 0 | N29: =SUM(G29,K29) -> 140 | O29: =(N29)*16 -> 2240 | P29: =(N29)*1.4 -> 196
E30: BUDYNEK GOSPODARCZY | F30: W02 | G30: 216 | H30: =(G30)*16 -> 3456 | I30: =(G30)*1.4 -> 302.4 | J30: II | L30: =(K30)*16 -> 0 | M30: =(K30)*1.4 -> 0 | N30: =SUM(G30,K30) -> 216 | O30: =(N30)*16 -> 3456 | P30: =(N30)*1.4 -> 302.4
E31: BUDYNEK GOSPODARCZY | F31: W01 | G31: 96 | H31: =(G31)*16 -> 1536 | I31: =(G31)*1.4 -> 134.4 | J31: II | L31: =(K31)*16 -> 0 | M31: =(K31)*1.4 -> 0 | N31: =SUM(G31,K31) -> 96 | O31: =(N31)*16 -> 1536 | P31: =(N31)*1.4 -> 134.4
B32: 1 | C32: 108/2 | E32: BUDYNEK GOSPODARCZY | F32: W01 | G32: 96 | H32: =(G32)*16 -> 1536 | I32: =(G32)*1.4 -> 134.4 | J32: II | L32: =(K32)*16 -> 0 | M32: =(K32)*1.4 -> 0 | N32: =SUM(G32,K32) -> 96 | O32: =(N32)*16 -> 1536 | P32: =(N32)*1.4 -> 134.4
B33: 31 | C33: 85 | E33: BUDYNEK MIESZKALNY | F33: W01 | G33: 0 | H33: 0 | I33: 0 | J33: II | K33: 179 | L33: 2864 | M33: 250.6 | N33: =SUM(G33,K33) -> 179 | O33: =(N33)*16 -> 2864 | P33: =(N33)*1.4 -> 250.6
B34: 31 | C34: 85 | E34: BUDYNEK GOSPODARCZY | F34: W02 | G34: 242 | H34: =(G34)*16 -> 3872 | I34: =(G34)*1.4 -> 338.8 | J34: II | L34: =(K34)*16 -> 0 | M34: =(K34)*1.4 -> 0 | N34: =SUM(G34,K34) -> 242 | O34: =(N34)*16 -> 3872 | P34: =(N34)*1.4 -> 338.8
B35: 32 | C35: 82/1 | E35: BUDYNEK GOSPODARCZY | F35: W02 | G35: 312 | H35: =(G35)*16 -> 4992 | I35: =(G35)*1.4 -> 436.8 | J35: II | L35: =(K35)*16 -> 0 | M35: =(K35)*1.4 -> 0 | N35: =SUM(G35,K35) -> 312 | O35: =(N35)*16 -> 4992 | P35: =(N35)*1.4 -> 436.8
B36: 33 | C36: 80 | E36: BUDYNEK GOSPODARCZY | F36: W02 | G36: 216 | H36: =(G36)*16 -> 3456 | I36: =(G36)*1.4 -> 302.4 | J36: II | L36: =(K36)*16 -> 0 | M36: =(K36)*1.4 -> 0 | N36: =SUM(G36,K36) -> 216 | O36: =(N36)*16 -> 3456 | P36: =(N36)*1.4 -> 302.4
E37: BUDYNEK GOSPODARCZY | F37: W02 | G37: 240 | H37: =(G37)*16 -> 3840 | I37: =(G37)*1.4 -> 336 | J37: II | L37: =(K37)*16 -> 0 | M37: =(K37)*1.4 -> 0 | N37: =SUM(G37,K37) -> 240 | O37: =(N37)*16 -> 3840 | P37: =(N37)*1.4 -> 336
E38: BUDYNEK GOSPODARCZY | F38: W02 | G38: 240 | H38: =(G38)*16 -> 3840 | I38: =(G38)*1.4 -> 336 | J38: II | L38: =(K38)*16 -> 0 | M38: =(K38)*1.4 -> 0 | N38: =SUM(G38,K38) -> 240 | O38: =(N38)*16 -> 3840 | P38: =(N38)*1.4 -> 336
B39: 15 | C39: 59/1 | E39: BUDYNEK MIESZKALNY | F39: W02 | G39: 154 | H39: =(G39)*16 -> 2464 | I39: =(G39)*1.4 -> 215.6 | J39: II | L39: =(K39)*16 -> 0 | M39: =(K39)*1.4 -> 0 | N39: =SUM(G39,K39) -> 154 | O39: =(N39)*16 -> 2464 | P39: =(N39)*1.4 -> 215.6
E40: BUDYNEK GOSPODARCZY | F40: W02 | G40: 224 | H40: =(G40)*16 -> 3584 | I40: =(G40)*1.4 -> 313.6 | J40: II | L40: =(K40)*16 -> 0 | M40: =(K40)*1.4 -> 0 | N40: =SUM(G40,K40) -> 224 | O40: =(N40)*16 -> 3584 | P40: =(N40)*1.4 -> 313.6
...

Sheet Bilno
A1: MIEJSCOWOŚĆ | B1: ADRES (NR. POSESJI) | C1: NR. DZIAŁKI EWIDENCYJNEJ | D1: NR. OBRĘBU EWIDENCYJNEGO | E1: RODZAJ ZABUDOWY | F1: NAZWA/RODZAJ WYROBU | G1: ILOŚĆ POSIADANYCH WYROBÓW BĘDĄCYCH W UŻYCIU (W SZT.) | H1: WAGA POSIADANYCH WYROBÓW BĘDĄCYCH W UŻYCIU (W KG.) | I1: POWIERZCHNIA POSIADANYCH WYROBÓW BĘDĄCYCH W UŻYCIU (W M2) | J1: STOPIEŃ PILNOŚCI (I-III) | K1: ILOŚĆ POSIADANYCH WYROBÓW ZŁOŻONYCH NA POSESJI (W SZT.) | L1: WAGA POSIADANYCH WYROBÓW ZŁOŻONYCH NA POSESJI (W KG.) | M1: POWIERZCHNIA POSIADANYCH WYROBÓW ZŁOŻONYCH NA POSESJI (W M2) | N1: ILOŚĆ POSIADANYCH WYROBÓW BĘDĄCYCH W UŻYCIU I ZŁOŻONYCH NA POSESJI W SUMIE (W SZT.) | O1: WAGA POSIADANYCH WYROBÓW BĘDĄCYCH W UŻYCIU I ZŁOŻONYCH NA POSESJI W SUMIE (W KG.) | P1: POWIERZCHNIA POSIADANYCH WYROBÓW BĘDĄCYCH W UŻYCIU I ZŁOŻONYCH NA POSESJI W SUMIE (W M2)
A2: Bilno | B2: 42 | C2: 224 | D2: 0001 | E2: BUDYNEK MIESZKALNY | F2: W01 | G2: 0 | H2: 0 | I2: 0 | J2: II | K2: 115 | L2: =(K2)*16 -> 1840 | M2: =(K2)*1.4 -> 161 | N2: =SUM(G2,K2) -> 115 | O2: =(N2)*16 -> 1840 | P2: =(N2)*1.4 -> 161
E3: BUDYNEK GOSPODARCZY | F3: W02 | G3: 64 | H3: =(G3)*16 -> 1024 | I3: =(G3)*1.4 -> 89.6 | J3: II | L3: =(K3)*16 -> 0 | M3: =(K3)*1.4 -> 0 | N3: =SUM(G3,K3) -> 64 | O3: =(N3)*16 -> 1024 | P3: =(N3)*1.4 -> 89.6
E4: BUDYNEK GOSPODARCZY | F4: W02 | G4: 220 | H4: =(G4)*16 -> 3520 | I4: =(G4)*1.4 -> 308 | J4: II | L4: =(K4)*16 -> 0 | M4: =(K4)*1.4 -> 0 | N4: =SUM(G4,K4) -> 220 | O4: =(N4)*16 -> 3520 | P4: =(N4)*1.4 -> 308
B5: 41 | C5: 221 | E5: BUDYNEK GOSPODARCZY | F5: W02 | G5: 112 | H5: =(G5)*16 -> 1792 | I5: =(G5)*1.4 -> 156.8 | J5: II | L5: =(K5)*16 -> 0 | M5: =(K5)*1.4 -> 0 | N5: =SUM(G5,K5) -> 112 | O5: =(N5)*16 -> 1792 | P5: =(N5)*1.4 -> 156.8
E6: BUDYNEK GOSPODARCZY | F6: W02 | G6: 176 | H6: =(G6)*16 -> 2816 | I6: =(G6)*1.4 -> 246.4 | J6: II | L6: =(K6)*16 -> 0 | M6: =(K6)*1.4 -> 0 | N6: =SUM(G6,K6) -> 176 | O6: =(N6)*16 -> 2816 | P6: =(N6)*1.4 -> 246.4
E7: BUDYNEK GOSPODARCZY | F7: W02 | G7: 128 | H7: =(G7)*16 -> 2048 | I7: =(G7)*1.4 -> 179.2 | J7: II | L7: =(K7)*16 -> 0 | M7: =(K7)*1.4 -> 0 | N7: =SUM(G7,K7) -> 128 | O7: =(N7)*16 -> 2048 | P7: =(N7)*1.4 -> 179.2
B8: 40 | C8: 233/1 | E8: BUDYNEK MIESZKALNY | F8: W01 | G8: 115 | H8: =(G8)*16 -> 1840 | I8: =(G8)*1.4 -> 161 | J8: II | L8: =(K8)*16 -> 0 | M8: =(K8)*1.4 -> 0 | N8: =SUM(G8,K8) -> 115 | O8: =(N8)*16 -> 1840 | P8: =(N8)*1.4 -> 161
E9: BUDYNEK GOSPODARCZY | F9: W02 | G9: 240 | H9: =(G9)*16 -> 3840 | I9: =(G9)*1.4 -> 336 | J9: II | L9: =(K9)*16 -> 0 | M9: =(K9)*1.4 -> 0 | N9: =SUM(G9,K9) -> 240 | O9: =(N9)*16 -> 3840 | P9: =(N9)*1.4 -> 336
B10: 39 | C10: 197/1 | E10: BUDYNEK MIESZKALNY | F10: W02 | G10: 96 | H10: =(G10)*16 -> 1536 | I10: =(G10)*1.4 -> 134.4 | J10: II | L10: =(K10)*16 -> 0 | M10: =(K10)*1.4 -> 0 | N10: =SUM(G10,K10) -> 96 | O10: =(N10)*16 -> 1536 | P10: =(N10)*1.4 -> 134.4
E11: BUDYNEK GOSPODARCZY | F11: W02 | G11: 160 | H11: =(G11)*16 -> 2560 | I11: =(G11)*1.4 -> 224 | J11: II | L11: =(K11)*16 -> 0 | M11: =(K11)*1.4 -> 0 | N11: =SUM(G11,K11) -> 160 | O11: =(N11)*16 -> 2560 | P11: =(N11)*1.4 -> 224
B12: 35 | C12: 191/1 | E12: BUDYNEK GOSPODARCZY | F12: W02 | G12: 160 | H12: =(G12)*16 -> 2560 | I12: =(G12)*1.4 -> 224 | J12: II | L12: =(K12)*16 -> 0 | M12: =(K12)*1.4 -> 0 | N12: =SUM(G12,K12) -> 160 | O12: =(N12)*16 -> 2560 | P12: =(N12)*1.4 -> 224
E13: BUDYNEK MIESZKALNY | F13: W02 | G13: 0 | H13: =(G13)*16 -> 0 | I13: =(G13)*1.4 -> 0 | J13: II | K13: 90 | L13: 1488 | M13: 130.2 | N13: =SUM(G13,K13) -> 90 | O13: =(N13)*16 -> 1440 | P13: =(N13)*1.4 -> 126
E14: BUDYNEK GOSPODARCZY | F14: W02 | G14: 160 | H14: =(G14)*16 -> 2560 | I14: =(G14)*1.4 -> 224 | J14: II | L14: =(K14)*16 -> 0 | M14: =(K14)*1.4 -> 0 | N14: =SUM(G14,K14) -> 160 | O14: =(N14)*16 -> 2560 | P14: =(N14)*1.4 -> 224
B15: 1 | C15: 163/1 | E15: BUDYNEK GOSPODARCZY | F15: W02 | G15: 48 | H15: =(G15)*16 -> 768 | I15: =(G15)*1.4 -> 67.2 | J15: II | K15: 250 | L15: =(K15)*16 -> 4000 | M15: =(K15)*1.4 -> 350 | N15: =SUM(G15,K15) -> 298 | O15: =(N15)*16 -> 4768 | P15: =(N15)*1.4 -> 417.2
B16: 2 | C16: 177/1 | E16: BUDYNEK MIESZKALNY | F16: W02 | G16: 98 | H16: =(G16)*16 -> 1568 | I16: =(G16)*1.4 -> 137.2 | J16: II | L16: =(K16)*16 -> 0 | M16: =(K16)*1.4 -> 0 | N16: =SUM(G16,K16) -> 98 | O16: =(N16)*16 -> 1568 | P16: =(N16)*1.4 -> 137.2
B17: 3 | C17: 176 | E17: BUDYNEK MIESZKALNY | F17: W02 | G17: 120 | H17: =(G17)*16 -> 1920 | I17: =(G17)*1.4 -> 168 | J17: II | L17: =(K17)*16 -> 0 | M17: =(K17)*1.4 -> 0 | N17: =SUM(G17,K17) -> 120 | O17: =(N17)*16 -> 1920 | P17: =(N17)*1.4 -> 168
E18: BUDYNEK GOSPODARCZY | F18: W02 | G18: 42 | H18: =(G18)*16 -> 672 | I18: =(G18)*1.4 -> 58.8 | J18: II | L18: =(K18)*16 -> 0 | M18: =(K18)*1.4 -> 0 | N18: =SUM(G18,K18) -> 42 | O18: =(N18)*16 -> 672 | P18: =(N18)*1.4 -> 58.8
B19: 4 | C19: 160/1 | E19: BUDYNEK MIESZKALNY | F19: W02 | G19: 0 | H19: 0 | I19: =(G19)*1.4 -> 0 | J19: II | K19: 71 | L19: =(K19)*16 -> 1136 | M19: =(K19)*1.4 -> 99.4 | N19: =SUM(G19,K19) -> 71 | O19: =(N19)*16 -> 1136 | P19: =(N19)*1.4 -> 99.4
E20: BUDYNEK GOSPODARCZY | F20: W02 | G20: 90 | H20: =(G20)*16 -> 1440 | I20: =(G20)*1.4 -> 126 | J20: II | L20: =(K20)*16 -> 0 | M20: =(K20)*1.4 -> 0 | N20: =SUM(G20,K20) -> 90 | O20: =(N20)*16 -> 1440 | P20: =(N20)*1.4 -> 126
B21: 5 | C21: 173/1 | E21: BUDYNEK MIESZKALNY | F21: W02 | G21: 72 | H21: =(G21)*16 -> 1152 | I21: =(G21)*1.4 -> 100.8 | J21: II | L21: =(K21)*16 -> 0 | M21: =(K21)*1.4 -> 0 | N21: =SUM(G21,K21) -> 72 | O21: =(N21)*16 -> 1152 | P21: =(N21)*1.4 -> 100.8
E22: BUDYNEK GOSPODARCZY | F22: W02 | G22: 72 | H22: =(G22)*16 -> 1152 | I22: =(G22)*1.4 -> 100.8 | J22: II | L22: =(K22)*16 -> 0 | M22: =(K22)*1.4 -> 0 | N22: =SUM(G22,K22) -> 72 | O22: =(N22)*16 -> 1152 | P22: =(N22)*1.4 -> 100.8
B23: 6 | C23: 170/1 | E23: BUDYNEK MIESZKALNY | F23: W02 | G23: 108 | H23: =(G23)*16 -> 1728 | I23: =(G23)*1.4 -> 151.2 | J23: II | L23: =(K23)*16 -> 0 | M23: =(K23)*1.4 -> 0 | N23: =SUM(G23,K23) -> 108 | O23: =(N23)*16 -> 1728 | P23: =(N23)*1.4 -> 151.2
E24: BUDYNEK GOSPODARCZY | F24: W02 | G24: 242 | H24: =(G24)*16 -> 3872 | I24: =(G24)*1.4 -> 338.8 | J24: II | L24: =(K24)*16 -> 0 | M24: =(K24)*1.4 -> 0 | N24: =SUM(G24,K24) -> 242 | O24: =(N24)*16 -> 3872 | P24: =(N24)*1.4 -> 338.8
B25: 7 | C25: 167/1 | E25: BUDYNEK MIESZKALNO - GOSPODARCZY | F25: W02 | G25: 292 | H25: =(G25)*16 -> 4672 | I25: =(G25)*1.4 -> 408.8 | J25: II | L25: =(K25)*16 -> 0 | M25: =(K25)*1.4 -> 0 | N25: =SUM(G25,K25) -> 292 | O25: =(N25)*16 -> 4672 | P25: =(N25)*1.4 -> 408.8
B26: 9 | C26: 141/1 | E26: BUDYNEK MIESZKALNY | F26: W01 | G26: 120 | H26: =(G26)*16 -> 1920 | I26: =(G26)*1.4 -> 168 | J26: II | L26: =(K26)*16 -> 0 | M26: =(K26)*1.4 -> 0 | N26: =SUM(G26,K26) -> 120 | O26: =(N26)*16 -> 1920 | P26: =(N26)*1.4 -> 168
E27: BUDYNEK GOSPODARCZY | F27: W01 | G27: 128 | H27: =(G27)*16 -> 2048 | I27: =(G27)*1.4 -> 179.2 | J27: I | L27: =(K27)*16 -> 0 | M27: =(K27)*1.4 -> 0 | N27: =SUM(G27,K27) -> 128 | O27: =(N27)*16 -> 2048 | P27: =(N27)*1.4 -> 179.2
E28: BUDYNEK GOSPODARCZY | F28: W02 | G28: 24 | H28: =(G28)*16 -> 384 | I28: =(G28)*1.4 -> 33.6 | J28: II | L28: =(K28)*16 -> 0 | M28: =(K28)*1.4 -> 0 | N28: =SUM(G28,K28) -> 24 | O28: =(N28)*16 -> 384 | P28: =(N28)*1.4 -> 33.6
B29: 10 | C29: 140/1 | E29: BUDYNEK GOSPODARCZY | F29: W02 | G29: 162 | H29: =(G29)*16 -> 2592 | I29: =(G29)*1.4 -> 226.8 | J29: II | L29: =(K29)*16 -> 0 | M29: =(K29)*1.4 -> 0 | N29: =SUM(G29,K29) -> 162 | O29: =(N29)*16 -> 2592 | P29: =(N29)*1.4 -> 226.8
B30: 11 | C30: 122/1 | E30: BUDYNEK MIESZKALNY | F30: W01 | G30: 140 | H30: =(G30)*16 -> 2240 | I30: =(G30)*1.4 -> 196 | J30: II | L30: =(K30)*16 -> 0 | M30: =(K30)*1.4 -> 0 | N30: =SUM(G30,K30) -> 140 | O30: =(N30)*16 -> 2240 | P30: =(N30)*1.4 -> 196
E31: BUDYNEK GOSPODARCZY | F31: W02 | G31: 48 | H31: =(G31)*16 -> 768 | I31: =(G31)*1.4 -> 67.2 | J31: II | L31: =(K31)*16 -> 0 | M31: =(K31)*1.4 -> 0 | N31: =SUM(G31,K31) -> 48 | O31: =(N31)*16 -> 768 | P31: =(N31)*1.4 -> 67.2
E32: BUDYNEK GOSPODARCZY | F32: W02 | G32: 240 | H32: =(G32)*16 -> 3840 | I32: =(G32)*1.4 -> 336 | J32: II | L32: =(K32)*16 -> 0 | M32: =(K32)*1.4 -> 0 | N32: =SUM(G32,K32) -> 240 | O32: =(N32)*16 -> 3840 | P32: =(N32)*1.4 -> 336
B33: 12 | C33: 117/1 | E33: BUDYNEK MIESZKALNY | F33: W01 | G33: 120 | H33: =(G33)*16 -> 1920 | I33: =(G33)*1.4 -> 168 | J33: II | K33: 142 | L33: =(K33)*16 -> 2272 | M33: =(K33)*1.4 -> 198.8 | N33: =SUM(G33,K33) -> 262 | O33: =(N33)*16 -> 4192 | P33: =(N33)*1.4 -> 366.8
E34: BUDYNEK GOSPODARCZY | F34: W02 | G34: 60 | H34: =(G34)*16 -> 960 | I34: =(G34)*1.4 -> 84 | J34: II | L34: =(K34)*16 -> 0 | M34: =(K34)*1.4 -> 0 | N34: =SUM(G34,K34) -> 60 | O34: =(N34)*16 -> 960 | P34: =(N34)*1.4 -> 84
E35: BUDYNEK GOSPODARCZY | F35: W02 | G35: 144 | H35: =(G35)*16 -> 2304 | I35: =(G35)*1.4 -> 201.6 | J35: II | L35: =(K35)*16 -> 0 | M35: =(K35)*1.4 -> 0 | N35: =SUM(G35,K35) -> 144 | O35: =(N35)*16 -> 2304 | P35: =(N35)*1.4 -> 201.6
E36: BUDYNEK GOSPODARCZY | F36: W01 | G36: 200 | H36: =(G36)*16 -> 3200 | I36: =(G36)*1.4 -> 280 | J36: II | L36: =(K36)*16 -> 0 | M36: =(K36)*1.4 -> 0 | N36: =SUM(G36,K36) -> 200 | O36: =(N36)*16 -> 3200 | P36: =(N36)*1.4 -> 280
B37: 14 | C37: 131/1 | E37: BUDYNEK MIESZKALNY | F37: W02 | G37: 144 | H37: =(G37)*16 -> 2304 | I37: =(G37)*1.4 -> 201.6 | J37: II | L37: =(K37)*16 -> 0 | M37: =(K37)*1.4 -> 0 | N37: =SUM(G37,K37) -> 144 | O37: =(N37)*16 -> 2304 | P37: =(N37)*1.4 -> 201.6
E38: BUDYNEK GOSPODARCZY | F38: W02 | G38: 112 | H38: =(G38)*16 -> 1792 | I38: =(G38)*1.4 -> 156.8 | J38: II | L38: =(K38)*16 -> 0 | M38: =(K38)*1.4 -> 0 | N38: =SUM(G38,K38) -> 112 | O38: =(N38)*16 -> 1792 | P38: =(N38)*1.4 -> 156.8
B39: 15 | C39: 106/1 | E39: BUDYNEK MIESZKALNO - GOSPODARCZY | F39: W02 | G39: 288 | H39: =(G39)*16 -> 4608 | I39: =(G39)*1.4 -> 403.2 | J39: II | L39: =(K39)*16 -> 0 | M39: =(K39)*1.4 -> 0 | N39: =SUM(G39,K39) -> 288 | O39: =(N39)*16 -> 4608 | P39: =(N39)*1.4 -> 403.2
B40: 20 | C40: 89 | E40: BUDYNEK GOSPODARCZY | F40: W02 | G40: 128 | H40: =(G40)*16 -> 2048 | I40: =(G40)*1.4 -> 179.2 | J40: II | L40: =(K40)*16 -> 0 | M40: =(K40)*1.4 -> 0 | N40: =SUM(G40,K40) -> 128 | O40: =(N40)*16 -> 2048 | P40: =(N40)*1.4 -> 179.2
...

Sheet Bodzanówek
A1: MIEJSCOWOŚĆ | B1: ADRES (NR. POSESJI) | C1: NR. DZIAŁKI EWIDENCYJNEJ | D1: NR. OBRĘBU EWIDENCYJNEGO | E1: RODZAJ ZABUDOWY | F1: NAZWA/RODZAJ WYROBU | G1: ILOŚĆ POSIADANYCH WYROBÓW BĘDĄCYCH W UŻYCIU (W SZT.) | H1: WAGA POSIADANYCH WYROBÓW BĘDĄCYCH W UŻYCIU (W KG.) | I1: POWIERZCHNIA POSIADANYCH WYROBÓW BĘDĄCYCH W UŻYCIU (W M2) | J1: STOPIEŃ PILNOŚCI (I-III) | K1: ILOŚĆ POSIADANYCH WYROBÓW ZŁOŻONYCH NA POSESJI (W SZT.) | L1: WAGA POSIADANYCH WYROBÓW ZŁOŻONYCH NA POSESJI (W KG.) | M1: POWIERZCHNIA POSIADANYCH WYROBÓW ZŁOŻONYCH NA POSESJI (W M2) | N1: ILOŚĆ POSIADANYCH WYROBÓW BĘDĄCYCH W UŻYCIU I ZŁOŻONYCH NA POSESJI W SUMIE (W SZT.) | O1: WAGA POSIADANYCH WYROBÓW BĘDĄCYCH W UŻYCIU I ZŁOŻONYCH NA POSESJI W SUMIE (W KG.) | P1: POWIERZCHNIA POSIADANYCH WYROBÓW BĘDĄCYCH W UŻYCIU I ZŁOŻONYCH NA POSESJI W SUMIE (W M2)
A2: Bodzanówek | B2: 1 | C2: 62 | D2: 0001 | E2: BUDYNEK GOSPODARCZY | F2: W02 | G2: 160 | H2: =(G2)*16 -> 2560 | I2: =(G2)*1.4 -> 224 | J2: II | L2: =(K2)*16 -> 0 | M2: =(K2)*1.4 -> 0 | N2: =SUM(G2,K2) -> 160 | O2: =(N2)*16 -> 2560 | P2: =(N2)*1.4 -> 224
E3: BUDYNEK GOSPODARCZY | F3: W02 | G3: 308 | H3: =(G3)*16 -> 4928 | I3: =(G3)*1.4 -> 431.2 | J3: II | L3: =(K3)*16 -> 0 | M3: =(K3)*1.4 -> 0 | N3: =SUM(G3,K3) -> 308 | O3: =(N3)*16 -> 4928 | P3: =(N3)*1.4 -> 431.2
B4: 3 | C4: 60 | E4: BUDYNEK MIESZKLNY | F4: W02 | G4: 196 | H4: =(G4)*16 -> 3136 | I4: =(G4)*1.4 -> 274.4 | J4: II | L4: =(K4)*16 -> 0 | M4: =(K4)*1.4 -> 0 | N4: =SUM(G4,K4) -> 196 | O4: =(N4)*16 -> 3136 | P4: =(N4)*1.4 -> 274.4
E5: BUDYNEK GOSPODARCZY | F5: W02 | G5: 96 | H5: =(G5)*16 -> 1536 | I5: =(G5)*1.4 -> 134.4 | J5: II | L5: =(K5)*16 -> 0 | M5: =(K5)*1.4 -> 0 | N5: =SUM(G5,K5) -> 96 | O5: =(N5)*16 -> 1536 | P5: =(N5)*1.4 -> 134.4
B6: 2 | C6: 20 | E6: BUDYNEK MIESZKLNY | F6: W02 | G6: 154 | H6: =(G6)*16 -> 2464 | I6: =(G6)*1.4 -> 215.6 | J6: II | L6: =(K6)*16 -> 0 | M6: =(K6)*1.4 -> 0 | N6: =SUM(G6,K6) -> 154 | O6: =(N6)*16 -> 2464 | P6: =(N6)*1.4 -> 215.6
E7: BUDYNEK GOSPODARCZY | F7: W02 | G7: 119 | H7: =(G7)*16 -> 1904 | I7: =(G7)*1.4 -> 166.6 | J7: II | L7: =(K7)*16 -> 0 | M7: =(K7)*1.4 -> 0 | N7: =SUM(G7,K7) -> 119 | O7: =(N7)*16 -> 1904 | P7: =(N7)*1.4 -> 166.6
E8: BUDYNEK GOSPODARCZY | F8: W02 | G8: 325 | H8: =(G8)*16 -> 5200 | I8: =(G8)*1.4 -> 455 | J8: II | L8: =(K8)*16 -> 0 | M8: =(K8)*1.4 -> 0 | N8: =SUM(G8,K8) -> 325 | O8: =(N8)*16 -> 5200 | P8: =(N8)*1.4 -> 455
E9: BUDYNEK GOSPODARCZY | F9: W02 | G9: 30 | H9: =(G9)*16 -> 480 | I9: =(G9)*1.4 -> 42 | J9: II | L9: =(K9)*16 -> 0 | M9: =(K9)*1.4 -> 0 | N9: =SUM(G9,K9) -> 30 | O9: =(N9)*16 -> 480 | P9: =(N9)*1.4 -> 42
B10: 5 | C10: 57/5 | E10: BUDYNEK MIESZKLNY | F10: W02 | G10: 216 | H10: =(G10)*16 -> 3456 | I10: =(G10)*1.4 -> 302.4 | J10: II | L10: =(K10)*16 -> 0 | M10: =(K10)*1.4 -> 0 | N10: =SUM(G10,K10) -> 216 | O10: =(N10)*16 -> 3456 | P10: =(N10)*1.4 -> 302.4
B11: PRZYSTANEK AUTOBUSOWY KOŁO 5 | C11: 57/5 | E11: BUDYNEK GOSPODARCZY | F11: W02 | G11: 25 | H11: =(G11)*16 -> 400 | I11: =(G11)*1.4 -> 35 | J11: I | L11: =(K11)*16 -> 0 | M11: =(K11)*1.4 -> 0 | N11: =SUM(G11,K11) -> 25 | O11: =(N11)*16 -> 400 | P11: =(N11)*1.4 -> 35
B12: 6 | C12: 25 | E12: BUDYNEK MIESZKALNO - GOSPODARCZY | F12: W02 | G12: 279 | H12: =(G12)*16 -> 4464 | I12: =(G12)*1.4 -> 390.6 | J12: II | L12: =(K12)*16 -> 0 | M12: =(K12)*1.4 -> 0 | N12: =SUM(G12,K12) -> 279 | O12: =(N12)*16 -> 4464 | P12: =(N12)*1.4 -> 390.6
B13: 8 | C13: 26 | E13: BUDYNEK MIESZKLNY | F13: W02 | G13: 120 | H13: =(G13)*16 -> 1920 | I13: =(G13)*1.4 -> 168 | J13: II | L13: =(K13)*16 -> 0 | M13: =(K13)*1.4 -> 0 | N13: =SUM(G13,K13) -> 120 | O13: =(N13)*16 -> 1920 | P13: =(N13)*1.4 -> 168
E14: BUDYNEK GOSPODARCZY | F14: W02 | G14: 96 | H14: =(G14)*16 -> 1536 | I14: =(G14)*1.4 -> 134.4 | J14: II | L14: =(K14)*16 -> 0 | M14: =(K14)*1.4 -> 0 | N14: =SUM(G14,K14) -> 96 | O14: =(N14)*16 -> 1536 | P14: =(N14)*1.4 -> 134.4
B15: 10 | C15: 42 | E15: BUDYNEK MIESZKLNY | F15: W02 | G15: 120 | H15: =(G15)*16 -> 1920 | I15: =(G15)*1.4 -> 168 | J15: II | L15: =(K15)*16 -> 0 | M15: =(K15)*1.4 -> 0 | N15: =SUM(G15,K15) -> 120 | O15: =(N15)*16 -> 1920 | P15: =(N15)*1.4 -> 168
E16: BUDYNEK GOSPODARCZY | F16: W02 | G16: 140 | H16: =(G16)*16 -> 2240 | I16: =(G16)*1.4 -> 196 | J16: II | L16: =(K16)*16 -> 0 | M16: =(K16)*1.4 -> 0 | N16: =SUM(G16,K16) -> 140 | O16: =(N16)*16 -> 2240 | P16: =(N16)*1.4 -> 196
E17: BUDYNEK GOSPODARCZY | F17: W02 | G17: 15 | H17: =(G17)*16 -> 240 | I17: =(G17)*1.4 -> 21 | J17: II | L17: =(K17)*16 -> 0 | M17: =(K17)*1.4 -> 0 | N17: =SUM(G17,K17) -> 15 | O17: =(N17)*16 -> 240 | P17: =(N17)*1.4 -> 21
B18: 11 | C18: 29 | E18: BUDYNEK MIESZKLNY | F18: W02 | G18: 60 | H18: =(G18)*16 -> 960 | I18: =(G18)*1.4 -> 84 | J18: II | L18: =(K18)*16 -> 0 | M18: =(K18)*1.4 -> 0 | N18: =SUM(G18,K18) -> 60 | O18: =(N18)*16 -> 960 | P18: =(N18)*1.4 -> 84
E19: BUDYNEK GOSPODARCZY | F19: W02 | G19: 84 | H19: =(G19)*16 -> 1344 | I19: =(G19)*1.4 -> 117.6 | J19: II | L19: =(K19)*16 -> 0 | M19: =(K19)*1.4 -> 0 | N19: =SUM(G19,K19) -> 84 | O19: =(N19)*16 -> 1344 | P19: =(N19)*1.4 -> 117.6
B20: 12 | C20: 30 | E20: BUDYNEK MIESZKLNY | F20: W02 | G20: 110 | H20: =(G20)*16 -> 1760 | I20: =(G20)*1.4 -> 154 | J20: II | L20: =(K20)*16 -> 0 | M20: =(K20)*1.4 -> 0 | N20: =SUM(G20,K20) -> 110 | O20: =(N20)*16 -> 1760 | P20: =(N20)*1.4 -> 154
B21: 13 | C21: 31/1 | E21: BUDYNEK GOSPODARCZY | F21: W02 | G21: 288 | H21: =(G21)*16 -> 4608 | I21: =(G21)*1.4 -> 403.2 | J21: II | L21: =(K21)*16 -> 0 | M21: =(K21)*1.4 -> 0 | N21: =SUM(G21,K21) -> 288 | O21: =(N21)*16 -> 4608 | P21: =(N21)*1.4 -> 403.2
B22: 14 | C22: 40 | E22: BUDYNEK GOSPODARCZY | F22: W02 | G22: 72 | H22: =(G22)*16 -> 1152 | I22: =(G22)*1.4 -> 100.8 | J22: II | L22: =(K22)*16 -> 0 | M22: =(K22)*1.4 -> 0 | N22: =SUM(G22,K22) -> 72 | O22: =(N22)*16 -> 1152 | P22: =(N22)*1.4 -> 100.8
E23: BUDYNEK GOSPODARCZY | F23: W02 | G23: 264 | H23: =(G23)*16 -> 4224 | I23: =(G23)*1.4 -> 369.6 | J23: II | L23: =(K23)*16 -> 0 | M23: =(K23)*1.4 -> 0 | N23: =SUM(G23,K23) -> 264 | O23: =(N23)*16 -> 4224 | P23: =(N23)*1.4 -> 369.6
B24: 15 | C24: 39/1 | E24: BUDYNEK MIESZKLNY | F24: W01 | G24: 120 | H24: =(G24)*16 -> 1920 | I24: =(G24)*1.4 -> 168 | J24: II | L24: =(K24)*16 -> 0 | M24: =(K24)*1.4 -> 0 | N24: =SUM(G24,K24) -> 120 | O24: =(N24)*16 -> 1920 | P24: =(N24)*1.4 -> 168
E25: BUDYNEK GOSPODARCZY | F25: W02 | G25: 300 | H25: =(G25)*16 -> 4800 | I25: =(G25)*1.4 -> 420 | J25: II | L25: =(K25)*16 -> 0 | M25: =(K25)*1.4 -> 0 | N25: =SUM(G25,K25) -> 300 | O25: =(N25)*16 -> 4800 | P25: =(N25)*1.4 -> 420
B26: 26 | E26: BUDYNEK GOSPODARCZY | F26: W02 | G26: 80 | H26: =(G26)*16 -> 1280 | I26: =(G26)*1.4 -> 112 | J26: II | L26: 0 | M26: 0 | N26: =SUM(G26,K26) -> 80 | O26: =(N26)*16 -> 1280 | P26: =(N26)*1.4 -> 112
B27: 26 | E27: BUDYNEK GOSPODARCZY | F27: W02 | G27: 124 | H27: =(G27)*16 -> 1984 | I27: =(G27)*1.4 -> 173.6 | J27: II | L27: 0 | M27: 0 | N27: =SUM(G27,K27) -> 124 | O27: =(N27)*16 -> 1984 | P27: =(N27)*1.4 -> 173.6
B28: 26 | E28: BUDYNEK GOSPODARCZY | F28: W02 | G28: 83 | H28: =(G28)*16 -> 1328 | I28: =(G28)*1.4 -> 116.2 | J28: II | L28: 0 | M28: 0 | N28: =SUM(G28,K28) -> 83 | O28: =(N28)*16 -> 1328 | P28: =(N28)*1.4 -> 116.2
A29: SUMA | G29: =SUM(G2:G28) -> 3984 | H29: =SUM(H2:H28) -> 63744 | I29: =SUM(I2:I28) -> 5577.6 | K29: =SUM(K2:K28) -> 0 | L29: =SUM(L2:L28) -> 0 | M29: =SUM(M2:M28) -> 0 | N29: =SUM(N2:N28) -> 3984 | O29: =SUM(O2:O28) -> 63744 | P29: =SUM(P2:P28) -> 5577.6

Sheet Borucin
A1: MIEJSCOWOŚĆ | B1: ADRES (NR. POSESJI) | C1: NR. DZIAŁKI EWIDENCYJNEJ | D1: NR. OBRĘBU EWIDENCYJNEGO | E1: RODZAJ ZABUDOWY | F1: NAZWA/RODZAJ WYROBU | G1: ILOŚĆ POSIADANYCH WYROBÓW BĘDĄCYCH W UŻYCIU (W SZT.) | H1: WAGA POSIADANYCH WYROBÓW BĘDĄCYCH W UŻYCIU (W KG.) | I1: POWIERZCHNIA POSIADANYCH WYROBÓW BĘDĄCYCH W UŻYCIU (W M2) | J1: STOPIEŃ PILNOŚCI (I-III) | K1: ILOŚĆ POSIADANYCH WYROBÓW ZŁOŻONYCH NA POSESJI (W SZT.) | L1: WAGA POSIADANYCH WYROBÓW ZŁOŻONYCH NA POSESJI (W KG.) | M1: POWIERZCHNIA POSIADANYCH WYROBÓW ZŁOŻONYCH NA POSESJI (W M2) | N1: ILOŚĆ POSIADANYCH WYROBÓW BĘDĄCYCH W UŻYCIU I ZŁOŻONYCH NA POSESJI W SUMIE (W SZT.) | O1: WAGA POSIADANYCH WYROBÓW BĘDĄCYCH W UŻYCIU I ZŁOŻONYCH NA POSESJI W SUMIE (W KG.) | P1: POWIERZCHNIA POSIADANYCH WYROBÓW BĘDĄCYCH W UŻYCIU I ZŁOŻONYCH NA POSESJI W SUMIE (W M2)
A2: Borucin | B2: 13A | C2: 63/6 | D2: 0001 | E2: BUDYNEK MIESZKALNY | F2: W02 | G2: 168 | H2: =(G2)*16 -> 2688 | I2: =(G2)*1.4 -> 235.2 | J2: II | L2: =(K2)*16 -> 0 | M2: =(K2)*1.4 -> 0 | N2: =SUM(G2,K2) -> 168 | O2: =(N2)*16 -> 2688 | P2: =(N2)*1.4 -> 235.2
B3: 13A | E3: BUDYNEK GOSPODARCZY | F3: W02 | G3: 72 | H3: =(G3)*16 -> 1152 | I3: =(G3)*1.4 -> 100.8 | J3: II | L3: =(K3)*16 -> 0 | M3: =(K3)*1.4 -> 0 | N3: =SUM(G3,K3) -> 72 | O3: =(N3)*16 -> 1152 | P3: =(N3)*1.4 -> 100.8
B4: 13 | C4: 63/4 | E4: BUDYNEK MIESZKALNY | F4: W02 | G4: 96 | H4: =(G4)*16 -> 1536 | I4: =(G4)*1.4 -> 134.4 | J4: II | L4: =(K4)*16 -> 0 | M4: =(K4)*1.4 -> 0 | N4: =SUM(G4,K4) -> 96 | O4: =(N4)*16 -> 1536 | P4: =(N4)*1.4 -> 134.4
B5: 14 | C5: 64/2 | E5: BUDYNEK GOSPODARCZY | F5: W02 | G5: 64 | H5: =(G5)*16 -> 1024 | I5: =(G5)*1.4 -> 89.6 | J5: II | L5: =(K5)*16 -> 0 | M5: =(K5)*1.4 -> 0 | N5: =SUM(G5,K5) -> 64 | O5: =(N5)*16 -> 1024 | P5: =(N5)*1.4 -> 89.6
B6: 66 | C6: 122 | E6: BUDYNEK GOSPODARCZY | F6: W02 | G6: 336 | H6: =(G6)*16 -> 5376 | I6: =(G6)*1.4 -> 470.4 | J6: II | K6: 30 | L6: =(K6)*16 -> 480 | M6: =(K6)*1.4 -> 42 | N6: =SUM(G6,K6) -> 366 | O6: =(N6)*16 -> 5856 | P6: =(N6)*1.4 -> 512.4
B7: 72 | C7: 125 | E7: BUDYNEK MIESZKALNY | F7: W02 | G7: 240 | H7: =(G7)*16 -> 3840 | I7: =(G7)*1.4 -> 336 | J7: II | L7: =(K7)*16 -> 0 | M7: =(K7)*1.4 -> 0 | N7: =SUM(G7,K7) -> 240 | O7: =(N7)*16 -> 3840 | P7: =(N7)*1.4 -> 336
B8: 72 | E8: BUDYNEK GOSPODARCZY | F8: W02 | G8: 260 | H8: =(G8)*16 -> 4160 | I8: =(G8)*1.4 -> 364 | J8: II | L8: =(K8)*16 -> 0 | M8: =(K8)*1.4 -> 0 | N8: =SUM(G8,K8) -> 260 | O8: =(N8)*16 -> 4160 | P8: =(N8)*1.4 -> 364
B9: 75 | C9: 280 | E9: BUDYNEK GOSPODARCZY | F9: W02 | G9: 750 | H9: =(G9)*16 -> 12000 | I9: =(G9)*1.4 -> 1050 | J9: II | L9: =(K9)*16 -> 0 | M9: =(K9)*1.4 -> 0 | N9: =SUM(G9,K9) -> 750 | O9: =(N9)*16 -> 12000 | P9: =(N9)*1.4 -> 1050
B10: 75 | E10: BUDYNEK GOSPODARCZY | F10: W02 | G10: 61 | H10: =(G10)*16 -> 976 | I10: =(G10)*1.4 -> 85.4 | J10: II | L10: 0 | M10: 0 | N10: =SUM(G10,K10) -> 61 | O10: =(N10)*16 -> 976 | P10: =(N10)*1.4 -> 85.4
B11: 75 | E11: BUDYNEK GOSPODARCZY | F11: W02 | G11: 610 | H11: =(G11)*16 -> 9760 | I11: =(G11)*1.4 -> 854 | J11: II | L11: =(K11)*16 -> 0 | M11: =(K11)*1.4 -> 0 | N11: =SUM(G11,K11) -> 610 | O11: =(N11)*16 -> 9760 | P11: =(N11)*1.4 -> 854
B12: 73 | C12: 108/1 | E12: BUDYNEK GOSPODARCZY | F12: W02 | G12: 50 | H12: =(G12)*16 -> 800 | I12: =(G12)*1.4 -> 70 | J12: II | L12: =(K12)*16 -> 0 | M12: =(K12)*1.4 -> 0 | N12: =SUM(G12,K12) -> 50 | O12: =(N12)*16 -> 800 | P12: =(N12)*1.4 -> 70
B13: 73 | E13: BUDYNEK GOSPODARCZY | F13: W02 | G13: 25 | H13: =(G13)*16 -> 400 | I13: =(G13)*1.4 -> 35 | J13: II | L13: =(K13)*16 -> 0 | M13: =(K13)*1.4 -> 0 | N13: =SUM(G13,K13) -> 25 | O13: =(N13)*16 -> 400 | P13: =(N13)*1.4 -> 35
B14: 73 | E14: BUDYNEK GOSPODARCZY | F14: W02 | G14: 178 | H14: =(G14)*16 -> 2848 | I14: =(G14)*1.4 -> 249.2 | J14: II | L14: =(K14)*16 -> 0 | M14: =(K14)*1.4 -> 0 | N14: =SUM(G14,K14) -> 178 | O14: =(N14)*16 -> 2848 | P14: =(N14)*1.4 -> 249.2
B15: 73 | E15: BUDYNEK GOSPODARCZY | F15: W02 | G15: 60 | H15: =(G15)*16 -> 960 | I15: =(G15)*1.4 -> 84 | J15: II | L15: =(K15)*16 -> 0 | M15: =(K15)*1.4 -> 0 | N15: =SUM(G15,K15) -> 60 | O15: =(N15)*16 -> 960 | P15: =(N15)*1.4 -> 84
B16: 81 | C16: 51 | E16: BUDYNEK MIESZKALNY | F16: W02 | G16: 99 | H16: =(G16)*16 -> 1584 | I16: =(G16)*1.4 -> 138.6 | J16: II | L16: =(K16)*16 -> 0 | M16: =(K16)*1.4 -> 0 | N16: =SUM(G16,K16) -> 99 | O16: =(N16)*16 -> 1584 | P16: =(N16)*1.4 -> 138.6
B17: 81 | E17: BUDYNEK GOSPODARCZY | F17: W02 | G17: 132 | H17: =(G17)*16 -> 2112 | I17: =(G17)*1.4 -> 184.8 | J17: II | L17: =(K17)*16 -> 0 | M17: =(K17)*1.4 -> 0 | N17: =SUM(G17,K17) -> 132 | O17: =(N17)*16 -> 2112 | P17: =(N17)*1.4 -> 184.8
B18: 81 | E18: BUDYNEK GOSPODARCZY | F18: W02 | G18: 105 | H18: =(G18)*16 -> 1680 | I18: =(G18)*1.4 -> 147 | J18: II | L18: =(K18)*16 -> 0 | M18: =(K18)*1.4 -> 0 | N18: =SUM(G18,K18) -> 105 | O18: =(N18)*16 -> 1680 | P18: =(N18)*1.4 -> 147
B19: 81 | E19: BUDYNEK GOSPODARCZY | F19: W02 | G19: 25 | H19: =(G19)*16 -> 400 | I19: =(G19)*1.4 -> 35 | J19: II | L19: =(K19)*16 -> 0 | M19: =(K19)*1.4 -> 0 | N19: =SUM(G19,K19) -> 25 | O19: =(N19)*16 -> 400 | P19: =(N19)*1.4 -> 35
B20: 105 | C20: 54 | E20: BUDYNEK MIESZKALNY | F20: W02 | G20: 203 | H20: =(G20)*16 -> 3248 | I20: =(G20)*1.4 -> 284.2 | J20: II | L20: 0 | M20: 0 | N20: =SUM(G20,K20) -> 203 | O20: =(N20)*16 -> 3248 | P20: =(N20)*1.4 -> 284.2
B21: 105 | C21: 54 | E21: BUDYNEK GOSPODARCZY | F21: W02 | G21: 190 | H21: =(G21)*16 -> 3040 | I21: =(G21)*1.4 -> 266 | J21: II | L21: 0 | M21: 0 | N21: =SUM(G21,K21) -> 190 | O21: =(N21)*16 -> 3040 | P21: =(N21)*1.4 -> 266
B22: 8 | C22: 180/3 | E22: BUDYNEK GOSPODARCZY | F22: W01 | G22: 176 | H22: =(G22)*16 -> 2816 | I22: =(G22)*1.4 -> 246.4 | J22: II | L22: =(K22)*16 -> 0 | M22: =(K22)*1.4 -> 0 | N22: =SUM(G22,K22) -> 176 | O22: =(N22)*16 -> 2816 | P22: =(N22)*1.4 -> 246.4
B23: 8 | E23: BUDYNEK GOSPODARCZY | F23: W02 | G23: 96 | H23: =(G23)*16 -> 1536 | I23: =(G23)*1.4 -> 134.4 | J23: II | L23: =(K23)*16 -> 0 | M23: =(K23)*1.4 -> 0 | N23: =SUM(G23,K23) -> 96 | O23: =(N23)*16 -> 1536 | P23: =(N23)*1.4 -> 134.4
B24: 11 | C24: 84 | E24: BUDYNEK MIESZKALNY | F24: W02 | G24: 21 | H24: =(G24)*16 -> 336 | I24: =(G24)*1.4 -> 29.4 | J24: II | L24: =(K24)*16 -> 0 | M24: =(K24)*1.4 -> 0 | N24: =SUM(G24,K24) -> 21 | O24: =(N24)*16 -> 336 | P24: =(N24)*1.4 -> 29.4
B25: 11 | E25: BUDYNEK GOSPODARCZY | F25: W02 | G25: 30 | H25: =(G25)*16 -> 480 | I25: =(G25)*1.4 -> 42 | J25: II | L25: =(K25)*16 -> 0 | M25: =(K25)*1.4 -> 0 | N25: =SUM(G25,K25) -> 30 | O25: =(N25)*16 -> 480 | P25: =(N25)*1.4 -> 42
B26: 6/2 | C26: 93/2 | E26: BUDYNEK GOSPODARCZY | F26: W02 | G26: 60 | H26: =(G26)*16 -> 960 | I26: =(G26)*1.4 -> 84 | J26: II | L26: =(K26)*16 -> 0 | M26: =(K26)*1.4 -> 0 | N26: =SUM(G26,K26) -> 60 | O26: =(N26)*16 -> 960 | P26: =(N26)*1.4 -> 84
B27: 67 | C27: 124 | E27: BUDYNEK GOSPODARCZY | F27: W02 | G27: 120 | H27: =(G27)*16 -> 1920 | I27: =(G27)*1.4 -> 168 | J27: II | L27: =(K27)*16 -> 0 | M27: =(K27)*1.4 -> 0 | N27: =SUM(G27,K27) -> 120 | O27: =(N27)*16 -> 1920 | P27: =(N27)*1.4 -> 168
B28: 68 | C28: 128 | E28: BUDYNEK MIESZKALNY | F28: W02 | G28: 91 | H28: =(G28)*16 -> 1456 | I28: =(G28)*1.4 -> 127.4 | J28: II | L28: =(K28)*16 -> 0 | M28: =(K28)*1.4 -> 0 | N28: =SUM(G28,K28) -> 91 | O28: =(N28)*16 -> 1456 | P28: =(N28)*1.4 -> 127.4
B29: 68 | E29: BUDYNEK GOSPODARCZY | F29: W02 | G29: 98 | H29: =(G29)*16 -> 1568 | I29: =(G29)*1.4 -> 137.2 | J29: II | L29: =(K29)*16 -> 0 | M29: =(K29)*1.4 -> 0 | N29: =SUM(G29,K29) -> 98 | O29: =(N29)*16 -> 1568 | P29: =(N29)*1.4 -> 137.2
B30: 68 | E30: BUDYNEK GOSPODARCZY | F30: W02 | G30: 20 | H30: =(G30)*16 -> 320 | I30: =(G30)*1.4 -> 28 | J30: II | L30: =(K30)*16 -> 0 | M30: =(K30)*1.4 -> 0 | N30: =SUM(G30,K30) -> 20 | O30: =(N30)*16 -> 320 | P30: =(N30)*1.4 -> 28
B31: 36 | E31: BUDYNEK MIESZKALNY | F31: W02 | G31: 182 | H31: =(G31)*16 -> 2912 | I31: =(G31)*1.4 -> 254.8 | J31: II | L31: 0 | M31: 0 | N31: =SUM(G31,K31) -> 182 | O31: =(N31)*16 -> 2912 | P31: =(N31)*1.4 -> 254.8
B32: 36 | E32: BUDYNEK GOSPODARCZY | F32: W01 | G32: 172 | H32: =(G32)*16 -> 2752 | I32: =(G32)*1.4 -> 240.8 | J32: II | L32: 0 | M32: 0 | N32: =SUM(G32,K32) -> 172 | O32: =(N32)*16 -> 2752 | P32: =(N32)*1.4 -> 240.8
B33: 36 | E33: BUDYNEK GOSPODRACZY | F33: W02 | G33: 270 | H33: =(G33)*16 -> 4320 | I33: =(G33)*1.4 -> 378 | J33: II | L33: 0 | M33: 0 | N33: =SUM(G33,K33) -> 270 | O33: =(N33)*16 -> 4320 | P33: =(N33)*1.4 -> 378
B34: 70 | C34: 131 | E34: BUDYNEK MIESZKALNY | F34: W01 | G34: 84 | H34: =(G34)*16 -> 1344 | I34: =(G34)*1.4 -> 117.6 | J34: II | L34: =(K34)*16 -> 0 | M34: =(K34)*1.4 -> 0 | N34: =SUM(G34,K34) -> 84 | O34: =(N34)*16 -> 1344 | P34: =(N34)*1.4 -> 117.6
B35: 70 | E35: BUDYNEK GOSPODARCZY | F35: W02 | G35: 40 | H35: =(G35)*16 -> 640 | I35: =(G35)*1.4 -> 56 | J35: II | L35: =(K35)*16 -> 0 | M35: =(K35)*1.4 -> 0 | N35: =SUM(G35,K35) -> 40 | O35: =(N35)*16 -> 640 | P35: =(N35)*1.4 -> 56
B36: 76 | C36: 97/3 | E36: BUDYNEK MIESZKALNY | F36: W02 | G36: 155 | H36: =(G36)*16 -> 2480 | I36: =(G36)*1.4 -> 217 | J36: II | L36: =(K36)*16 -> 0 | M36: =(K36)*1.4 -> 0 | N36: =SUM(G36,K36) -> 155 | O36: =(N36)*16 -> 2480 | P36: =(N36)*1.4 -> 217
B37: 76 | E37: BUDYNEK GOSPODARCZY | F37: W02 | G37: 311 | H37: =(G37)*16 -> 4976 | I37: =(G37)*1.4 -> 435.4 | J37: II | L37: =(K37)*16 -> 0 | M37: =(K37)*1.4 -> 0 | N37: =SUM(G37,K37) -> 311 | O37: =(N37)*16 -> 4976 | P37: =(N37)*1.4 -> 435.4
B38: 76 | E38: BUDYNEK GOSPODARCZY | F38: W02 | G38: 20 | H38: =(G38)*16 -> 320 | I38: =(G38)*1.4 -> 28 | J38: II | L38: =(K38)*16 -> 0 | M38: =(K38)*1.4 -> 0 | N38: =SUM(G38,K38) -> 20 | O38: =(N38)*16 -> 320 | P38: =(N38)*1.4 -> 28
B39: 82 | C39: 50 | E39: BUDYNEK MIESZKALNY | F39: W02 | G39: 112 | H39: =(G39)*16 -> 1792 | I39: =(G39)*1.4 -> 156.8 | J39: II | L39: =(K39)*16 -> 0 | M39: =(K39)*1.4 -> 0 | N39: =SUM(G39,K39) -> 112 | O39: =(N39)*16 -> 1792 | P39: =(N39)*1.4 -> 156.8
B40: 83 | C40: 49/1 | E40: BUDYNEK MIESZKALNY | F40: W01 | G40: 96 | H40: =(G40)*16 -> 1536 | I40: =(G40)*1.4 -> 134.4 | J40: II | L40: =(K40)*16 -> 0 | M40: =(K40)*1.4 -> 0 | N40: =SUM(G40,K40) -> 96 | O40: =(N40)*16 -> 1536 | P40: =(N40)*1.4 -> 134.4
...

Sheet Borucinek
A1: MIEJSCOWOŚĆ | B1: ADRES (NR. POSESJI) | C1: NR. DZIAŁKI EWIDENCYJNEJ | D1: NR. OBRĘBU EWIDENCYJNEGO | E1: RODZAJ ZABUDOWY | F1: NAZWA/RODZAJ WYROBU | G1: ILOŚĆ POSIADANYCH WYROBÓW BĘDĄCYCH W UŻYCIU (W SZT.) | H1: WAGA POSIADANYCH WYROBÓW BĘDĄCYCH W UŻYCIU (W KG.) | I1: POWIERZCHNIA POSIADANYCH WYROBÓW BĘDĄCYCH W UŻYCIU (W M2) | J1: STOPIEŃ PILNOŚCI (I-III) | K1: ILOŚĆ POSIADANYCH WYROBÓW ZŁOŻONYCH NA POSESJI (W SZT.) | L1: WAGA POSIADANYCH WYROBÓW ZŁOŻONYCH NA POSESJI (W KG.) | M1: POWIERZCHNIA POSIADANYCH WYROBÓW ZŁOŻONYCH NA POSESJI (W M2) | N1: ILOŚĆ POSIADANYCH WYROBÓW BĘDĄCYCH W UŻYCIU I ZŁOŻONYCH NA POSESJI W SUMIE (W SZT.) | O1: WAGA POSIADANYCH WYROBÓW BĘDĄCYCH W UŻYCIU I ZŁOŻONYCH NA POSESJI W SUMIE (W KG.) | P1: POWIERZCHNIA POSIADANYCH WYROBÓW BĘDĄCYCH W UŻYCIU I ZŁOŻONYCH NA POSESJI W SUMIE (W M2)
A2: Borucinek | B2: 64 | C2: 165/1 | D2: 0001 | E2: BUDYNEK GOSPODARCZY | F2: W02 | G2: 253 | H2: =(G2)*16 -> 4048 | I2: =(G2)*1.4 -> 354.2 | J2: II | K2: 132 | L2: =(K2)*16 -> 2112 | M2: =(K2)*1.4 -> 184.8 | N2: =SUM(G2,K2) -> 385 | O2: =(N2)*16 -> 6160 | P2: =(N2)*1.4 -> 539
B3: 64 | C3: 165/1 | E3: BUDYNEK MIESZKALNY | F3: W01 | G3: 0 | H3: 0 | I3: 0 | J3: II | K3: 103 | L3: 2884 | M3: 144.2 | P3: =(N3)*1.4 -> 0
B4: 48 | C4: 34/1 | E4: BUDYNEK MIESZKALNY | F4: W02 | G4: 240 | H4: =(G4)*16 -> 3840 | I4: =(G4)*1.4 -> 336 | J4: II | L4: =(K4)*16 -> 0 | M4: =(K4)*1.4 -> 0 | N4: =SUM(G4,K4) -> 240 | O4: =(N4)*16 -> 3840 | P4: =(N4)*1.4 -> 336
B5: 48 | E5: BUDYNEK GOSPODARCZY | F5: W02 | G5: 144 | H5: =(G5)*16 -> 2304 | I5: =(G5)*1.4 -> 201.6 | J5: II | L5: =(K5)*16 -> 0 | M5: =(K5)*1.4 -> 0 | N5: =SUM(G5,K5) -> 144 | O5: =(N5)*16 -> 2304 | P5: =(N5)*1.4 -> 201.6
B6: 48 | E6: BUDYNEK GOSPODARCZY | F6: W02 | G6: 64 | H6: =(G6)*16 -> 1024 | I6: =(G6)*1.4 -> 89.6 | J6: II | L6: =(K6)*16 -> 0 | M6: =(K6)*1.4 -> 0 | N6: =SUM(G6,K6) -> 64 | O6: =(N6)*16 -> 1024 | P6: =(N6)*1.4 -> 89.6
B7: 51 | C7: 47/1 | E7: BUDYNEK GOSPODARCZY | F7: W02 | G7: 348 | H7: =(G7)*16 -> 5568 | I7: =(G7)*1.4 -> 487.2 | J7: II | L7: =(K7)*16 -> 0 | M7: =(K7)*1.4 -> 0 | N7: =SUM(G7,K7) -> 348 | O7: =(N7)*16 -> 5568 | P7: =(N7)*1.4 -> 487.2
B8: 51 | E8: BUDYNEK GOSPODARCZY | F8: W02 | G8: 220 | H8: =(G8)*16 -> 3520 | I8: =(G8)*1.4 -> 308 | J8: II | L8: =(K8)*16 -> 0 | M8: =(K8)*1.4 -> 0 | N8: =SUM(G8,K8) -> 220 | O8: =(N8)*16 -> 3520 | P8: =(N8)*1.4 -> 308
B9: 57 | C9: 135/1 | E9: BUDYNEK MIESZKALNY | F9: W02 | G9: 110 | H9: =(G9)*16 -> 1760 | I9: =(G9)*1.4 -> 154 | J9: II | L9: =(K9)*16 -> 0 | M9: =(K9)*1.4 -> 0 | N9: =SUM(G9,K9) -> 110 | O9: =(N9)*16 -> 1760 | P9: =(N9)*1.4 -> 154
B10: 57 | E10: BUDYNEK GOSPODARCZY | F10: W02 | G10: 135 | H10: =(G10)*16 -> 2160 | I10: =(G10)*1.4 -> 189 | J10: II | L10: =(K10)*16 -> 0 | M10: =(K10)*1.4 -> 0 | N10: =SUM(G10,K10) -> 135 | O10: =(N10)*16 -> 2160 | P10: =(N10)*1.4 -> 189
B11: 57 | E11: BUDYNEK GOSPODARCZY | F11: W02 | G11: 180 | H11: =(G11)*16 -> 2880 | I11: =(G11)*1.4 -> 252 | J11: II | L11: =(K11)*16 -> 0 | M11: =(K11)*1.4 -> 0 | N11: =SUM(G11,K11) -> 180 | O11: =(N11)*16 -> 2880 | P11: =(N11)*1.4 -> 252
B12: 57 | E12: BUDYNEK GOSPODARCZY | F12: W02 | G12: 76.5 | H12: =(G12)*16 -> 1224 | I12: =(G12)*1.4 -> 107.1 | J12: II | L12: =(K12)*16 -> 0 | M12: =(K12)*1.4 -> 0 | N12: =SUM(G12,K12) -> 76.5 | O12: =(N12)*16 -> 1224 | P12: =(N12)*1.4 -> 107.1
B13: 29 | C13: 234 | E13: BUDYNEK GOSPODARCZY | F13: W02 | G13: 200 | H13: =(G13)*16 -> 3200 | I13: =(G13)*1.4 -> 280 | J13: I | L13: =(K13)*16 -> 0 | M13: =(K13)*1.4 -> 0 | N13: =SUM(G13,K13) -> 200 | O13: =(N13)*16 -> 3200 | P13: =(N13)*1.4 -> 280
B14: 29 | E14: BUDYNEK GOSPODARCZY | F14: W02 | G14: 144 | H14: =(G14)*16 -> 2304 | I14: =(G14)*1.4 -> 201.6 | J14: II | L14: =(K14)*16 -> 0 | M14: =(K14)*1.4 -> 0 | N14: =SUM(G14,K14) -> 144 | O14: =(N14)*16 -> 2304 | P14: =(N14)*1.4 -> 201.6
B15: 10 | C15: 200/1 | E15: BUDYNEK GOSPODARCZY | F15: W02 | G15: 140 | H15: =(G15)*16 -> 2240 | I15: =(G15)*1.4 -> 196 | J15: II | L15: =(K15)*16 -> 0 | M15: =(K15)*1.4 -> 0 | N15: =SUM(G15,K15) -> 140 | O15: =(N15)*16 -> 2240 | P15: =(N15)*1.4 -> 196
B16: 10 | E16: BUDYNEK GOSPODARCZY | F16: W02 | G16: 240 | H16: =(G16)*16 -> 3840 | I16: =(G16)*1.4 -> 336 | J16: II | L16: =(K16)*16 -> 0 | M16: =(K16)*1.4 -> 0 | N16: =SUM(G16,K16) -> 240 | O16: =(N16)*16 -> 3840 | P16: =(N16)*1.4 -> 336
B17: 22 | C17: 237 | E17: BUDYNEK MIESZKALNY | F17: W02 | G17: 0 | H17: =(G17)*16 -> 0 | I17: =(G17)*1.4 -> 0 | J17: III | K17: 248 | L17: =(K17)*16 -> 3968 | M17: =(K17)*1.4 -> 347.2 | N17: =SUM(G17,K17) -> 248 | O17: =(N17)*16 -> 3968 | P17: =(N17)*1.4 -> 347.2
B18: 11 | C18: 202 | E18: BUDYNEK MIESZKALNY | F18: W02 | G18: 154 | H18: =(G18)*16 -> 2464 | I18: =(G18)*1.4 -> 215.6 | J18: II | L18: =(K18)*16 -> 0 | M18: =(K18)*1.4 -> 0 | N18: =SUM(G18,K18) -> 154 | O18: =(N18)*16 -> 2464 | P18: =(N18)*1.4 -> 215.6
B19: 11 | E19: BUDYNEK GOSPODARCZY | F19: W02 | G19: 220 | H19: =(G19)*16 -> 3520 | I19: =(G19)*1.4 -> 308 | J19: II | L19: =(K19)*16 -> 0 | M19: =(K19)*1.4 -> 0 | N19: =SUM(G19,K19) -> 220 | O19: =(N19)*16 -> 3520 | P19: =(N19)*1.4 -> 308
B20: 3 | C20: 163/1 | E20: BUDYNEK GOSPODARCZY | F20: W02 | G20: 180 | H20: =(G20)*16 -> 2880 | I20: =(G20)*1.4 -> 252 | J20: II | L20: =(K20)*16 -> 0 | M20: =(K20)*1.4 -> 0 | N20: =SUM(G20,K20) -> 180 | O20: =(N20)*16 -> 2880 | P20: =(N20)*1.4 -> 252
B21: 60 | C21: 132 | E21: BUDYNEK MIESZKALNY | F21: W02 | G21: 96 | H21: =(G21)*16 -> 1536 | I21: =(G21)*1.4 -> 134.4 | J21: II | L21: =(K21)*16 -> 0 | M21: =(K21)*1.4 -> 0 | N21: =SUM(G21,K21) -> 96 | O21: =(N21)*16 -> 1536 | P21: =(N21)*1.4 -> 134.4
B22: 60 | E22: BUDYNEK GOSPODARCZY | F22: W02 | G22: 152 | H22: =(G22)*16 -> 2432 | I22: =(G22)*1.4 -> 212.8 | J22: II | L22: =(K22)*16 -> 0 | M22: =(K22)*1.4 -> 0 | N22: =SUM(G22,K22) -> 152 | O22: =(N22)*16 -> 2432 | P22: =(N22)*1.4 -> 212.8
B23: 60 | E23: BUDYNEK GOSPODARCZY | F23: W02 | G23: 144 | H23: =(G23)*16 -> 2304 | I23: =(G23)*1.4 -> 201.6 | J23: II | L23: =(K23)*16 -> 0 | M23: =(K23)*1.4 -> 0 | N23: =SUM(G23,K23) -> 144 | O23: =(N23)*16 -> 2304 | P23: =(N23)*1.4 -> 201.6
B24: 60 | E24: BUDYNEK GOSPODARCZY | F24: W02 | G24: 16 | H24: =(G24)*16 -> 256 | I24: =(G24)*1.4 -> 22.4 | J24: II | L24: =(K24)*16 -> 0 | M24: =(K24)*1.4 -> 0 | N24: =SUM(G24,K24) -> 16 | O24: =(N24)*16 -> 256 | P24: =(N24)*1.4 -> 22.4
B25: 55 | C25: 139 | E25: BUDYNEK MIESZKALNY | F25: W02 | G25: 110 | H25: =(G25)*16 -> 1760 | I25: =(G25)*1.4 -> 154 | J25: II | L25: =(K25)*16 -> 0 | M25: =(K25)*1.4 -> 0 | N25: =SUM(G25,K25) -> 110 | O25: =(N25)*16 -> 1760 | P25: =(N25)*1.4 -> 154
B26: 55 | E26: BUDYNEK GOSPODARCZY | F26: W02 | G26: 160 | H26: =(G26)*16 -> 2560 | I26: =(G26)*1.4 -> 224 | J26: II | L26: =(K26)*16 -> 0 | M26: =(K26)*1.4 -> 0 | N26: =SUM(G26,K26) -> 160 | O26: =(N26)*16 -> 2560 | P26: =(N26)*1.4 -> 224
B27: 6 | C27: 114/1 | E27: BUDYNEK GOSPODARCZY | F27: W02 | G27: 280 | H27: =(G27)*16 -> 4480 | I27: =(G27)*1.4 -> 392 | J27: II | L27: =(K27)*16 -> 0 | M27: =(K27)*1.4 -> 0 | N27: =SUM(G27,K27) -> 280 | O27: =(N27)*16 -> 4480 | P27: =(N27)*1.4 -> 392
